BEGIN:VCALENDAR
VERSION:2.0
PRODID:-//Saint-Paul-de-Vence - ECPv6.15.20//NONSGML v1.0//EN
CALSCALE:GREGORIAN
METHOD:PUBLISH
X-ORIGINAL-URL:https://saintpauldevence.org
X-WR-CALDESC:Évènements pour Saint-Paul-de-Vence
REFRESH-INTERVAL;VALUE=DURATION:PT1H
X-Robots-Tag:noindex
X-PUBLISHED-TTL:PT1H
BEGIN:VTIMEZONE
TZID:Europe/Paris
BEGIN:DAYLIGHT
TZOFFSETFROM:+0100
TZOFFSETTO:+0200
TZNAME:CEST
DTSTART:20220327T010000
END:DAYLIGHT
BEGIN:STANDARD
TZOFFSETFROM:+0200
TZOFFSETTO:+0100
TZNAME:CET
DTSTART:20221030T010000
END:STANDARD
BEGIN:DAYLIGHT
TZOFFSETFROM:+0100
TZOFFSETTO:+0200
TZNAME:CEST
DTSTART:20230326T010000
END:DAYLIGHT
BEGIN:STANDARD
TZOFFSETFROM:+0200
TZOFFSETTO:+0100
TZNAME:CET
DTSTART:20231029T010000
END:STANDARD
BEGIN:DAYLIGHT
TZOFFSETFROM:+0100
TZOFFSETTO:+0200
TZNAME:CEST
DTSTART:20240331T010000
END:DAYLIGHT
BEGIN:STANDARD
TZOFFSETFROM:+0200
TZOFFSETTO:+0100
TZNAME:CET
DTSTART:20241027T010000
END:STANDARD
BEGIN:DAYLIGHT
TZOFFSETFROM:+0100
TZOFFSETTO:+0200
TZNAME:CEST
DTSTART:20250330T010000
END:DAYLIGHT
BEGIN:STANDARD
TZOFFSETFROM:+0200
TZOFFSETTO:+0100
TZNAME:CET
DTSTART:20251026T010000
END:STANDARD
BEGIN:DAYLIGHT
TZOFFSETFROM:+0100
TZOFFSETTO:+0200
TZNAME:CEST
DTSTART:20260329T010000
END:DAYLIGHT
BEGIN:STANDARD
TZOFFSETFROM:+0200
TZOFFSETTO:+0100
TZNAME:CET
DTSTART:20261025T010000
END:STANDARD
BEGIN:DAYLIGHT
TZOFFSETFROM:+0100
TZOFFSETTO:+0200
TZNAME:CEST
DTSTART:20270328T010000
END:DAYLIGHT
BEGIN:STANDARD
TZOFFSETFROM:+0200
TZOFFSETTO:+0100
TZNAME:CET
DTSTART:20271031T010000
END:STANDARD
END:VTIMEZONE
BEGIN:VEVENT
DTSTART;TZID=Europe/Paris:20260327T180000
DTEND;TZID=Europe/Paris:20260329T223000
DTSTAMP:20260420T155240
CREATED:20251208T134239Z
LAST-MODIFIED:20260212T122436Z
UID:10014966-1774634400-1774823400@saintpauldevence.org
SUMMARY:Tréteaux de printemps
DESCRIPTION:Rendez-vous pour une nouvelle édition des Tréteaux de printemps ! Ce festival de théâtre gratuit vous promet un week-end haut en comédie les 27\, 28 et 29 mars 2026 à l’auditorium.  \nLe programme ci-dessous :  \nVendredi 27 mars 2026 :  \n\n18h : L’origine du monde de Sébastien Thiéry\n21h : La Situation est grave mais pas désespérée de Pierre Germont \n\nSamedi 28 mars 2026 : \n\n11h : Les Contes de Carabistoules de Charles Perrault et moi \n15h : Le clan des veuves de Ginette Garcin \n18h : Le petit coiffeur (comédie dramatique) de J-Philippe Daguerre\n21h : Le Clan (comédie hilarante) de Eric Fraticelli\n\nDimanche 29 mars 2026 :   \n\n11h : La Culotte de Jean Anouilh\n15h : Building (comédie caustique) de Léonor Confino\n\n18h : J’aime beaucoup ce que vous faites de Carole Greep\n21h : Téléphone-moi (comédie dramatique) de JC Dollé \n\nInformations pratiques :  \n– Gratuit. Participation au chapeau.\n– Placement libre. Réservations par email (pour les PMR uniquement) : lestreteaux06@gmail.com\n– Renseignements : 04 93 32 86 95
URL:https://saintpauldevence.org/agenda/treteaux-de-printemps-2/
LOCATION:Auditorium\, 150 Rte des Serres\, Saint-Paul-de-Vence\, 06570\, France
ATTACH;FMTTYPE=image/jpeg:https://saintpauldevence.org/wp-content/uploads/2023/03/Theatre-scaled.jpg
GEO:43.698886784084;7.1200623819271
X-APPLE-STRUCTURED-LOCATION;VALUE=URI;X-ADDRESS=Auditorium 150 Rte des Serres Saint-Paul-de-Vence 06570 France;X-APPLE-RADIUS=500;X-TITLE=150 Rte des Serres:geo:7.1200623819271,43.698886784084
END:VEVENT
BEGIN:VEVENT
DTSTART;TZID=Europe/Paris:20250321T180000
DTEND;TZID=Europe/Paris:20250323T210000
DTSTAMP:20260420T155240
CREATED:20250114T112039Z
LAST-MODIFIED:20250310T092719Z
UID:10013366-1742580000-1742763600@saintpauldevence.org
SUMMARY:Tréteaux de printemps
DESCRIPTION:Du 21 au 23 mars 2025\, l’association les Tréteaux de Vence vous invite à partager un moment de divertissement à l’Auditorium. Au total : 10 pièces de théâtre vous seront proposées lors de ce festival de théâtre gratuit.  \nLe programme 2025 : \nVendredi 21 mars  \n\n 18h : Un grand cri d’amour (comédie) par la compagnie des Cigales (Le Pradet) \n 21h : Harvey (comédie) par le théâtre des 3 Corniches (Eze)\n\nSamedi 22 mars \n\n15h : L’Invitation (comédie) par Artistes’2 Théâtre (Fréjus)\n18h : Antik et Tok (comédie musicale) par les Papyboomers (Saint-Raphaël) \n21h : Téléphone-moi (comédie dramatique) par les Baladins des Baous (Vence) \n\nDimanche 23 mars \n\n 11h : L’Uluberlu (comédie burlesque) par les Baladins des Baous (Vence)\n15h : Et la Démocratie\, Bordel !! (comédie caustique) par Grain de Scène (Cannes)\n18h : Un cadeau particulier (comédie) par la Compagnie du Manteau d’Arlequin (Fréjus)\n21h : Broadway (comédie musicale) par la Compagnie Passé Présent (Mougins)\n\nInformations pratiques : \n\nEntrée gratuite. Participation au chapeau
URL:https://saintpauldevence.org/agenda/treteaux-de-printemps/
LOCATION:Auditorium\, 150 Rte des Serres\, Saint-Paul-de-Vence\, 06570\, France
ATTACH;FMTTYPE=image/jpeg:https://saintpauldevence.org/wp-content/uploads/2023/03/Theatre-scaled.jpg
GEO:43.698886784084;7.1200623819271
X-APPLE-STRUCTURED-LOCATION;VALUE=URI;X-ADDRESS=Auditorium 150 Rte des Serres Saint-Paul-de-Vence 06570 France;X-APPLE-RADIUS=500;X-TITLE=150 Rte des Serres:geo:7.1200623819271,43.698886784084
END:VEVENT
BEGIN:VEVENT
DTSTART;TZID=Europe/Paris:20230319T080000
DTEND;TZID=Europe/Paris:20230319T170000
DTSTAMP:20260420T155240
CREATED:20221128T125433Z
LAST-MODIFIED:20230126T104903Z
UID:10000964-1679212800-1679245200@saintpauldevence.org
SUMMARY:Festival de théâtre
DESCRIPTION:Humour et émotions garantis ! Les Tréteaux de printemps vous donnent rendez-vous pour la 6ème édition du 17 au 19 mars 2023 à l’Auditorium pour partager un moment divertissant et captivant à travers 10 pièces de théâtre gratuites ! Découvrez le programme en détail ci-dessous : \nVendredi 17/03\n \n● 18h : « La Nostalgie des Blattes » – par la compagnie Accordage.\n« Deux septuagénaire exposés dans un musée doivent cohabiter ».\nAuteur : Pierre Notte / Mise en scène : Thierry Palem \n● 21h : « Le Repas des Fauves » – par la compagnie Russa Lux.\n« 1942 un soir d’anniversaire\, un événement va perturber la fête »\nAuteur : Vahé Katcha / Mise en scène : Sébastien Vanni \n  \nSamedi 18/03\n \n● 11h : « Le sortilège de Gédéonne » – par Chouette Prod. \n« Roméo ! La magie des mots c’est plus rigolos que les jeux vidéos »\nAuteur : Isabelle Bouttau / Mise en scène : Daniel Majeur\nSpéciale jeune public. \n● 15h : « Un dîner d’adieu » – par Y-sol En scène.\n« Comment se débarrasser lâchement de ses amis ? »\nAuteur : Alexandre de la Patellière et Matthieu Delaporte / Mise en scène : Bénédicte Bernard \n● 18h : « C’est à qui le tour ? » – par Les Tréteaux de Saint-Tropez. \n« Une gérante d’agence matrimoniale va gérer une journée pleine de rebondissements »\nAuteur : Hervé Fassy \n● 21h : « Elles s’aiment depuis 20 ans » – par Le Théâtre de l’Ane Rit.\n« Depuis 20 ans elle s’aiment\, se disputent\, explosent ! »\nAuteur : Palmade Robin Laroque / Mise en scène : Severine Mylène \n  \nDimanche 19/03\n \n● 11h : « La Bio de maman » – par Les Enfants du Paradis.\n« Avec un père chirurgien\, la biographie devient délirante et la comédie surprenante ».\nAuteur : Alexandre Papias / Mise en scène : Eric Louis \n● 15h : « César\, Fanny\, Marius… ou presque » – par Aventure Théâtre Compagnie.\n« Sur le vieux port à Marseille\, la vie truculente des habitués du Bar de la Marine « \nAuteur : Marcel Pagnol / Mise en scène : Luc Girerd \n● 18h : « Quelque chose à te dire… » – par la Compagnie Jour J.\n« Une tendre demande en mariage vire à l’orage « \nAuteur : Valérie Pelligrini / Mise en scène : Julien Musarella \n● 21h : « L’art délicat de la scène de ménage » – par Cie Mani Manivel’.\n« Néo-boulevard\, vaudeville revisité\, explore le plus fascinant des espaces : le couple. »\nAuteur : Jean-Marcel Erre / Mise en scène : Véronique Siffredi \n  \nInformations pratiques :  \n\nEntrée gratuite\nRéservations au 06 22 06 47 06\nRenseignements auprès de l’Office de Tourisme – 04 93 32 86 95
URL:https://saintpauldevence.org/agenda/festival-de-theatre/2023-03-19/
LOCATION:Auditorium\, 150 Rte des Serres\, Saint-Paul-de-Vence\, 06570\, France
CATEGORIES:Théâtre
ATTACH;FMTTYPE=image/jpeg:https://saintpauldevence.org/wp-content/uploads/2022/11/TTV-Saint-Paul-23-scaled-e1669642407967.jpg
GEO:43.698886784084;7.1200623819271
X-APPLE-STRUCTURED-LOCATION;VALUE=URI;X-ADDRESS=Auditorium 150 Rte des Serres Saint-Paul-de-Vence 06570 France;X-APPLE-RADIUS=500;X-TITLE=150 Rte des Serres:geo:7.1200623819271,43.698886784084
END:VEVENT
BEGIN:VEVENT
DTSTART;TZID=Europe/Paris:20230318T080000
DTEND;TZID=Europe/Paris:20230318T170000
DTSTAMP:20260420T155240
CREATED:20221128T125433Z
LAST-MODIFIED:20230126T104903Z
UID:10000963-1679126400-1679158800@saintpauldevence.org
SUMMARY:Festival de théâtre
DESCRIPTION:Humour et émotions garantis ! Les Tréteaux de printemps vous donnent rendez-vous pour la 6ème édition du 17 au 19 mars 2023 à l’Auditorium pour partager un moment divertissant et captivant à travers 10 pièces de théâtre gratuites ! Découvrez le programme en détail ci-dessous : \nVendredi 17/03\n \n● 18h : « La Nostalgie des Blattes » – par la compagnie Accordage.\n« Deux septuagénaire exposés dans un musée doivent cohabiter ».\nAuteur : Pierre Notte / Mise en scène : Thierry Palem \n● 21h : « Le Repas des Fauves » – par la compagnie Russa Lux.\n« 1942 un soir d’anniversaire\, un événement va perturber la fête »\nAuteur : Vahé Katcha / Mise en scène : Sébastien Vanni \n  \nSamedi 18/03\n \n● 11h : « Le sortilège de Gédéonne » – par Chouette Prod. \n« Roméo ! La magie des mots c’est plus rigolos que les jeux vidéos »\nAuteur : Isabelle Bouttau / Mise en scène : Daniel Majeur\nSpéciale jeune public. \n● 15h : « Un dîner d’adieu » – par Y-sol En scène.\n« Comment se débarrasser lâchement de ses amis ? »\nAuteur : Alexandre de la Patellière et Matthieu Delaporte / Mise en scène : Bénédicte Bernard \n● 18h : « C’est à qui le tour ? » – par Les Tréteaux de Saint-Tropez. \n« Une gérante d’agence matrimoniale va gérer une journée pleine de rebondissements »\nAuteur : Hervé Fassy \n● 21h : « Elles s’aiment depuis 20 ans » – par Le Théâtre de l’Ane Rit.\n« Depuis 20 ans elle s’aiment\, se disputent\, explosent ! »\nAuteur : Palmade Robin Laroque / Mise en scène : Severine Mylène \n  \nDimanche 19/03\n \n● 11h : « La Bio de maman » – par Les Enfants du Paradis.\n« Avec un père chirurgien\, la biographie devient délirante et la comédie surprenante ».\nAuteur : Alexandre Papias / Mise en scène : Eric Louis \n● 15h : « César\, Fanny\, Marius… ou presque » – par Aventure Théâtre Compagnie.\n« Sur le vieux port à Marseille\, la vie truculente des habitués du Bar de la Marine « \nAuteur : Marcel Pagnol / Mise en scène : Luc Girerd \n● 18h : « Quelque chose à te dire… » – par la Compagnie Jour J.\n« Une tendre demande en mariage vire à l’orage « \nAuteur : Valérie Pelligrini / Mise en scène : Julien Musarella \n● 21h : « L’art délicat de la scène de ménage » – par Cie Mani Manivel’.\n« Néo-boulevard\, vaudeville revisité\, explore le plus fascinant des espaces : le couple. »\nAuteur : Jean-Marcel Erre / Mise en scène : Véronique Siffredi \n  \nInformations pratiques :  \n\nEntrée gratuite\nRéservations au 06 22 06 47 06\nRenseignements auprès de l’Office de Tourisme – 04 93 32 86 95
URL:https://saintpauldevence.org/agenda/festival-de-theatre/2023-03-18/
LOCATION:Auditorium\, 150 Rte des Serres\, Saint-Paul-de-Vence\, 06570\, France
CATEGORIES:Théâtre
ATTACH;FMTTYPE=image/jpeg:https://saintpauldevence.org/wp-content/uploads/2022/11/TTV-Saint-Paul-23-scaled-e1669642407967.jpg
GEO:43.698886784084;7.1200623819271
X-APPLE-STRUCTURED-LOCATION;VALUE=URI;X-ADDRESS=Auditorium 150 Rte des Serres Saint-Paul-de-Vence 06570 France;X-APPLE-RADIUS=500;X-TITLE=150 Rte des Serres:geo:7.1200623819271,43.698886784084
END:VEVENT
BEGIN:VEVENT
DTSTART;TZID=Europe/Paris:20230317T000000
DTEND;TZID=Europe/Paris:20230319T000000
DTSTAMP:20260420T155240
CREATED:20221128T125433Z
LAST-MODIFIED:20230126T104903Z
UID:10000898-1679011200-1679184000@saintpauldevence.org
SUMMARY:Festival de théâtre
DESCRIPTION:Humour et émotions garantis ! Les Tréteaux de printemps vous donnent rendez-vous pour la 6ème édition du 17 au 19 mars 2023 à l’Auditorium pour partager un moment divertissant et captivant à travers 10 pièces de théâtre gratuites ! Découvrez le programme en détail ci-dessous : \nVendredi 17/03\n \n● 18h : « La Nostalgie des Blattes » – par la compagnie Accordage.\n« Deux septuagénaire exposés dans un musée doivent cohabiter ».\nAuteur : Pierre Notte / Mise en scène : Thierry Palem \n● 21h : « Le Repas des Fauves » – par la compagnie Russa Lux.\n« 1942 un soir d’anniversaire\, un événement va perturber la fête »\nAuteur : Vahé Katcha / Mise en scène : Sébastien Vanni \n  \nSamedi 18/03\n \n● 11h : « Le sortilège de Gédéonne » – par Chouette Prod. \n« Roméo ! La magie des mots c’est plus rigolos que les jeux vidéos »\nAuteur : Isabelle Bouttau / Mise en scène : Daniel Majeur\nSpéciale jeune public. \n● 15h : « Un dîner d’adieu » – par Y-sol En scène.\n« Comment se débarrasser lâchement de ses amis ? »\nAuteur : Alexandre de la Patellière et Matthieu Delaporte / Mise en scène : Bénédicte Bernard \n● 18h : « C’est à qui le tour ? » – par Les Tréteaux de Saint-Tropez. \n« Une gérante d’agence matrimoniale va gérer une journée pleine de rebondissements »\nAuteur : Hervé Fassy \n● 21h : « Elles s’aiment depuis 20 ans » – par Le Théâtre de l’Ane Rit.\n« Depuis 20 ans elle s’aiment\, se disputent\, explosent ! »\nAuteur : Palmade Robin Laroque / Mise en scène : Severine Mylène \n  \nDimanche 19/03\n \n● 11h : « La Bio de maman » – par Les Enfants du Paradis.\n« Avec un père chirurgien\, la biographie devient délirante et la comédie surprenante ».\nAuteur : Alexandre Papias / Mise en scène : Eric Louis \n● 15h : « César\, Fanny\, Marius… ou presque » – par Aventure Théâtre Compagnie.\n« Sur le vieux port à Marseille\, la vie truculente des habitués du Bar de la Marine « \nAuteur : Marcel Pagnol / Mise en scène : Luc Girerd \n● 18h : « Quelque chose à te dire… » – par la Compagnie Jour J.\n« Une tendre demande en mariage vire à l’orage « \nAuteur : Valérie Pelligrini / Mise en scène : Julien Musarella \n● 21h : « L’art délicat de la scène de ménage » – par Cie Mani Manivel’.\n« Néo-boulevard\, vaudeville revisité\, explore le plus fascinant des espaces : le couple. »\nAuteur : Jean-Marcel Erre / Mise en scène : Véronique Siffredi \n  \nInformations pratiques :  \n\nEntrée gratuite\nRéservations au 06 22 06 47 06\nRenseignements auprès de l’Office de Tourisme – 04 93 32 86 95
URL:https://saintpauldevence.org/agenda/festival-de-theatre/2023-03-17/
LOCATION:Auditorium\, 150 Rte des Serres\, Saint-Paul-de-Vence\, 06570\, France
CATEGORIES:Théâtre
ATTACH;FMTTYPE=image/jpeg:https://saintpauldevence.org/wp-content/uploads/2022/11/TTV-Saint-Paul-23-scaled-e1669642407967.jpg
GEO:43.698886784084;7.1200623819271
X-APPLE-STRUCTURED-LOCATION;VALUE=URI;X-ADDRESS=Auditorium 150 Rte des Serres Saint-Paul-de-Vence 06570 France;X-APPLE-RADIUS=500;X-TITLE=150 Rte des Serres:geo:7.1200623819271,43.698886784084
END:VEVENT
END:VCALENDAR