BEGIN:VCALENDAR
VERSION:2.0
PRODID:-//Saint-Paul-de-Vence - ECPv6.15.20//NONSGML v1.0//EN
CALSCALE:GREGORIAN
METHOD:PUBLISH
X-ORIGINAL-URL:https://saintpauldevence.org
X-WR-CALDESC:Évènements pour Saint-Paul-de-Vence
REFRESH-INTERVAL;VALUE=DURATION:PT1H
X-Robots-Tag:noindex
X-PUBLISHED-TTL:PT1H
BEGIN:VTIMEZONE
TZID:Europe/Paris
BEGIN:DAYLIGHT
TZOFFSETFROM:+0100
TZOFFSETTO:+0200
TZNAME:CEST
DTSTART:20210328T010000
END:DAYLIGHT
BEGIN:STANDARD
TZOFFSETFROM:+0200
TZOFFSETTO:+0100
TZNAME:CET
DTSTART:20211031T010000
END:STANDARD
BEGIN:DAYLIGHT
TZOFFSETFROM:+0100
TZOFFSETTO:+0200
TZNAME:CEST
DTSTART:20220327T010000
END:DAYLIGHT
BEGIN:STANDARD
TZOFFSETFROM:+0200
TZOFFSETTO:+0100
TZNAME:CET
DTSTART:20221030T010000
END:STANDARD
BEGIN:DAYLIGHT
TZOFFSETFROM:+0100
TZOFFSETTO:+0200
TZNAME:CEST
DTSTART:20230326T010000
END:DAYLIGHT
BEGIN:STANDARD
TZOFFSETFROM:+0200
TZOFFSETTO:+0100
TZNAME:CET
DTSTART:20231029T010000
END:STANDARD
BEGIN:DAYLIGHT
TZOFFSETFROM:+0100
TZOFFSETTO:+0200
TZNAME:CEST
DTSTART:20240331T010000
END:DAYLIGHT
BEGIN:STANDARD
TZOFFSETFROM:+0200
TZOFFSETTO:+0100
TZNAME:CET
DTSTART:20241027T010000
END:STANDARD
BEGIN:DAYLIGHT
TZOFFSETFROM:+0100
TZOFFSETTO:+0200
TZNAME:CEST
DTSTART:20250330T010000
END:DAYLIGHT
BEGIN:STANDARD
TZOFFSETFROM:+0200
TZOFFSETTO:+0100
TZNAME:CET
DTSTART:20251026T010000
END:STANDARD
BEGIN:DAYLIGHT
TZOFFSETFROM:+0100
TZOFFSETTO:+0200
TZNAME:CEST
DTSTART:20260329T010000
END:DAYLIGHT
BEGIN:STANDARD
TZOFFSETFROM:+0200
TZOFFSETTO:+0100
TZNAME:CET
DTSTART:20261025T010000
END:STANDARD
END:VTIMEZONE
BEGIN:VEVENT
DTSTART;TZID=Europe/Paris:20250322T100000
DTEND;TZID=Europe/Paris:20250609T183000
DTSTAMP:20260420T160952
CREATED:20250207T081935Z
LAST-MODIFIED:20250207T081935Z
UID:10013415-1742637600-1749493800@saintpauldevence.org
SUMMARY:Exposition « Écoutez ! C’est l’éclipse. »
DESCRIPTION:[vc_row][vc_column][vc_column_text css= » »]Du samedi 22 mars au lundi 9 juin 2025\, la Fondation Maeght présente Écoutez ! C’est l’éclipse\, une exposition monographique consacrée à Hélène Delprat\, figure majeure de la scène artistique contemporaine. A travers une soixantaine d’œuvres (peintures\, dessins\, sculptures\, photographies…)\, l’exposition explore le monde d’Hélène Delprat dont l’histoire originale croise celle de la Fondation Maeght. À 16 ans\, elle y découvre Giacometti et Le Musée imaginaire de Malraux qui l’impressionnent au point de s’en souvenir encore aujourd’hui dans son accrochage actuel. \nÀ travers une pratique quotidienne\, où elle utilise à la fois le dessin\, la peinture\, la photographie\, les archives ou la vidéo\, elle développe une œuvre pleine d’autodérision\, une sorte de livre d’heures à la fois noir et sensible\, où fiction et documentaire se côtoient. Elle aime l’idée d’une mort drôle\, monstrueuse\, outrancière\, mélancolique… Son art est autant hanté par les fantômes de l’histoire (de la guerre en particulier) et de l’histoire de l’art (de Piero della Francesca à William Hogarth\, de Ad Reinhardt à Paul McCarthy…) que par les images populaires et familières. Elle est ainsi avide d’images de presse\, de la Gazette Drouot\, de cartoons d’hier et d’aujourd’hui. Elle n’a de cesse d’imprimer\, de photocopier\, de classer… Quant aux épisodes traumatisants de sa vie\, elle préfère leur donner la forme cryptée d’un rébus. Sa propension à tourner le pire en dérision rend son art d’autant plus vivant\, truculent\, drôle et archi-émouvant. \nInformations pratiques :\n– Commissaire de l’exposition : Laurence Bertrand Dorléac\n– Le 24 avril\, un concert d’Aline Piboule\, Voyage sonore dans l’œuvre d’Hélène Delprat\, se tiendra à la Fondation Maeght\, en partenariat avec le Festival de Saint-Paul-de-Vence et avec le soutien de la Société des Amis de la Fondation Maeght.\n– En savoir plus : www.fondationmaeght.com \n[/vc_column_text][/vc_column][/vc_row]
URL:https://saintpauldevence.org/agenda/exposition-ecoutez-cest-leclipse/
LOCATION:Fondation Maeght\, 623 Chemin des Gardettes\, Saint-Paul-de-Vence\, 06570\, France
ATTACH;FMTTYPE=image/png:https://saintpauldevence.org/wp-content/uploads/2025/02/Exposition_Ecoutez-Cest-leclipse_Helene-Dulprat.png
END:VEVENT
BEGIN:VEVENT
DTSTART;TZID=Europe/Paris:20241109T080000
DTEND;TZID=Europe/Paris:20250209T170000
DTSTAMP:20260420T160952
CREATED:20241119T093451Z
LAST-MODIFIED:20241119T145609Z
UID:10013257-1731139200-1739120400@saintpauldevence.org
SUMMARY:Exposition Fondation Maeght : « Mountain » de Minjung Kim
DESCRIPTION:Du 9 novembre 2024 au 9 février 2025\, la Fondation Maeght présente l’exposition Mountain de Minjung Kim\, artiste coréenne contemporaine. Reconnue internationalement pour ses œuvres poétiques et minimalistes\, elle tisse un lien subtil entre tradition et modernité. Travaillant principalement à l’encre sur papier traditionnel coréen de grandes dimensions « hanji »\, elle réalise des compositions d’une grande délicatesse\, où la répétition de motifs s’apparente à une méditation sur le temps\, la nature et la spiritualité. \nEn savoir plus sur https://www.fondation-maeght.com/minjung-kim-moutain/?lang=fr
URL:https://saintpauldevence.org/agenda/exposition-fondation-maeght-mountain-de-minjung-kim/
LOCATION:Fondation Maeght\, 623 Chemin des Gardettes\, Saint-Paul-de-Vence\, 06570\, France
ATTACH;FMTTYPE=image/png:https://saintpauldevence.org/wp-content/uploads/2024/11/Minjung-Kim-Blue-mountain2022-©-Studio-Minjung-Kim.png
END:VEVENT
BEGIN:VEVENT
DTSTART;TZID=Europe/Paris:20240629T080000
DTEND;TZID=Europe/Paris:20241006T170000
DTSTAMP:20260420T160952
CREATED:20240527T121323Z
LAST-MODIFIED:20240527T121323Z
UID:10013146-1719648000-1728234000@saintpauldevence.org
SUMMARY:Exposition Amitiés Bonnard-Matisse : 60 ans Fondation Maegh
DESCRIPTION:À l’occasion de son 60e anniversaire\, la Fondation Maeght présente une grande exposition estivale “Amitiés\, Bonnard-Matisse”\, mettant l’accent sur la relation amicale et respectueuse entre Pierre Bonnard et Henri Matisse. Placée sous le Haut Patronage de M. le Président de la République\, Emmanuel Macron\, elle retrace leurs liens avec la famille Maeght pour qui les deux artistes-amis incarnaient deux génies du XXe siècle. Parallèlement\, l’été sera marqué par l’inauguration de nouvelles salles d’exposition consacrées cette année à la collection permanente et un mois de célébrations composé de concerts\, représentations de danse\, lectures… \nInformations complémentaires :  \nCommissaire de l’exposition : Marie-Thérèse Pulvénis de Séligny\nEn savoir plus sur www.fondationmaeght.com
URL:https://saintpauldevence.org/agenda/exposition-amities-bonnard-matisse-60-ans-fondation-maegh/
LOCATION:Fondation Maeght\, 623 Chemin des Gardettes\, Saint-Paul-de-Vence\, 06570\, France
ATTACH;FMTTYPE=image/jpeg:https://saintpauldevence.org/wp-content/uploads/2024/05/04_INV06079.BONNARD-ret-copie.jpg
END:VEVENT
BEGIN:VEVENT
DTSTART;TZID=Europe/Paris:20231218T080000
DTEND;TZID=Europe/Paris:20240611T170000
DTSTAMP:20260420T160952
CREATED:20240129T092152Z
LAST-MODIFIED:20240129T092152Z
UID:10011689-1702886400-1718125200@saintpauldevence.org
SUMMARY:Exposition « La Fondation Maeght voit grand ! »
DESCRIPTION:« La Fondation Maeght voit grand » et vous invite à découvrir les œuvres grands formats de sa collection permanente : Bonnard\, Léger\, Chagall\, Fiedler\, Kelly\, Soulages\, Mitchell\, Dubuffet\, Tal Coat\, Riopelle et bien d’autres… Cette incroyable collection\, qui est l’une des plus importantes en Europe avec plus de 13.000 œuvres des maîtres du XXe siècle et du début du XXIe\, se déploie dans toutes les salles et dans tous les jardins de la Fondation. \nA découvrir sans plus attendre ! \nLe saviez-vous ? A l’été 2024\, la Fondation Maeght fêtera ses 60 ans avec une grande exposition thématique\, l’inauguration de ses nouvelles salles et un mois de célébrations (concerts\, films\, danse\, lectures…). \nInfos pratiques : \n\nExposition présentée jusqu’au 11 juin 2024\n-Tarifs : 16€ pour le plein tarif / 11€ pour les groupes\, étudiants et -18 ans / Gratuit pour les -10 ans\n– Renseignements auprès de l’Office de Tourisme : 04 93 32 81 63\n\n\nEn savoir plus sur www.fondation-maeght.com/exposition-actuelle-collection-permanente
URL:https://saintpauldevence.org/agenda/exposition-la-fondation-maeght-voit-grand/
LOCATION:Fondation Maeght\, 623 Chemin des Gardettes\, Saint-Paul-de-Vence\, 06570\, France
ATTACH;FMTTYPE=image/jpeg:https://saintpauldevence.org/wp-content/uploads/2024/01/Accrochage-du-20-12-2023-37-scaled-qhuw2f8joszmii2otuuh95fgccf0b8avkb1l6pwr3y.jpg
END:VEVENT
BEGIN:VEVENT
DTSTART;TZID=Europe/Paris:20230728T210000
DTEND;TZID=Europe/Paris:20230728T223000
DTSTAMP:20260420T160952
CREATED:20230610T094025Z
LAST-MODIFIED:20230610T094025Z
UID:10001101-1690578000-1690583400@saintpauldevence.org
SUMMARY:Concert d'Airelle Besson & Lionel Suarez
DESCRIPTION:A l’occasion du Festival de Saint-Paul-de-Vence\, vivez une soirée unique avec le concert d’Airelle Besson (trompette) et Lionel Suarez (accordéon) le vendredi 28 juillet à 21h dans le Labyrinthe de Mirò. \nEn quelques mots : \nLe labyrinthe Miró de la Fondation Maeght est le cadre rêvé pour découvrir ce duo intimiste inspiré de la trompette d’Airelle Besson (Révélation de l’année 2015 aux Victoires de la Musique Jazz) et de l’accordéon coloré de Lionel Suarez. Leurs compositions et leurs improvisations se caractérisent par un mélange de tendresse\, de complicité et d’esprit dansant. \nInformations pratiques :  \n\nRéservations sur le site du Festival de Saint-Paul-de-Vence
URL:https://saintpauldevence.org/agenda/concert-dairelle-besson-lionel-suarez/
LOCATION:Fondation Maeght\, 623 Chemin des Gardettes\, Saint-Paul-de-Vence\, 06570\, France
CATEGORIES:Festival
ATTACH;FMTTYPE=image/png:https://saintpauldevence.org/wp-content/uploads/2023/06/concert-airelle-besson-et-lionel-suarez_festival-de-saint-paul-de-vence.png
END:VEVENT
BEGIN:VEVENT
DTSTART;VALUE=DATE:20220702
DTEND;VALUE=DATE:20221201
DTSTAMP:20260420T160953
CREATED:20220303T203650Z
LAST-MODIFIED:20220303T203650Z
UID:10000453-1656720000-1669852799@saintpauldevence.org
SUMMARY:Au coeur de l'Abstraction
DESCRIPTION:Du 2 juillet au 20 novembre 2022\, la nouvelle exposition de la Fondation Maeght se dévoile. Intitulée « Au coeur de l’abstraction »\, elle vous invite à découvrir des œuvres issues de la collection de la Fondation Gandur pour l’Art et propose une immersion dans la création bouillonnante des années 1945 à 1980. \nCommissaire invitée : Yan Schubert\, conservateur de la Fondation Gandur pour l’Art \n\n\n\nAu sortir de la Seconde Guerre mondiale des artistes du monde entier affluent de nouveau vers Paris qui reprend sa place de capitale culturelle. \nDémarre alors une période de grande effervescence artistique durant laquelle on assiste parallèlement à des évolutions de la tendance géométrique\, née dans les avant-gardes du début du XXe siècle\, et à l’émergence d’une génération d’artistes qui repense la peinture et ses supports et révolutionne l’art abstrait en transcendant le geste et la matière grâce à des techniques et des outils inédits. \nReflets des formes multiples que revêt l’abstraction durant ces années de création\, l’exposition propose de découvrir l’abstraction lyrique et gestuelle de Georges Mathieu\, de Hans Hartung\, de Pierre Soulages\, l’expressionnisme abstrait de Sam Francis ou de Joan Mitchell\, l’abstraction géométrique de Victor Vasarely\, la peinture minimale de Martin Barré ou encore la sculpture cinétique de Jean Tinguely. \nEn remettant en question les moyens picturaux traditionnels le groupe Supports/Surfaces marque à la fois une conclusion à cette période d’expérimentation intense et le début d’une évolution qui se poursuit encore aujourd’hui. \n\nEntrée :  \n\nPlein tarif : 16 €.\nGroupes\, étudiants\, moins de 18 ans : 11 €.\nMoins de 10 ans : Gratuit.\n\n\nInformations complémentaires sur le site officiel de la Fondation Maeght.
URL:https://saintpauldevence.org/agenda/au-coeur-de-labstraction-2022/
LOCATION:Fondation Maeght\, 623 Chemin des Gardettes\, Saint-Paul-de-Vence\, 06570\, France
CATEGORIES:Exposition
ATTACH;FMTTYPE=image/jpeg:https://saintpauldevence.org/wp-content/uploads/2022/03/exposition-fondation-maeght_ete-2022.jpg
END:VEVENT
BEGIN:VEVENT
DTSTART;VALUE=DATE:20220312
DTEND;VALUE=DATE:20220613
DTSTAMP:20260420T160953
CREATED:20220303T202758Z
LAST-MODIFIED:20220303T202758Z
UID:10000452-1647043200-1655078399@saintpauldevence.org
SUMMARY:Exposition Bernard Moninot
DESCRIPTION:Du 12 mars au 12 juin 2022\, venez découvrir à la Fondation Maeght\, l‘exposition monographique dédiée à l’artiste français Bernard Moninot. A cette occasion\, Bernard Moninot présentera 7 installations majeures ainsi que des oeuvres réalisées in situ inédites\, créées pour le lieu. \nCommissaire invité : Olivier Delavallade\, historien de l’art\, auteur et commissaire d’expositions. \nDans les années 1980\, Bernard Moninot redéfinit son travail en intégrant aux dimensions spatiales traditionnellement liées au dessin\, une recherche expérimentale où l’artiste explore les possibilités qu’offrent certains phénomènes\, comme l’ombre\, pour produire des formes visibles du temps. Il renonce à l’idée de maîtrise et son travail s’oriente alors vers les phénomènes naturels : lumière\, ombre\, vent\, ondes sonores… L’atelier devient observatoire puis laboratoire. \nÀ partir de 2005\, Bernard Moninot réalise des œuvres aux enjeux plus complexes. Il combine trois notions qui constituent un programme artistique : le hasard\, l’inconscient et l’intuition. Ses installations deviennent de plus en plus autobiographiques. Elles sont accompagnées de dessins préparatoires mais aussi d’autres plus autonomes réalisés simultanément d’après les installations. Le processus créatif est le sujet principal lié au développement du temps. Dans ses agendas\, l’artiste consigne des petits événements\, « une manière plus légère de faire entrer le temps de la vie dans mon travail »\, nous dit-il. \nEntrée :  \n\nPlein tarif : 16 €.\nGroupes\, étudiants\, moins de 18 ans : 11 €.\nMoins de 10 ans : Gratuit.\n\nInformations complémentaires sur le site officiel de la Fondation Maeght
URL:https://saintpauldevence.org/agenda/exposition-bernard-moninot-fondation-maeght/
LOCATION:Saint-Paul-de-Vence\, France
CATEGORIES:Exposition
ATTACH;FMTTYPE=image/png:https://saintpauldevence.org/wp-content/uploads/2022/03/exposition-Fondation-Maeght.png
END:VEVENT
END:VCALENDAR