BEGIN:VCALENDAR
VERSION:2.0
PRODID:-//Saint-Paul-de-Vence - ECPv6.15.20//NONSGML v1.0//EN
CALSCALE:GREGORIAN
METHOD:PUBLISH
X-ORIGINAL-URL:https://saintpauldevence.org
X-WR-CALDESC:Évènements pour Saint-Paul-de-Vence
REFRESH-INTERVAL;VALUE=DURATION:PT1H
X-Robots-Tag:noindex
X-PUBLISHED-TTL:PT1H
BEGIN:VTIMEZONE
TZID:Europe/Paris
BEGIN:DAYLIGHT
TZOFFSETFROM:+0100
TZOFFSETTO:+0200
TZNAME:CEST
DTSTART:20200329T010000
END:DAYLIGHT
BEGIN:STANDARD
TZOFFSETFROM:+0200
TZOFFSETTO:+0100
TZNAME:CET
DTSTART:20201025T010000
END:STANDARD
BEGIN:DAYLIGHT
TZOFFSETFROM:+0100
TZOFFSETTO:+0200
TZNAME:CEST
DTSTART:20210328T010000
END:DAYLIGHT
BEGIN:STANDARD
TZOFFSETFROM:+0200
TZOFFSETTO:+0100
TZNAME:CET
DTSTART:20211031T010000
END:STANDARD
BEGIN:DAYLIGHT
TZOFFSETFROM:+0100
TZOFFSETTO:+0200
TZNAME:CEST
DTSTART:20220327T010000
END:DAYLIGHT
BEGIN:STANDARD
TZOFFSETFROM:+0200
TZOFFSETTO:+0100
TZNAME:CET
DTSTART:20221030T010000
END:STANDARD
BEGIN:DAYLIGHT
TZOFFSETFROM:+0100
TZOFFSETTO:+0200
TZNAME:CEST
DTSTART:20230326T010000
END:DAYLIGHT
BEGIN:STANDARD
TZOFFSETFROM:+0200
TZOFFSETTO:+0100
TZNAME:CET
DTSTART:20231029T010000
END:STANDARD
BEGIN:DAYLIGHT
TZOFFSETFROM:+0100
TZOFFSETTO:+0200
TZNAME:CEST
DTSTART:20240331T010000
END:DAYLIGHT
BEGIN:STANDARD
TZOFFSETFROM:+0200
TZOFFSETTO:+0100
TZNAME:CET
DTSTART:20241027T010000
END:STANDARD
END:VTIMEZONE
BEGIN:VEVENT
DTSTART;TZID=Europe/Paris:20230725T210000
DTEND;TZID=Europe/Paris:20230725T220000
DTSTAMP:20260421T192204
CREATED:20230610T092008Z
LAST-MODIFIED:20230725T140240Z
UID:10001100-1690318800-1690322400@saintpauldevence.org
SUMMARY:Concert de Bruce Liu
DESCRIPTION:Pour sa 3ème soirée\, le Festival de Saint-Paul-de-Vence convie sur scène Bruce Liu\, jeune pianiste ayant remporté le très exigeant Concours Chopin de Varsovie à l’âge de 24 ans. Ne manquez pas son concert le mardi 25 juillet à 21h à l’Auditorium. \nEn quelques mots : \nLe jeune Canadien relevé en 2021\, revient cette année avec une idée en tête : vous faire voyager dans une véritable odyssée pianistique. Avec son aisance\, son élégance\, son sens naturel des phrases musicales et sa façon de transformer le piano\, les pianophiles seront envoûtés ! \nLe programme : \n\nJEAN-PHILIPPE RAMEAU\nLUDWIG VAN BEETHOVEN – Waldstein\nFRÉDÉRIC CHOPIN – 3 nouvelles études\nFRÉDÉRIC CHOPIN – Sonata 2\nNIKOLAÏ KAPUSTIN – Variations\n\nInformations pratiques :  \n\nTarifs et réservations sur le site du Festival de Saint-Paul-de-Vence
URL:https://saintpauldevence.org/agenda/concert-de-bruce-liu/
LOCATION:Place de la Courtine
CATEGORIES:Festival
ATTACH;FMTTYPE=image/png:https://saintpauldevence.org/wp-content/uploads/2023/06/concert-bruce-lieu_festival-de-saint-paul-de-vence.png
END:VEVENT
BEGIN:VEVENT
DTSTART;TZID=Europe/Paris:20230723T210000
DTEND;TZID=Europe/Paris:20230723T230000
DTSTAMP:20260421T192204
CREATED:20230610T084145Z
LAST-MODIFIED:20230610T090442Z
UID:10001099-1690146000-1690153200@saintpauldevence.org
SUMMARY:Concert de Cello 8\, Raphaël Pidoux et Cyrielle Ndjiki Nya
DESCRIPTION:Pour sa 2ème soirée\, qui se tiendra le dimanche 23 juillet à 21h sur la Place de la Courtine\, le Festival de Saint-Paul-de-Vence fait monter sur scène 3 talents : Cello 8 (violoncelles)\, Raphaël Pidoux (violoncelle) et Cyrielle Ndjiki Nya (soprano). \nEn quelques mots : \nConstitué de jeunes talents et mené par le maître Raphaël Pidoux\, l’octuor nous propose ce soir ses plus beaux titres en compagnie de la jeune soprano Cyrielle Ndjiki Nya\, étoile montante de l’opéra dotée d’un timbre lumineux. \nLe programme : \n\nFRANZ SCHUBERT – Ständchen\, extrait de Schwanengesang D. 957\nERNEST BLOCH – Prière\nREYNALDO HAHN – Venezia (sextuor)\nGABRIEL FAURÉ – Clair de lune opus 46 n°2 3 m\nAUGUSTA HOLMÈS – La Nuit et l’Amour – extrait de Ludus pro Patria\nANTONIA DVORÀK – Rusalka opus 114 Chant à la lune\nHEITOR VILLA-LOBOS – Bacchianas Brasilieras n5\nCHARLES GOUNOD – Nuit Resplendissante\nIGOR STRAVINSKY – Tango\nGEORGES BIZET – Suite de Carmen Prélude/Habanera/Séguedille/Entracte/Air Tzigane\n\nInformations pratiques :  \n\nTarifs et réservations sur le site du Festival de Saint-Paul-de-Vence
URL:https://saintpauldevence.org/agenda/concert-de-cello-8-raphael-pidoux-et-cyrielle-ndjiki-nya/
LOCATION:Place de la Courtine
CATEGORIES:Festival
ATTACH;FMTTYPE=image/png:https://saintpauldevence.org/wp-content/uploads/2023/06/concert-cello-8-et-cyrielle-ndiki-et-raphael-pidoux.png
END:VEVENT
BEGIN:VEVENT
DTSTART;TZID=Europe/Paris:20230721T210000
DTEND;TZID=Europe/Paris:20230731T230000
DTSTAMP:20260421T192204
CREATED:20230404T114924Z
LAST-MODIFIED:20230610T094304Z
UID:10001068-1689973200-1690844400@saintpauldevence.org
SUMMARY:Festival de Musique Classique et Jazz
DESCRIPTION:Du 21 au 31 juillet\, le Festival de Saint-Paul-de-Vence sera de retour avec 6 concerts d’exception. Violonistes\, pianistes\, contrebassistes\, guitaristes\, sopranos… Tous seront au rendez-vous sur la Place de la Courtine ou à la Fondation Maeght ! \nLe programme 2023 : \n\n\nVendredi 21 à 21h – Place de la Courtine\nMaxim Vengerov (violon) et Polina Osetinskaya (piano)\n\nDimanche 23 à 21h – Place de la Courtine\nCello 8\, Raphaël Pidoux (octuor de violoncelles) et Cyrielle Ndjiki Nya (soprano)\n\nMardi 25 à 21h – Place de la Courtine\nBruce Liu (piano)\n\nVendredi 28 à 21h – Fondation Maeght dans le Labyrinthe Miró\nAirelle Besson (trompette) et Lionel Suarez (accordéon)\n\nSamedi 29 à 21h – Place de la Courtine\nQuintette Tango Nuevo « La Revolutción » Hommage à Astor Piazzolla – Félicien Brut (accordéon)\, Thomas Enhco (piano)\, Thibaut Garcia (guitare)\, Jordan Victoria (violon)\, Thomas Enhco (piano)\, Edouard Macérez (contrebasse)\n\nDimanche 31 à 21h – Place de la Courtine\nQuatuor Modigliani (Concert des 20 ans)\n\n  \nInformations pratiques : \n\nRéservations sur le site du Festival de Saint-Paul-de-Vence\nTarifs :\n\npar concert (sauf le concert du 21/07) : 35€ (plein) & 15€ (réduit)\npour le concert du 21/07 : 40€ (plein)  & 15€ (réduit)\n\n\nPASS (nombre limité) :\n\nà partir de 3 concerts (dont le concert du 21/07) : 28€ par concert\n\n\n\n 
URL:https://saintpauldevence.org/agenda/festival-de-musique-classique-et-jazz/
LOCATION:Place de la Courtine
CATEGORIES:Festival
ATTACH;FMTTYPE=image/jpeg:https://saintpauldevence.org/wp-content/uploads/2023/04/Visuel-carre-FB-FMC.jpg
END:VEVENT
BEGIN:VEVENT
DTSTART;TZID=Europe/Paris:20230721T210000
DTEND;TZID=Europe/Paris:20230721T230000
DTSTAMP:20260421T192204
CREATED:20230610T083620Z
LAST-MODIFIED:20230610T083620Z
UID:10001098-1689973200-1689980400@saintpauldevence.org
SUMMARY:Concert de Maxim Vengerov & Polina Osetinskaya
DESCRIPTION:Venez assister au concert d’ouverture du Festival de Saint-Paul-de-Vence le vendredi 21 juillet\, à 21h\, sur la Place de la Courtine. Sur scène\, se produiront 2 artistes à la renommée internationale : Maxim Vengerov (violon) et Polina Osetinskaya (piano). \nEn quelques mots : \nLa puissance de son archet\, l’expressivité folle de son vibrato et l’engagement spectaculaire de ses interprétations\, fait de Maxim Vengerov un des violonistes les plus marquants de sa génération. Généreux\, authentique et atypique\, cet enfant prodige de l’école russe a conquis le public ! Découvrez-le ce soir\, sous le ciel de Saint-Paul-de-Vence. Un cadre idyllique pour se laisser bercer par ces douces notes de violon mariées à celles du piano de Polina Osetinskaya. \nLe programme : \n\nCLARA SCHUMANN – Trois Romances pour violon et piano op. 22\nJOHANNES BRAHMS – Scherzo en ut mineur de la Sonate « FAE »\nROBERT SCHUMANN – Sonate pour violon n°3 in la mineur\nEntracte\nPROKOFIEV – Cinq mélodies\nPROKOFIEV – Sonate pour violon n°2\, op. 94 bis\n\nInformations pratiques :  \n\nTarifs & réservations sur le site officiel du Festival de Saint-Paul-de-Vence 
URL:https://saintpauldevence.org/agenda/concert-de-maxim-vengerov-polina-osetinskaya/
LOCATION:Place de la Courtine
CATEGORIES:Festival
ATTACH;FMTTYPE=image/png:https://saintpauldevence.org/wp-content/uploads/2023/06/concert-ouverture-festival-de-saint-paul-de-vence-2023.png
END:VEVENT
BEGIN:VEVENT
DTSTART;TZID=Europe/Paris:20220731T210000
DTEND;TZID=Europe/Paris:20220731T230000
DTSTAMP:20260421T192204
CREATED:20220531T100244Z
LAST-MODIFIED:20220531T100244Z
UID:10000544-1659301200-1659308400@saintpauldevence.org
SUMMARY:Festival de musique classique et jazz : Quatuor Modigliani et Beatrice Rana
DESCRIPTION:Préparez-vous à passer de la chaleur suffocante d’une corrida espagnole aux étendues glaciales de la Russie soviétique en quelques minutes seulement ! Après une ensorcelante Oración del torero et un bouleversant Quatuor « Rosamunde » dans lequel ils auront montré toute la délicatesse de leur chant schubertien à quatre voix\, les Modigliani se confronteront à la pianiste italienne pour le bouquet final de cette édition 2022 du Festival : le monumental Quintette pour piano et cordes de Dmitri Chostakovitch\, partition totale qui porte la marque sombre des années 1940. \n  \nSur scène :\nAmaury Coeytaux\, violon\nLoïc Rio\, violon\nLaurent Marfaing\, alto\nFrançois Kieffer\, violoncelle\nBeatrice Rana\, piano \n  \nAu programme :\nJOAQUIN TURINA – Quatuor op. 34 \nFRANZ SCHUBERT – Quatuor n°13 « Rosamonde » \nDMITIRI CHOSTAKOVITCH – Quintette \n  \nInformations pratiques :\n\nRéservez vos places pour le Festival de Saint-Paul de Vence :\n\nÀ la FNAC\, Carrefour\, Géant\, Intermarché ou Magasins U\nEn ligne sur le site officiel du Festival\n\n\n\n\nTarifs :\n\nTarif plein – 1 concert : 35€\nPass 3 concerts : 84€\nPass 4 concerts : 112€\nPass 5 concerts : 140€\nTarif réduit pour 1 concert (moins de 18 ans\, étudiants\, élèves du conservatoire\, demandes d’emploi\, bénéficiaires du RSA) : 15€
URL:https://saintpauldevence.org/agenda/concert-quatuor-modigliani-et-beatrice-rana/
LOCATION:Place de la Courtine
CATEGORIES:Festival
ATTACH;FMTTYPE=image/png:https://saintpauldevence.org/wp-content/uploads/2022/05/Modigliani-CJerome-Bonne-et-Rana.png
END:VEVENT
BEGIN:VEVENT
DTSTART;TZID=Europe/Paris:20220729T210000
DTEND;TZID=Europe/Paris:20220729T230000
DTSTAMP:20260421T192204
CREATED:20220531T095705Z
LAST-MODIFIED:20220531T095805Z
UID:10000543-1659128400-1659135600@saintpauldevence.org
SUMMARY:Festival de musique classique et jazz : Nikolaï Lugansky
DESCRIPTION:À 19 ans\, Nikolaï Lugansky enregistrait déjà à Moscou une intégrale des Études-Tableaux de Rachmaninov qui s’est imposée comme une référence. 30 ans plus tard\, ce « prince du piano » ne cesse pas d’étendre son règne\, tant il se montre capable de donner une vie nouvelle à toutes les œuvres qu’il touche. Même les plus souvent jouées. Même Beethoven\, à qui il a consacré des albums miraculeux\, sachant allier la perfection du discours classique et la puissance des contrastes romantiques : dans l’impressionnante Sonate no 23 « Appassionata »\, le piano vibre comme un orchestre et emporte tout sur son passage ! Et en récital\, la tension du moment donne au jeu de Lugansky une dimension plus extraordinaire encore…\n\nInformations pratiques :\n\nRéservez vos places pour le Festival de Saint-Paul de Vence :\n\nÀ la FNAC\, Carrefour\, Géant\, Intermarché ou Magasins U\nEn ligne sur le site officiel du Festival\n\n\n\n\nTarifs :\n\nTarif plein – 1 concert : 35€\nPass 3 concerts : 84€\nPass 4 concerts : 112€\nPass 5 concerts : 140€\nTarif réduit pour 1 concert (moins de 18 ans\, étudiants\, élèves du conservatoire\, demandes d’emploi\, bénéficiaires du RSA) : 15€
URL:https://saintpauldevence.org/agenda/recital-nikolai-lugansky/
LOCATION:Place de la Courtine
CATEGORIES:Festival
ATTACH;FMTTYPE=image/png:https://saintpauldevence.org/wp-content/uploads/2022/05/nikolai-lugansky.png
END:VEVENT
BEGIN:VEVENT
DTSTART;TZID=Europe/Paris:20220727T210000
DTEND;TZID=Europe/Paris:20220727T230000
DTSTAMP:20260421T192204
CREATED:20220531T095211Z
LAST-MODIFIED:20220531T095233Z
UID:10000542-1658955600-1658962800@saintpauldevence.org
SUMMARY:Festival de musique classique et jazz : frères Fouchenneret et Stella Almondo
DESCRIPTION:Pour cette nouvelle soirée du Festival de musique classique et jazz\, place à la fratrie Fouchenneret ! Le cadet\, Théo\, pianiste\, a été révélé par son premier prix au Concours international de Genève\, en 2018. Son premier enregistrement\, consacré aux Sonates « Waldstein » et « Hammerklavier » de Beethoven\, a été salué par la critique en 2020. Il sera accompagné sur scène par son frère\, Pierre. Violoniste reconnu\, il aime s’immerger dans la musique des compositeurs qu’il interprète pour mieux saisir leur langage. \nA leurs côtés\, brillera la jeune étoile montante du piano\, Stella Almondo. Récente lauréate du XXe Concours Scriabine\, elle s’est fait remarquer lors de la septième saison de l’émission « Prodiges ». \n  \nSur scène :\nStella Almondo\, piano\nPierre Fouchenneret\, violoniste\nThéo Fouchenneret\, piano \n  \nAu programme :\nALEXANDRE SCRIABINE – Sonate n° 4 \nSERGUEÏ RACHMANINOV – Prélude op. 23 n° 2 \nGABRIEL FAURÉ – Berceuse \nGABRIEL FAURÉ – Sonate n° 2 \nGABRIEL FAURÉ – Extraits de Dolly \nROBERT SCHUMANN – Sonate n° 2 \n  \nInformations pratiques :\n\nRéservez vos places pour le Festival de Saint-Paul de Vence :\n\nÀ la FNAC\, Carrefour\, Géant\, Intermarché ou Magasins U\nEn ligne sur le site officiel du Festival\n\n\n\n\nTarifs :\n\nTarif plein – 1 concert : 35€\nPass 3 concerts : 84€\nPass 4 concerts : 112€\nPass 5 concerts : 140€\nTarif réduit pour 1 concert (moins de 18 ans\, étudiants\, élèves du conservatoire\, demandes d’emploi\, bénéficiaires du RSA) : 15€
URL:https://saintpauldevence.org/agenda/concert-freres-fouchenneret-et-stella-almondo/
LOCATION:Place de la Courtine
CATEGORIES:Festival
ATTACH;FMTTYPE=image/jpeg:https://saintpauldevence.org/wp-content/uploads/2022/05/Fouchenneret-et-Almondo.jpg
END:VEVENT
BEGIN:VEVENT
DTSTART;TZID=Europe/Paris:20220726T210000
DTEND;TZID=Europe/Paris:20220726T230000
DTSTAMP:20260421T192204
CREATED:20220531T091923Z
LAST-MODIFIED:20220531T095435Z
UID:10000541-1658869200-1658876400@saintpauldevence.org
SUMMARY:Festival de musique classique et jazz : Ana Carla Maza et Sélène Saint-Aimé Trio
DESCRIPTION:C’est une soirée d’exception (et de dépaysement) qui vous attend. Au cœur du labyrinthe Miró de la Fondation Maeght\, résonneront les notes de 2 jeunes femmes figurant parmi les plus talentueuses des scènes jazz et musique du monde. \nNée à Cuba\, Ana Carla Maza est une chanteuse et violoncelliste virtuose. Depuis ses premiers pas sur scène à dix ans\, elle n’a eu de cesse d’évoluer\, se produisant dans le monde entier. Jazz\, musique classique et couleurs de l’Amérique latine composent son univers\, où les sonorités cubaines et brésiliennes se côtoient pour dessiner un monde de sensibilité et d’espoir. Sa technique impeccable et son énergie contagieuse ne vous laisseront pas insensible. \nGagnante aux victoires du Jazz 2021\, dans la catégorie révélation\,  Sélène Saint-Aimé est une contrebassiste de talent\, mais également une jeune chanteuse poétesse musicienne compositrice. Originaire de Martinique et Côte d’Ivoire\, elle puise son inspiration dans ses racines\, proposant des créations percussives\, poétiques et lancinantes. \n  \nSur scène\nAna Carla Maza\, violoncelle et chant \n—– \nSélène Saint-Aimé\, contrebasse et chant\nBoris Reine-Adelaïde\, tambour bélè\nIrving Acao\, saxophone ténor \nInformations pratiques :\n\nRéservez vos places pour le Festival de Saint-Paul de Vence :\n\nÀ la FNAC\, Carrefour\, Géant\, Intermarché ou Magasins U\nEn ligne sur le site officiel du Festival\n\n\n\n\nTarifs :\n\nTarif plein – 1 concert : 35€\nPass 3 concerts : 84€\nPass 4 concerts : 112€\nPass 5 concerts : 140€\nTarif réduit pour 1 concert (moins de 18 ans\, étudiants\, élèves du conservatoire\, demandes d’emploi\, bénéficiaires du RSA) : 15€
URL:https://saintpauldevence.org/agenda/festival-de-musique-classique-et-jazz-ana-carla-maza-et-selene-saint-aime-trio/
LOCATION:Fondation Maeght\, 623 Chemin des Gardettes\, Saint-Paul-de-Vence\, 06570\, France
CATEGORIES:Festival
ATTACH;FMTTYPE=image/jpeg:https://saintpauldevence.org/wp-content/uploads/2022/05/Ana-Carla-Maza-Selene-Saint-Aimé.jpg
END:VEVENT
BEGIN:VEVENT
DTSTART;TZID=Europe/Paris:20220724T210000
DTEND;TZID=Europe/Paris:20220724T230000
DTSTAMP:20260421T192204
CREATED:20220531T090520Z
LAST-MODIFIED:20220531T090644Z
UID:10000540-1658696400-1658703600@saintpauldevence.org
SUMMARY:Festival de musique classique et jazz : Cécile McLorin Salvant
DESCRIPTION:Lauréate de 3 Grammy Awards® (du meilleur album de jazz vocal)\, Cécile McLorin Salvant est la révélation du jazz vocal de ce début de siècle. Sa présence captivante sur scène\, son grain de voix unique\,  son interprétation riche…  Nul doute que la chanteuse et compositrice franco-américaine enchantera le public ! \nA l’occasion de cette soirée jazz\, vous découvrirez Ghost Song\, son dernier album. Hantée par les fantômes et la nostalgie des amours perdues\, elle y dévoile une large palette d’affinités musicales et stylistiques. \nSur scène :\nCécile McLorin Salvant\, voix\nAlexa Tarantino\, flûte\nMarvin Sewell\, guitare\nSullivan Fortner\, piano\nPaul Sikivie\, contrebasse\nPaul Sikivie\, contrebasse\nKeito Ogawa\, percussions \nInformations pratiques :\n\nRéservez vos places pour le Festival de Saint-Paul de Vence :\n\nÀ la FNAC\, Carrefour\, Géant\, Intermarché ou Magasins U\nEn ligne sur le site officiel du Festival\n\n\n\n\nTarifs :\n\nTarif plein – 1 concert : 35€\nPass 3 concerts : 84€\nPass 4 concerts : 112€\nPass 5 concerts : 140€\nTarif réduit pour 1 concert (moins de 18 ans\, étudiants\, élèves du conservatoire\, demandes d’emploi\, bénéficiaires du RSA) : 15€
URL:https://saintpauldevence.org/agenda/concert-cecile-mclorin-salvant/
LOCATION:Place de la Courtine
CATEGORIES:Festival
ATTACH;FMTTYPE=image/png:https://saintpauldevence.org/wp-content/uploads/2022/05/festival-de-musique-classique-et-jazz-1.png
END:VEVENT
BEGIN:VEVENT
DTSTART;TZID=Europe/Paris:20220723T210000
DTEND;TZID=Europe/Paris:20220723T233000
DTSTAMP:20260421T192204
CREATED:20220531T085013Z
LAST-MODIFIED:20220531T085202Z
UID:10000539-1658610000-1658619000@saintpauldevence.org
SUMMARY:Festival de musique classique et jazz : Théotime Langlois de Swarte et JustinTaylor
DESCRIPTION:Théotime Langlois de Swarte est un jeune prodige du violon\, passionné  par le répertoire français de la charnière entre le XIXe et le XXe siècle. Premier violoniste baroque à être nommé aux Victoires de la Musique Classique 2020 dans la catégorie « Révélation soliste instrumental »\,  il fonde l’ensemble Le Consort avec le claveciniste Justin Taylor en 2015. \nA l’occasion de cette soirée baroque\, Théotime Langlois de Swarte et Justin Taylor  s’imposent comme des interprètes de référence dans ce répertoire\, unissant technique infaillible\, beauté de la sonorité et élan irrésistible. \n  \nAu programme :\nDUBUISSON\, Prélude en sol mineur \nFRANÇOIS COUPERIN\, Sonate pour violon No 6 en sol mineur (2ème livre) \nLOUIS FRANCOEUR\, Suite en si mineur \nPANCRATE ROYER\, La Marche des Scythes \nFRANÇOIS FRANCOEUR\, Gavotte pour « Les Muses et les Plaisirs (Scanderberg)\, 2ème air (extrait de Tarcis et Zélie)\, Sonate pour violon n°10 en sol majeur (1er livre) \nLOUIS FRANCOEUR\, Sonate pour violon No 3 en mi mineur \nHENRY ECCLES\, Sonata in G minor \nALESSANDRO MARCELLO\, Largo (extrait du concerto pour hautbois en ré m) \nARCHANGELO CORELLI\, La Follia\, excerpt from Sonatas op.5 \n  \nInformations pratiques :\n\nRéservez vos places pour le Festival de Saint-Paul de Vence :\n\nÀ la FNAC\, Carrefour\, Géant\, Intermarché ou Magasins U\nEn ligne sur le site officiel du Festival\n\n\n\n\nTarifs :\n\nTarif plein – 1 concert : 35€\nPass 3 concerts : 84€\nPass 4 concerts : 112€\nPass 5 concerts : 140€\nTarif réduit pour 1 concert (moins de 18 ans\, étudiants\, élèves du conservatoire\, demandes d’emploi\, bénéficiaires du RSA) : 15€
URL:https://saintpauldevence.org/agenda/recital-theotime-langlois-de-swarte-et-justintaylor/
LOCATION:Place de la Courtine
CATEGORIES:Festival
ATTACH;FMTTYPE=image/png:https://saintpauldevence.org/wp-content/uploads/2022/05/festival-de-musique-classique-et-jazz.png
END:VEVENT
BEGIN:VEVENT
DTSTART;TZID=Europe/Paris:20210725T210000
DTEND;TZID=Europe/Paris:20210725T230000
DTSTAMP:20260421T192204
CREATED:20210617T121339Z
LAST-MODIFIED:20210716T070540Z
UID:10000349-1627246800-1627254000@saintpauldevence.org
SUMMARY:Concert - Festival de Saint-Paul de Vence
DESCRIPTION:A l’affiche : Marina Chiche (violon)\, Astrig Siranossian (violoncelle) et Nathanaël Goin (piano) – Filiations A l’honneur notamment de ce concert complice\, deux fratries : les Mendelsshon et les sœurs Boulanger dont la cadette mourut prématurément\, alors qu’elle aurait pu devenir la grande compositrice du XXème siècle. \nRéservations sur la billetterie | Festival Saint Paul de Vence \nConcernant l’accès au festival :\nComme tous les événements de plus de 50 personnes\, le Festival Classique & Jazz appliquera les nouvelles mesures sanitaires ; son public sera donc soumis au pass sanitaire qui sera contrôlé à l’entrée. \nLe pass sanitaire est conditionné à la présentation pour les plus de 18 ans de : \n\nUn schéma vaccinal complet\nLa preuve d’un test négatif de moins de 48h\nLe résultat d’un test positif attestant du rétablissement de la Covid-19 \n\nLe pass sanitaire sera applicable à partir du 21 juillet.
URL:https://saintpauldevence.org/agenda/concert-festival-de-musique-classique-et-jazz-saint-paul-de-vence-2/
LOCATION:Place de la Courtine
CATEGORIES:Concert
ATTACH;FMTTYPE=image/png:https://saintpauldevence.org/wp-content/uploads/2021/06/chihe-sira-gouin-e1623956905140.png
END:VEVENT
BEGIN:VEVENT
DTSTART;TZID=Europe/Paris:20210724T210000
DTEND;TZID=Europe/Paris:20210724T230000
DTSTAMP:20260421T192204
CREATED:20210617T122632Z
LAST-MODIFIED:20210716T070532Z
UID:10000351-1627160400-1627167600@saintpauldevence.org
SUMMARY:Concert - Festival de Saint-Paul de Vence
DESCRIPTION:Retrouvez ce soir le Quatuor Modigliani\, directeur artistique du Festival depuis sa première édition. Pour célébrer le 10ème anniversaire de ce temps fort Saint-Paulois\, il donne deux de ses pièces favorites : Le Quatuor de Ravel et « La Jeune Fille et la Mort » de Franz Schubert. \nRéservations sur la billetterie | Festival Saint Paul de Vence \nConcernant l’accès au festival :\nComme tous les événements de plus de 50 personnes\, le Festival Classique & Jazz appliquera les nouvelles mesures sanitaires ; son public sera donc soumis au pass sanitaire qui sera contrôlé à l’entrée. \nLe pass sanitaire est conditionné à la présentation pour les plus de 18 ans de : \n\nUn schéma vaccinal complet\nLa preuve d’un test négatif de moins de 48h\nLe résultat d’un test positif attestant du rétablissement de la Covid-19 \n\nLe pass sanitaire sera applicable à partir du 21 juillet.
URL:https://saintpauldevence.org/agenda/concert-festival-de-musique-classique-et-jazz-saint-paul-de-vence-3/
LOCATION:Place de la Courtine
CATEGORIES:Concert
ATTACH;FMTTYPE=image/png:https://saintpauldevence.org/wp-content/uploads/2021/06/Quatuor-Modigliani-©-Jerome-Bonnet-1024x819-1-e1623956817321.png
END:VEVENT
BEGIN:VEVENT
DTSTART;TZID=Europe/Paris:20210722T210000
DTEND;TZID=Europe/Paris:20210722T230000
DTSTAMP:20260421T192204
CREATED:20210617T190509Z
LAST-MODIFIED:20210716T070523Z
UID:10000353-1626987600-1626994800@saintpauldevence.org
SUMMARY:Concert - Festival de Saint-Paul de Vence
DESCRIPTION:A l’affiche : Kantorow père et fils – Jean-Jacques Kantorow (violon) et Alexandre Kantorow (piano) C’est un binôme exceptionnel que vous présente le Festival de Saint-Paul de Vence ce soir ; Jean-Jacques et Alexandre Kantorow interpréteront l’intégrale des sonates pour violon et piano de Johannes Brahms\, vous invitant ainsi à découvrir toute la palette des émotions du romantisme germanique. \nRéservations sur la billetterie | Festival Saint Paul de Vence  \nConcernant l’accès au festival :\nComme tous les événements de plus de 50 personnes\, le Festival Classique & Jazz appliquera les nouvelles mesures sanitaires ; son public sera donc soumis au pass sanitaire qui sera contrôlé à l’entrée. \nLe pass sanitaire est conditionné à la présentation pour les plus de 18 ans de : \n\nUn schéma vaccinal complet\nLa preuve d’un test négatif de moins de 48h\nLe résultat d’un test positif attestant du rétablissement de la Covid-19 \n\nLe pass sanitaire sera applicable à partir du 21 juillet.
URL:https://saintpauldevence.org/agenda/concert-festival-de-saint-paul-de-vence/
LOCATION:Place de la Courtine
CATEGORIES:Concert
ATTACH;FMTTYPE=image/jpeg:https://saintpauldevence.org/wp-content/uploads/2021/06/Sans-titre-4-page-001-scaled-e1623956694246.jpg
END:VEVENT
BEGIN:VEVENT
DTSTART;TZID=Europe/Paris:20210721T210000
DTEND;TZID=Europe/Paris:20210721T230000
DTSTAMP:20260421T192204
CREATED:20210617T185833Z
LAST-MODIFIED:20210716T070514Z
UID:10000352-1626901200-1626908400@saintpauldevence.org
SUMMARY:Concert - Festival de Saint-Paul de Vence
DESCRIPTION:A l’affiche : Paul Lay trio (Piano\, chant\, et contrebasse – Jazz)\, « Deep Rivers ».  Venez passer une soirée en compagnie du lauréat des Victoires de la Musique Jazz 2020… et (re)découvrez les musiques populaires de la fin du XIXéme et du début du XXème siècle\, dans un cadre unique : le labyrinthe de Mirò à la Fondation Maeght. \nRéservations sur la billetterie | Festival Saint Paul de Vence \n  \nConcernant l’accès au festival :\nComme tous les événements de plus de 50 personnes\, le Festival Classique & Jazz appliquera les nouvelles mesures sanitaires ; son public sera donc soumis au pass sanitaire qui sera contrôlé à l’entrée. \nLe pass sanitaire est conditionné à la présentation pour les plus de 18 ans de : \n\nUn schéma vaccinal complet\nLa preuve d’un test négatif de moins de 48h\nLe résultat d’un test positif attestant du rétablissement de la Covid-19 \n\nLe pass sanitaire sera applicable à partir du 21 juillet.
URL:https://saintpauldevence.org/agenda/concert-festival-de-musique-classique-et-jazz/
LOCATION:Fondation Maeght\, 623 Chemin des Gardettes\, Saint-Paul-de-Vence\, 06570\, France
CATEGORIES:Concert
ATTACH;FMTTYPE=image/jpeg:https://saintpauldevence.org/wp-content/uploads/2021/06/5-photo-trio-Paul-Lay-@s.gripoix-scaled-e1623956258379.jpg
END:VEVENT
BEGIN:VEVENT
DTSTART;TZID=Europe/Paris:20210719T210000
DTEND;TZID=Europe/Paris:20210719T230000
DTSTAMP:20260421T192204
CREATED:20210617T122424Z
LAST-MODIFIED:20210716T070503Z
UID:10000350-1626728400-1626735600@saintpauldevence.org
SUMMARY:Soirée de lancement - Festival de Saint-Paul de Vence
DESCRIPTION:A l’occasion de son 10ème anniversaire\, le Festival de Saint-Paul-de-Vence s’annonce exceptionnel. Laissez-vous emporter par les airs de musique tout en profitant du cadre unique\, au pied des célèbres remparts.  \nDécouvrez pour cette première soirée : Benjamin Grosvenor. Ayant remporté le concours de la BBC pour les jeunes musiciens et ayant joué avec les plus grands orchestres\, il est l’un des pianistes les plus demandés.  Pour cette soirée d’ouverture\, il vous invite à récital de Brahms à Ravel\, en passant par Liszt et Ginastera.  \nRéservations sur la billetterie | Festival Saint Paul de Vence  \nConcernant l’accès au festival :\nComme tous les événements de plus de 50 personnes\, le Festival Classique & Jazz appliquera les nouvelles mesures sanitaires ; son public sera donc soumis au pass sanitaire qui sera contrôlé à l’entrée. \nLe pass sanitaire est conditionné à la présentation pour les plus de 18 ans de : \n\nUn schéma vaccinal complet\nLa preuve d’un test négatif de moins de 48h\nLe résultat d’un test positif attestant du rétablissement de la Covid-19 \n\nLe pass sanitaire sera applicable à partir du 21 juillet.
URL:https://saintpauldevence.org/agenda/soiree-de-lancement-festival-de-musique-classique-et-jazz-saint-paul-de-vence/
LOCATION:Place de la Courtine
CATEGORIES:Concert
ATTACH;FMTTYPE=image/jpeg:https://saintpauldevence.org/wp-content/uploads/2021/05/Visuel_Festival-de-saint-paul-de-vence-classique-et-jazz_2021-scaled-e1623955971299.jpg
END:VEVENT
END:VCALENDAR