BEGIN:VCALENDAR
VERSION:2.0
PRODID:-//Saint-Paul-de-Vence - ECPv6.15.20//NONSGML v1.0//EN
CALSCALE:GREGORIAN
METHOD:PUBLISH
X-ORIGINAL-URL:https://saintpauldevence.org
X-WR-CALDESC:Évènements pour Saint-Paul-de-Vence
REFRESH-INTERVAL;VALUE=DURATION:PT1H
X-Robots-Tag:noindex
X-PUBLISHED-TTL:PT1H
BEGIN:VTIMEZONE
TZID:Europe/Paris
BEGIN:DAYLIGHT
TZOFFSETFROM:+0100
TZOFFSETTO:+0200
TZNAME:CEST
DTSTART:20210328T010000
END:DAYLIGHT
BEGIN:STANDARD
TZOFFSETFROM:+0200
TZOFFSETTO:+0100
TZNAME:CET
DTSTART:20211031T010000
END:STANDARD
BEGIN:DAYLIGHT
TZOFFSETFROM:+0100
TZOFFSETTO:+0200
TZNAME:CEST
DTSTART:20220327T010000
END:DAYLIGHT
BEGIN:STANDARD
TZOFFSETFROM:+0200
TZOFFSETTO:+0100
TZNAME:CET
DTSTART:20221030T010000
END:STANDARD
BEGIN:DAYLIGHT
TZOFFSETFROM:+0100
TZOFFSETTO:+0200
TZNAME:CEST
DTSTART:20230326T010000
END:DAYLIGHT
BEGIN:STANDARD
TZOFFSETFROM:+0200
TZOFFSETTO:+0100
TZNAME:CET
DTSTART:20231029T010000
END:STANDARD
BEGIN:DAYLIGHT
TZOFFSETFROM:+0100
TZOFFSETTO:+0200
TZNAME:CEST
DTSTART:20240331T010000
END:DAYLIGHT
BEGIN:STANDARD
TZOFFSETFROM:+0200
TZOFFSETTO:+0100
TZNAME:CET
DTSTART:20241027T010000
END:STANDARD
BEGIN:DAYLIGHT
TZOFFSETFROM:+0100
TZOFFSETTO:+0200
TZNAME:CEST
DTSTART:20250330T010000
END:DAYLIGHT
BEGIN:STANDARD
TZOFFSETFROM:+0200
TZOFFSETTO:+0100
TZNAME:CET
DTSTART:20251026T010000
END:STANDARD
END:VTIMEZONE
BEGIN:VEVENT
DTSTART;TZID=Europe/Paris:20240316T090000
DTEND;TZID=Europe/Paris:20240316T120000
DTSTAMP:20260421T185004
CREATED:20240112T144151Z
LAST-MODIFIED:20240123T091226Z
UID:10007890-1710579600-1710590400@saintpauldevence.org
SUMMARY:Forêt d'abondance : plantations
DESCRIPTION:Rendez-vous le samedi 16 mars de 9h à 12h pour aider l’association Agirrr à donner vie à la forêt d’abondance ! \nLe programme du jour : plantation des guildes. \nInformations et inscriptions auprès du service environnement : 04 93 32 41 22 / environnement@saint-pauldevence.fr
URL:https://saintpauldevence.org/agenda/foret-dabondance-plantations-3/
CATEGORIES:Environnement
ATTACH;FMTTYPE=image/jpeg:https://saintpauldevence.org/wp-content/uploads/2022/06/environmental-conservation-in-the-garden-for-children-scaled.jpg
END:VEVENT
BEGIN:VEVENT
DTSTART;TZID=Europe/Paris:20240224T090000
DTEND;TZID=Europe/Paris:20240224T120000
DTSTAMP:20260421T185004
CREATED:20240112T144008Z
LAST-MODIFIED:20240216T144030Z
UID:10007889-1708765200-1708776000@saintpauldevence.org
SUMMARY:Forêt d'abondance : plantations
DESCRIPTION:Rendez-vous le samedi 24 février de 9h à 12h pour aider l’association Agirrr à donner vie à la forêt d’abondance ! \nLe programme du jour : plantation des guildes. \nInformations et inscriptions auprès de Maria\, membre de l’association Agirrr :\n06 33 79 60 34 / mariacatalano@outlook.com
URL:https://saintpauldevence.org/agenda/foret-dabondance-plantations-2/
CATEGORIES:Environnement
ATTACH;FMTTYPE=image/jpeg:https://saintpauldevence.org/wp-content/uploads/2022/04/escargot_ABC-scaled.jpg
END:VEVENT
BEGIN:VEVENT
DTSTART;TZID=Europe/Paris:20240203T090000
DTEND;TZID=Europe/Paris:20240203T120000
DTSTAMP:20260421T185004
CREATED:20240112T143535Z
LAST-MODIFIED:20240112T143535Z
UID:10007888-1706950800-1706961600@saintpauldevence.org
SUMMARY:Forêt d'abondance : plantations
DESCRIPTION:Rendez-vous le samedi 3 février de 9h à 12h pour aider l’association Agirrr à donner vie à la forêt d’abondance ! \nLe programme du jour : préparation et renforcement des restanques (à l’aide de toile de jute) \nInformations et inscriptions auprès du service environnement : 04 93 32 41 22 / environnement@saint-pauldevence.fr
URL:https://saintpauldevence.org/agenda/foret-dabondance-plantations/
CATEGORIES:Environnement
ATTACH;FMTTYPE=image/jpeg:https://saintpauldevence.org/wp-content/uploads/2022/06/environmental-conservation-in-the-garden-for-children-scaled.jpg
END:VEVENT
BEGIN:VEVENT
DTSTART;TZID=Europe/Paris:20221211T130000
DTEND;TZID=Europe/Paris:20221211T170000
DTSTAMP:20260421T185004
CREATED:20221115T114057Z
LAST-MODIFIED:20221115T114057Z
UID:10000673-1670763600-1670778000@saintpauldevence.org
SUMMARY:Forêt d'abondance : plantations collectives
DESCRIPTION:Avis aux amoureux de la nature ! Si vous souhaitez prendre part à la création de la forêt d’abondance\, rendez-vous sous le rempart Est à l’une de ces dates pour venir aider les bénévoles : \n\nSamedi 12 novembre de 13h à 17h : broyat\, désherbage\, terrassement\nDimanche 20 novembre de 13h à 17h : broyat\, désherbage\, terrassement\nSamedi 26 novembre de 13h à 17h : premières plantations\nSamedi 3 décembre de 13h à 17h : plantations\nDimanche 11 décembre de 11h à 17h : plantations et clôture du travail de l’année\n\nInformations complémentaires :  \n\nAccès libre\nInformations et contact : Diane Van den Berge\, membre de l’association Agirrr : diane.vandenberge@gmail.com
URL:https://saintpauldevence.org/agenda/foret-dabondance-plantations-collectives/2022-12-11/
LOCATION:Rempart Est\, Saint-Paul-de-Vence\, France
CATEGORIES:Atelier
ATTACH;FMTTYPE=image/jpeg:https://saintpauldevence.org/wp-content/uploads/2022/06/environmental-conservation-in-the-garden-for-children-scaled.jpg
END:VEVENT
BEGIN:VEVENT
DTSTART;TZID=Europe/Paris:20221203T130000
DTEND;TZID=Europe/Paris:20221203T170000
DTSTAMP:20260421T185004
CREATED:20221115T114057Z
LAST-MODIFIED:20221115T114057Z
UID:10000672-1670072400-1670086800@saintpauldevence.org
SUMMARY:Forêt d'abondance : plantations collectives
DESCRIPTION:Avis aux amoureux de la nature ! Si vous souhaitez prendre part à la création de la forêt d’abondance\, rendez-vous sous le rempart Est à l’une de ces dates pour venir aider les bénévoles : \n\nSamedi 12 novembre de 13h à 17h : broyat\, désherbage\, terrassement\nDimanche 20 novembre de 13h à 17h : broyat\, désherbage\, terrassement\nSamedi 26 novembre de 13h à 17h : premières plantations\nSamedi 3 décembre de 13h à 17h : plantations\nDimanche 11 décembre de 11h à 17h : plantations et clôture du travail de l’année\n\nInformations complémentaires :  \n\nAccès libre\nInformations et contact : Diane Van den Berge\, membre de l’association Agirrr : diane.vandenberge@gmail.com
URL:https://saintpauldevence.org/agenda/foret-dabondance-plantations-collectives/2022-12-03/
LOCATION:Rempart Est\, Saint-Paul-de-Vence\, France
CATEGORIES:Atelier
ATTACH;FMTTYPE=image/jpeg:https://saintpauldevence.org/wp-content/uploads/2022/06/environmental-conservation-in-the-garden-for-children-scaled.jpg
END:VEVENT
BEGIN:VEVENT
DTSTART;TZID=Europe/Paris:20221126T130000
DTEND;TZID=Europe/Paris:20221126T170000
DTSTAMP:20260421T185004
CREATED:20221115T114057Z
LAST-MODIFIED:20221115T114057Z
UID:10000671-1669467600-1669482000@saintpauldevence.org
SUMMARY:Forêt d'abondance : plantations collectives
DESCRIPTION:Avis aux amoureux de la nature ! Si vous souhaitez prendre part à la création de la forêt d’abondance\, rendez-vous sous le rempart Est à l’une de ces dates pour venir aider les bénévoles : \n\nSamedi 12 novembre de 13h à 17h : broyat\, désherbage\, terrassement\nDimanche 20 novembre de 13h à 17h : broyat\, désherbage\, terrassement\nSamedi 26 novembre de 13h à 17h : premières plantations\nSamedi 3 décembre de 13h à 17h : plantations\nDimanche 11 décembre de 11h à 17h : plantations et clôture du travail de l’année\n\nInformations complémentaires :  \n\nAccès libre\nInformations et contact : Diane Van den Berge\, membre de l’association Agirrr : diane.vandenberge@gmail.com
URL:https://saintpauldevence.org/agenda/foret-dabondance-plantations-collectives/2022-11-26/
LOCATION:Rempart Est\, Saint-Paul-de-Vence\, France
CATEGORIES:Atelier
ATTACH;FMTTYPE=image/jpeg:https://saintpauldevence.org/wp-content/uploads/2022/06/environmental-conservation-in-the-garden-for-children-scaled.jpg
END:VEVENT
BEGIN:VEVENT
DTSTART;TZID=Europe/Paris:20221120T130000
DTEND;TZID=Europe/Paris:20221120T170000
DTSTAMP:20260421T185004
CREATED:20221115T114057Z
LAST-MODIFIED:20221115T114057Z
UID:10000670-1668949200-1668963600@saintpauldevence.org
SUMMARY:Forêt d'abondance : plantations collectives
DESCRIPTION:Avis aux amoureux de la nature ! Si vous souhaitez prendre part à la création de la forêt d’abondance\, rendez-vous sous le rempart Est à l’une de ces dates pour venir aider les bénévoles : \n\nSamedi 12 novembre de 13h à 17h : broyat\, désherbage\, terrassement\nDimanche 20 novembre de 13h à 17h : broyat\, désherbage\, terrassement\nSamedi 26 novembre de 13h à 17h : premières plantations\nSamedi 3 décembre de 13h à 17h : plantations\nDimanche 11 décembre de 11h à 17h : plantations et clôture du travail de l’année\n\nInformations complémentaires :  \n\nAccès libre\nInformations et contact : Diane Van den Berge\, membre de l’association Agirrr : diane.vandenberge@gmail.com
URL:https://saintpauldevence.org/agenda/foret-dabondance-plantations-collectives/2022-11-20/
LOCATION:Rempart Est\, Saint-Paul-de-Vence\, France
CATEGORIES:Atelier
ATTACH;FMTTYPE=image/jpeg:https://saintpauldevence.org/wp-content/uploads/2022/06/environmental-conservation-in-the-garden-for-children-scaled.jpg
END:VEVENT
END:VCALENDAR