BEGIN:VCALENDAR
VERSION:2.0
PRODID:-//Saint-Paul-de-Vence - ECPv6.15.20//NONSGML v1.0//EN
CALSCALE:GREGORIAN
METHOD:PUBLISH
X-WR-CALNAME:Saint-Paul-de-Vence
X-ORIGINAL-URL:https://saintpauldevence.org
X-WR-CALDESC:Évènements pour Saint-Paul-de-Vence
REFRESH-INTERVAL;VALUE=DURATION:PT1H
X-Robots-Tag:noindex
X-PUBLISHED-TTL:PT1H
BEGIN:VTIMEZONE
TZID:Europe/Paris
BEGIN:DAYLIGHT
TZOFFSETFROM:+0100
TZOFFSETTO:+0200
TZNAME:CEST
DTSTART:20250330T010000
END:DAYLIGHT
BEGIN:STANDARD
TZOFFSETFROM:+0200
TZOFFSETTO:+0100
TZNAME:CET
DTSTART:20251026T010000
END:STANDARD
BEGIN:DAYLIGHT
TZOFFSETFROM:+0100
TZOFFSETTO:+0200
TZNAME:CEST
DTSTART:20260329T010000
END:DAYLIGHT
BEGIN:STANDARD
TZOFFSETFROM:+0200
TZOFFSETTO:+0100
TZNAME:CET
DTSTART:20261025T010000
END:STANDARD
BEGIN:DAYLIGHT
TZOFFSETFROM:+0100
TZOFFSETTO:+0200
TZNAME:CEST
DTSTART:20270328T010000
END:DAYLIGHT
BEGIN:STANDARD
TZOFFSETFROM:+0200
TZOFFSETTO:+0100
TZNAME:CET
DTSTART:20271031T010000
END:STANDARD
END:VTIMEZONE
BEGIN:VEVENT
DTSTART;TZID=Europe/Paris:20260427T090000
DTEND;TZID=Europe/Paris:20260427T160000
DTSTAMP:20260421T012245
CREATED:20260327T082420Z
LAST-MODIFIED:20260327T082420Z
UID:10015047-1777280400-1777305600@saintpauldevence.org
SUMMARY:Permanences SUEZ
DESCRIPTION:Vous avez des questions concernant votre facture d’eau ou faire le point sur votre situation ? SUEZ organise deux permanences pour vous accompagner et répondre à vos questions ! \nRendez-vous les lundi 27 et mardi 28 avril 2026 de 9h à 16h en Mairie principale (rez-de-chaussée). \nInformations pratiques :\n-Accueil sans rendez-vous
URL:https://saintpauldevence.org/agenda/permanences-suez/2026-04-27/
LOCATION:Place de la Mairie
ATTACH;FMTTYPE=image/jpeg:https://saintpauldevence.org/wp-content/uploads/2019/04/drops-of-water-578897_1280.jpg
END:VEVENT
BEGIN:VEVENT
DTSTART;TZID=Europe/Paris:20260428T090000
DTEND;TZID=Europe/Paris:20260428T160000
DTSTAMP:20260421T012245
CREATED:20260327T082420Z
LAST-MODIFIED:20260327T082420Z
UID:10015048-1777366800-1777392000@saintpauldevence.org
SUMMARY:Permanences SUEZ
DESCRIPTION:Vous avez des questions concernant votre facture d’eau ou faire le point sur votre situation ? SUEZ organise deux permanences pour vous accompagner et répondre à vos questions ! \nRendez-vous les lundi 27 et mardi 28 avril 2026 de 9h à 16h en Mairie principale (rez-de-chaussée). \nInformations pratiques :\n-Accueil sans rendez-vous
URL:https://saintpauldevence.org/agenda/permanences-suez/2026-04-28/
LOCATION:Place de la Mairie
ATTACH;FMTTYPE=image/jpeg:https://saintpauldevence.org/wp-content/uploads/2019/04/drops-of-water-578897_1280.jpg
END:VEVENT
BEGIN:VEVENT
DTSTART;TZID=Europe/Paris:20260523T190000
DTEND;TZID=Europe/Paris:20260523T233000
DTSTAMP:20260421T012245
CREATED:20260409T134112Z
LAST-MODIFIED:20260409T134112Z
UID:10015058-1779562800-1779579000@saintpauldevence.org
SUMMARY:Fête de l’huile 
DESCRIPTION:L’association des donneurs de sang de Saint-Paul-de-Vence vous invite à célébrer la fête de l’huile ! Cette fête traditionnelle sera rythmée par la dégustation de la brissaouda* et de la musique. Ambiance joyeuse garantie ! \nAlors rendez-vous le samedi 23 mai 2026 de 19h à minuit sur la place de la mairie avec votre plus belle énergie. \nInformations pratiques :\n-Entrée libre \n*Pain à base d’ail et d’huile d’olive – servi en général avec de la charcuterie crue.
URL:https://saintpauldevence.org/agenda/fete-de-lhuile-4/
LOCATION:Place de la Mairie
ATTACH;FMTTYPE=image/jpeg:https://saintpauldevence.org/wp-content/uploads/2026/04/20240525_214110-scaled.jpg
END:VEVENT
BEGIN:VEVENT
DTSTART;TZID=Europe/Paris:20260601T090000
DTEND;TZID=Europe/Paris:20260601T123000
DTSTAMP:20260421T012245
CREATED:20240206T124757Z
LAST-MODIFIED:20260413T115340Z
UID:10015013-1780304400-1780317000@saintpauldevence.org
SUMMARY:Permanence : mutuelle communale
DESCRIPTION:[vc_row][vc_column][vc_column_text css= » »]Dans le cadre de la mise en place de la mutuelle communale\, des permanences gratuites sont organisées afin de répondre à vos questions ! \nSur rendez-vous tous 1er lundis du mois de 9h à 12h30 en mairie principale (au rez-de-chaussée). \nPour rappel\, cette solution de santé mutualisé a pour objectif d’offrir une couverture de soin optimale à tous sans condition de ressources. \nInformations pratiques : \n\nInscriptions auprès de votre conseiller mutualiste : 04 92 90 70 60. Vous pouvez également effectuer vos demandes auprès du CCAS : ccas@saint-pauldevence.fr ou 04 93 32 41 12\nEn partenariat avec la Mutuelle Familiale et le CCAS\nPlus d’infos sur www.saintpauldevence.org/mutuelle-communale\n\n[/vc_column_text][/vc_column][/vc_row]
URL:https://saintpauldevence.org/agenda/permanences-mutuelle-communale/2026-06-01/
LOCATION:Place de la Mairie
ATTACH;FMTTYPE=image/png:https://saintpauldevence.org/wp-content/uploads/2024/02/Mutuelle-communale-permanences-SPDV.png
END:VEVENT
BEGIN:VEVENT
DTSTART;TZID=Europe/Paris:20260706T090000
DTEND;TZID=Europe/Paris:20260706T123000
DTSTAMP:20260421T012245
CREATED:20240206T124757Z
LAST-MODIFIED:20260413T115340Z
UID:10015006-1783328400-1783341000@saintpauldevence.org
SUMMARY:Permanence : mutuelle communale
DESCRIPTION:[vc_row][vc_column][vc_column_text css= » »]Dans le cadre de la mise en place de la mutuelle communale\, des permanences gratuites sont organisées afin de répondre à vos questions ! \nSur rendez-vous tous 1er lundis du mois de 9h à 12h30 en mairie principale (au rez-de-chaussée). \nPour rappel\, cette solution de santé mutualisé a pour objectif d’offrir une couverture de soin optimale à tous sans condition de ressources. \nInformations pratiques : \n\nInscriptions auprès de votre conseiller mutualiste : 04 92 90 70 60. Vous pouvez également effectuer vos demandes auprès du CCAS : ccas@saint-pauldevence.fr ou 04 93 32 41 12\nEn partenariat avec la Mutuelle Familiale et le CCAS\nPlus d’infos sur www.saintpauldevence.org/mutuelle-communale\n\n[/vc_column_text][/vc_column][/vc_row]
URL:https://saintpauldevence.org/agenda/permanences-mutuelle-communale/2026-07-06/
LOCATION:Place de la Mairie
ATTACH;FMTTYPE=image/png:https://saintpauldevence.org/wp-content/uploads/2024/02/Mutuelle-communale-permanences-SPDV.png
END:VEVENT
END:VCALENDAR