BEGIN:VCALENDAR
VERSION:2.0
PRODID:-//Saint-Paul-de-Vence - ECPv6.15.20//NONSGML v1.0//EN
CALSCALE:GREGORIAN
METHOD:PUBLISH
X-WR-CALNAME:Saint-Paul-de-Vence
X-ORIGINAL-URL:https://saintpauldevence.org
X-WR-CALDESC:Évènements pour Saint-Paul-de-Vence
REFRESH-INTERVAL;VALUE=DURATION:PT1H
X-Robots-Tag:noindex
X-PUBLISHED-TTL:PT1H
BEGIN:VTIMEZONE
TZID:Europe/Paris
BEGIN:DAYLIGHT
TZOFFSETFROM:+0100
TZOFFSETTO:+0200
TZNAME:CEST
DTSTART:20250330T010000
END:DAYLIGHT
BEGIN:STANDARD
TZOFFSETFROM:+0200
TZOFFSETTO:+0100
TZNAME:CET
DTSTART:20251026T010000
END:STANDARD
BEGIN:DAYLIGHT
TZOFFSETFROM:+0100
TZOFFSETTO:+0200
TZNAME:CEST
DTSTART:20260329T010000
END:DAYLIGHT
BEGIN:STANDARD
TZOFFSETFROM:+0200
TZOFFSETTO:+0100
TZNAME:CET
DTSTART:20261025T010000
END:STANDARD
BEGIN:DAYLIGHT
TZOFFSETFROM:+0100
TZOFFSETTO:+0200
TZNAME:CEST
DTSTART:20270328T010000
END:DAYLIGHT
BEGIN:STANDARD
TZOFFSETFROM:+0200
TZOFFSETTO:+0100
TZNAME:CET
DTSTART:20271031T010000
END:STANDARD
END:VTIMEZONE
BEGIN:VEVENT
DTSTART;TZID=Europe/Paris:20260424T100000
DTEND;TZID=Europe/Paris:20260424T110000
DTSTAMP:20260420T131522
CREATED:20240626T103156Z
LAST-MODIFIED:20260212T094546Z
UID:10014513-1777024800-1777028400@saintpauldevence.org
SUMMARY:Séance "Bébés lecteurs"
DESCRIPTION:[vc_row][vc_column][vc_column_text css= » »]Avis aux parents\, assistant(e)s maternel(le)s\, votre enfant aime lire ? La médiathèque vous propose un programme d’éveil à la lecture à destination des tout-petits comprenant des histoires\, des comptines lors de la séance « Bébés lecteurs » ! \nInformations pratiques : \n\nDe 10h à 11h\nGratuit\nInscription auprès de la médiathèque : 04 93 32 41 70 / mediatheque@saint-pauldevence.fr\n\n[/vc_column_text][/vc_column][/vc_row]
URL:https://saintpauldevence.org/agenda/seance-bebes-lecteurs-2/2026-04-24/
LOCATION:Médiathèque
ATTACH;FMTTYPE=image/jpeg:https://saintpauldevence.org/wp-content/uploads/2021/08/Bebes-lecteurs-2021-scaled.jpg
END:VEVENT
BEGIN:VEVENT
DTSTART;TZID=Europe/Paris:20260529T100000
DTEND;TZID=Europe/Paris:20260529T110000
DTSTAMP:20260420T131522
CREATED:20240626T103156Z
LAST-MODIFIED:20260212T094546Z
UID:10014514-1780048800-1780052400@saintpauldevence.org
SUMMARY:Séance "Bébés lecteurs"
DESCRIPTION:[vc_row][vc_column][vc_column_text css= » »]Avis aux parents\, assistant(e)s maternel(le)s\, votre enfant aime lire ? La médiathèque vous propose un programme d’éveil à la lecture à destination des tout-petits comprenant des histoires\, des comptines lors de la séance « Bébés lecteurs » ! \nInformations pratiques : \n\nDe 10h à 11h\nGratuit\nInscription auprès de la médiathèque : 04 93 32 41 70 / mediatheque@saint-pauldevence.fr\n\n[/vc_column_text][/vc_column][/vc_row]
URL:https://saintpauldevence.org/agenda/seance-bebes-lecteurs-2/2026-05-29/
LOCATION:Médiathèque
ATTACH;FMTTYPE=image/jpeg:https://saintpauldevence.org/wp-content/uploads/2021/08/Bebes-lecteurs-2021-scaled.jpg
END:VEVENT
BEGIN:VEVENT
DTSTART;TZID=Europe/Paris:20260626T100000
DTEND;TZID=Europe/Paris:20260626T110000
DTSTAMP:20260420T131522
CREATED:20240626T103156Z
LAST-MODIFIED:20260212T094546Z
UID:10014515-1782468000-1782471600@saintpauldevence.org
SUMMARY:Séance "Bébés lecteurs"
DESCRIPTION:[vc_row][vc_column][vc_column_text css= » »]Avis aux parents\, assistant(e)s maternel(le)s\, votre enfant aime lire ? La médiathèque vous propose un programme d’éveil à la lecture à destination des tout-petits comprenant des histoires\, des comptines lors de la séance « Bébés lecteurs » ! \nInformations pratiques : \n\nDe 10h à 11h\nGratuit\nInscription auprès de la médiathèque : 04 93 32 41 70 / mediatheque@saint-pauldevence.fr\n\n[/vc_column_text][/vc_column][/vc_row]
URL:https://saintpauldevence.org/agenda/seance-bebes-lecteurs-2/2026-06-26/
LOCATION:Médiathèque
ATTACH;FMTTYPE=image/jpeg:https://saintpauldevence.org/wp-content/uploads/2021/08/Bebes-lecteurs-2021-scaled.jpg
END:VEVENT
END:VCALENDAR