BEGIN:VCALENDAR
VERSION:2.0
PRODID:-//Saint-Paul-de-Vence - ECPv6.15.20//NONSGML v1.0//EN
CALSCALE:GREGORIAN
METHOD:PUBLISH
X-ORIGINAL-URL:https://saintpauldevence.org
X-WR-CALDESC:Évènements pour Saint-Paul-de-Vence
REFRESH-INTERVAL;VALUE=DURATION:PT1H
X-Robots-Tag:noindex
X-PUBLISHED-TTL:PT1H
BEGIN:VTIMEZONE
TZID:Europe/Paris
BEGIN:DAYLIGHT
TZOFFSETFROM:+0100
TZOFFSETTO:+0200
TZNAME:CEST
DTSTART:20250330T010000
END:DAYLIGHT
BEGIN:STANDARD
TZOFFSETFROM:+0200
TZOFFSETTO:+0100
TZNAME:CET
DTSTART:20251026T010000
END:STANDARD
BEGIN:DAYLIGHT
TZOFFSETFROM:+0100
TZOFFSETTO:+0200
TZNAME:CEST
DTSTART:20260329T010000
END:DAYLIGHT
BEGIN:STANDARD
TZOFFSETFROM:+0200
TZOFFSETTO:+0100
TZNAME:CET
DTSTART:20261025T010000
END:STANDARD
BEGIN:DAYLIGHT
TZOFFSETFROM:+0100
TZOFFSETTO:+0200
TZNAME:CEST
DTSTART:20270328T010000
END:DAYLIGHT
BEGIN:STANDARD
TZOFFSETFROM:+0200
TZOFFSETTO:+0100
TZNAME:CET
DTSTART:20271031T010000
END:STANDARD
END:VTIMEZONE
BEGIN:VEVENT
DTSTART;TZID=Europe/Paris:20260204T100000
DTEND;TZID=Europe/Paris:20260225T180000
DTSTAMP:20260420T230031
CREATED:20260120T084310Z
LAST-MODIFIED:20260120T084310Z
UID:10015015-1770199200-1772042400@saintpauldevence.org
SUMMARY:Micro-Folie : programme de février
DESCRIPTION:Tous les mois\, la Micro-Folie de Saint-Paul-de-Vence vous propose de découvrir l’art autrement ! Ateliers\, expositions\, collections des plus grands musées nationaux et internationaux…venez vivre une expérience culturelle immersive unique ! À l’aide de tablettes ou d’écrans tactiles\, plongez dans des œuvres d’art et découvrez les détails d’une œuvre\, l’histoire de l’artiste… \nDécouvrez le programme du mois de février :  \nMusée numérique\nMercredi 4 février : Collection Nationale 3\nMercredi 11 février : Collection Notre-Dame-de-Paris\nMercredi 18 février : Sélection Mardi-Gras et Carnaval\nMercredi 25 février : Collection Paris \n> Gratuit et en accès libre. \nL’atelier du mois\nSamedi 7 février de 14h à 16h : Atelier Micro-Folie « Inspirations et créations de Mardi Gras » avec fabrication de masque  \nAfin de célébrer le premier jour du Carnaval de Venise\, plongez dans l’univers passionnant et l’histoire de cette fête emblématique à travers un atelier créatif dédié à la préparation du carnaval. Les participants découvriront l’origine et les coutumes du carnaval avant de créer leur propre masque. \nOuvert à tous à partir de 8 ans (les mineurs doivent être accompagnés) \n> Gratuit et sur inscription : micro-folie@saint-pauldevence.fr \n—————————————————————– \nInformations complémentaires : 04 93 32 41 70
URL:https://saintpauldevence.org/agenda/micro-folie-programme-de-fevrier/
ATTACH;FMTTYPE=image/jpeg:https://saintpauldevence.org/wp-content/uploads/2026/01/Lancement-de-la-Collection-Notre-Dame-de-Paris-7-©-Lucile-Casanova-scaled.jpg
END:VEVENT
BEGIN:VEVENT
DTSTART;TZID=Europe/Paris:20260216T090000
DTEND;TZID=Europe/Paris:20260216T100000
DTSTAMP:20260420T230031
CREATED:20250415T134057Z
LAST-MODIFIED:20250415T141111Z
UID:10013523-1771232400-1771236000@saintpauldevence.org
SUMMARY:Séances gymnastique douce pour séniors
DESCRIPTION:Dans le cadre des séances de remise en forme proposé par le CCAS de Saint-Paul-de-Vence\, venez participer à l’atelier de gymnastique douce à l’auditorium tous les lundis de 9h à 10h toute l’année (hors période estivale) ! \nInformations pratiques : \n\nTarif : 60€/trimestre pour un cours et 110€/trimestre pour les 2 cours\nInscriptions auprès du CCAS : 04 93  32 41 12 / ccas@saint-pauldevence.fr
URL:https://saintpauldevence.org/agenda/seances-gymnastique-douce-pour-seniors/2026-02-16/
LOCATION:Auditorium\, 150 Rte des Serres\, Saint-Paul-de-Vence\, 06570\, France
ATTACH;FMTTYPE=image/jpeg:https://saintpauldevence.org/wp-content/uploads/2020/09/Ateliers-seniors_gym-et-equilibre_SPDV_2020-e1631189624738.jpg
GEO:43.698886784084;7.1200623819271
X-APPLE-STRUCTURED-LOCATION;VALUE=URI;X-ADDRESS=Auditorium 150 Rte des Serres Saint-Paul-de-Vence 06570 France;X-APPLE-RADIUS=500;X-TITLE=150 Rte des Serres:geo:7.1200623819271,43.698886784084
END:VEVENT
BEGIN:VEVENT
DTSTART;TZID=Europe/Paris:20260218T083000
DTEND;TZID=Europe/Paris:20260218T093000
DTSTAMP:20260420T230031
CREATED:20250416T113907Z
LAST-MODIFIED:20250917T100415Z
UID:10014569-1771403400-1771407000@saintpauldevence.org
SUMMARY:Séances d’équilibre pour séniors
DESCRIPTION:[vc_row][vc_column][vc_column_text css= » »]Dans le cadre des séances de remise en forme proposées par le CCAS de Saint-Paul-de-Vence\, venez participer à l’atelier « d’équilibre » à l’auditorium tous les mercredis de 8h30 à 9h30 toute l’année (hors période estivale) ! \nInformations pratiques : \n\nTarif : 60€/trimestre pour un cours et 110€/trimestre pour les 2 cours\nInscriptions auprès du CCAS : 04 93  32 41 12 / ccas@saint-pauldevence.fr\n\n[/vc_column_text][/vc_column][/vc_row]
URL:https://saintpauldevence.org/agenda/seances-dequilibre-pour-seniors/2026-02-18/
LOCATION:Auditorium\, 150 Rte des Serres\, Saint-Paul-de-Vence\, 06570\, France
ATTACH;FMTTYPE=image/jpeg:https://saintpauldevence.org/wp-content/uploads/2025/04/woman-doing-gymnastics-exercises-scaled.jpg
GEO:43.698886784084;7.1200623819271
X-APPLE-STRUCTURED-LOCATION;VALUE=URI;X-ADDRESS=Auditorium 150 Rte des Serres Saint-Paul-de-Vence 06570 France;X-APPLE-RADIUS=500;X-TITLE=150 Rte des Serres:geo:7.1200623819271,43.698886784084
END:VEVENT
BEGIN:VEVENT
DTSTART;TZID=Europe/Paris:20260218T090000
DTEND;TZID=Europe/Paris:20260218T140000
DTSTAMP:20260420T230031
CREATED:20240411T081217Z
LAST-MODIFIED:20250926T072516Z
UID:10012668-1771405200-1771423200@saintpauldevence.org
SUMMARY:Marché des producteurs
DESCRIPTION:Le marché des petits producteurs se tient régulièrement les mercredis et les vendredis sur la Place De Gaulle. \nVenez découvrir les spécialités locales\, mais aussi de délicieux produits issus du terroir.
URL:https://saintpauldevence.org/agenda/marche-petits-producteurs/2026-02-18/
LOCATION:Place de Gaulle\, Saint-Paul-de-Vence\, France
CATEGORIES:Marché
ATTACH;FMTTYPE=image/jpeg:https://saintpauldevence.org/wp-content/uploads/2021/04/marche-1-scaled-e1712823050881.jpg
END:VEVENT
BEGIN:VEVENT
DTSTART;TZID=Europe/Paris:20260219T140000
DTEND;TZID=Europe/Paris:20260304T190000
DTSTAMP:20260420T230031
CREATED:20260119T124904Z
LAST-MODIFIED:20260119T124904Z
UID:10015007-1771509600-1772650800@saintpauldevence.org
SUMMARY:Exposition “Résultats alchimiques d'impressions végétales”
DESCRIPTION:Du jeudi 19 février au mercredi 4 mars 2026\, le Cercle des Artistes de Saint-Paul-de-Vence vous propose de découvrir l’exposition “Résultats alchimiques d’impressions végétales” de Jan Guérin alias Sarrayan à la Vieille Forge. \nA propos de l’artiste : \nLa découverte de la technique des impressions végétales marque un tournant artistique insoupçonné pour l’artiste. Il perfectionne la technique et les découvertes à chaque série réalisée. Les feuilles d’arbre\, le lichen\, les plantes sèches et les pétales de fleurs constituent sa matière première\, auxquels s’ajoutent des pigments naturels. Il finalise son travail par une étape alchimique\, et le résultat est là\, prêt à être révélé. \nInformations pratiques :\n– Vernissage le samedi 21 février 2026 à 14h à la Vieille Forge\n– Entrée libre
URL:https://saintpauldevence.org/agenda/exposition-resultats-alchimiques-dimpressions-vegetales/
LOCATION:La Vieille Forge
ATTACH;FMTTYPE=image/jpeg:https://saintpauldevence.org/wp-content/uploads/2026/01/Visuel-expo-cercle-des-artistes-SPDV_Resultats-alchimiques-scaled.jpg
END:VEVENT
BEGIN:VEVENT
DTSTART;TZID=Europe/Paris:20260220T090000
DTEND;TZID=Europe/Paris:20260220T140000
DTSTAMP:20260420T230031
CREATED:20240411T081217Z
LAST-MODIFIED:20250926T072516Z
UID:10012669-1771578000-1771596000@saintpauldevence.org
SUMMARY:Marché des producteurs
DESCRIPTION:Le marché des petits producteurs se tient régulièrement les mercredis et les vendredis sur la Place De Gaulle. \nVenez découvrir les spécialités locales\, mais aussi de délicieux produits issus du terroir.
URL:https://saintpauldevence.org/agenda/marche-petits-producteurs/2026-02-20/
LOCATION:Place de Gaulle\, Saint-Paul-de-Vence\, France
CATEGORIES:Marché
ATTACH;FMTTYPE=image/jpeg:https://saintpauldevence.org/wp-content/uploads/2021/04/marche-1-scaled-e1712823050881.jpg
END:VEVENT
END:VCALENDAR