BEGIN:VCALENDAR
VERSION:2.0
PRODID:-//Saint-Paul-de-Vence - ECPv6.15.20//NONSGML v1.0//EN
CALSCALE:GREGORIAN
METHOD:PUBLISH
X-WR-CALNAME:Saint-Paul-de-Vence
X-ORIGINAL-URL:https://saintpauldevence.org
X-WR-CALDESC:Évènements pour Saint-Paul-de-Vence
REFRESH-INTERVAL;VALUE=DURATION:PT1H
X-Robots-Tag:noindex
X-PUBLISHED-TTL:PT1H
BEGIN:VTIMEZONE
TZID:Europe/Paris
BEGIN:DAYLIGHT
TZOFFSETFROM:+0100
TZOFFSETTO:+0200
TZNAME:CEST
DTSTART:20240331T010000
END:DAYLIGHT
BEGIN:STANDARD
TZOFFSETFROM:+0200
TZOFFSETTO:+0100
TZNAME:CET
DTSTART:20241027T010000
END:STANDARD
BEGIN:DAYLIGHT
TZOFFSETFROM:+0100
TZOFFSETTO:+0200
TZNAME:CEST
DTSTART:20250330T010000
END:DAYLIGHT
BEGIN:STANDARD
TZOFFSETFROM:+0200
TZOFFSETTO:+0100
TZNAME:CET
DTSTART:20251026T010000
END:STANDARD
BEGIN:DAYLIGHT
TZOFFSETFROM:+0100
TZOFFSETTO:+0200
TZNAME:CEST
DTSTART:20260329T010000
END:DAYLIGHT
BEGIN:STANDARD
TZOFFSETFROM:+0200
TZOFFSETTO:+0100
TZNAME:CET
DTSTART:20261025T010000
END:STANDARD
BEGIN:DAYLIGHT
TZOFFSETFROM:+0100
TZOFFSETTO:+0200
TZNAME:CEST
DTSTART:20270328T010000
END:DAYLIGHT
BEGIN:STANDARD
TZOFFSETFROM:+0200
TZOFFSETTO:+0100
TZNAME:CET
DTSTART:20271031T010000
END:STANDARD
END:VTIMEZONE
BEGIN:VEVENT
DTSTART;TZID=Europe/Paris:20251223T100000
DTEND;TZID=Europe/Paris:20260131T190000
DTSTAMP:20260420T225826
CREATED:20251103T135222Z
LAST-MODIFIED:20251103T135222Z
UID:10014949-1766484000-1769886000@saintpauldevence.org
SUMMARY:Exposition collective “Ombre et lumière”
DESCRIPTION:Du 23 décembre 2025 au 31 janvier 2026\, le Cercle des Artistes de Saint-Paul-de-Vence vous propose de découvrir leur nouvelle exposition collective « Ombre et lumière ».  \nRendez-vous pour le vernissage le samedi 3 janvier 2026 à 18h à la vieille forge. \nInformations pratiques :\n-Entrée libre
URL:https://saintpauldevence.org/agenda/exposition-collective-ombre-et-lumiere/
LOCATION:La Vieille Forge
ATTACH;FMTTYPE=image/png:https://saintpauldevence.org/wp-content/uploads/2024/05/Exposition.png
END:VEVENT
BEGIN:VEVENT
DTSTART;TZID=Europe/Paris:20260107T100000
DTEND;TZID=Europe/Paris:20260128T180000
DTSTAMP:20260420T225826
CREATED:20260120T084112Z
LAST-MODIFIED:20260120T084326Z
UID:10015014-1767780000-1769623200@saintpauldevence.org
SUMMARY:Micro-Folie : programme de janvier
DESCRIPTION:Tous les mois\, la Micro-Folie de Saint-Paul-de-Vence vous propose de découvrir l’art autrement ! Ateliers\, expositions\, collections des plus grands musées nationaux et internationaux…venez vivre une expérience culturelle immersive unique ! À l’aide de tablettes ou d’écrans tactiles\, plongez dans des œuvres d’art et découvrez les détails d’une œuvre\, l’histoire de l’artiste… \nDécouvrez le programme du mois de janvier:  \nMusée numérique\nMercredi 7 janvier : Collection Résidences royales et européennes\nMercredi 14 janvier : Collection Mexico\nMercredi 21 janvier : Collection Auvergne-Rhône-Alpes\nMercredi 28 janvier : Collection Normandie \n> Gratuit et en accès libre. \nL’atelier du mois\nMercredi 28 janvier de 14h à 16h : Atelier Micro-Folie spécial « Festival International de la Bande Dessinée d’Angoulême » \nPlongez dans l’univers de la bande dessinée en découvrant des œuvres d’art issues du catalogue Micro-Folie et en créant votre propre planche ! Après la découverte d’œuvres\, les créations seront imprimées et enrichies de bulles dans lesquelles enfants et adultes imagineront et écriront leurs propres dialogues. Un atelier ouvert à tous\, pour laisser libre cours à l’imagination.\nOuvert à tous à partir de 6 ans (les mineurs doivent être accompagnés) \n> Gratuit et sur inscription : micro-folie@saint-pauldevence.fr \n—————————————————————– \nInformations complémentaires : 04 93 32 41 70
URL:https://saintpauldevence.org/agenda/micro-folie-programme-de-janvier/
LOCATION:Médiathèque
ATTACH;FMTTYPE=image/png:https://saintpauldevence.org/wp-content/uploads/2026/01/Micro-Folie-SPDV_collection-Normandie.png
END:VEVENT
BEGIN:VEVENT
DTSTART;TZID=Europe/Paris:20260126T090000
DTEND;TZID=Europe/Paris:20260126T100000
DTSTAMP:20260420T225826
CREATED:20250415T134057Z
LAST-MODIFIED:20250415T141111Z
UID:10013520-1769418000-1769421600@saintpauldevence.org
SUMMARY:Séances gymnastique douce pour séniors
DESCRIPTION:Dans le cadre des séances de remise en forme proposé par le CCAS de Saint-Paul-de-Vence\, venez participer à l’atelier de gymnastique douce à l’auditorium tous les lundis de 9h à 10h toute l’année (hors période estivale) ! \nInformations pratiques : \n\nTarif : 60€/trimestre pour un cours et 110€/trimestre pour les 2 cours\nInscriptions auprès du CCAS : 04 93  32 41 12 / ccas@saint-pauldevence.fr
URL:https://saintpauldevence.org/agenda/seances-gymnastique-douce-pour-seniors/2026-01-26/
LOCATION:Auditorium\, 150 Rte des Serres\, Saint-Paul-de-Vence\, 06570\, France
ATTACH;FMTTYPE=image/jpeg:https://saintpauldevence.org/wp-content/uploads/2020/09/Ateliers-seniors_gym-et-equilibre_SPDV_2020-e1631189624738.jpg
GEO:43.698886784084;7.1200623819271
X-APPLE-STRUCTURED-LOCATION;VALUE=URI;X-ADDRESS=Auditorium 150 Rte des Serres Saint-Paul-de-Vence 06570 France;X-APPLE-RADIUS=500;X-TITLE=150 Rte des Serres:geo:7.1200623819271,43.698886784084
END:VEVENT
BEGIN:VEVENT
DTSTART;TZID=Europe/Paris:20260128T083000
DTEND;TZID=Europe/Paris:20260128T093000
DTSTAMP:20260420T225826
CREATED:20250416T113907Z
LAST-MODIFIED:20250917T100415Z
UID:10014566-1769589000-1769592600@saintpauldevence.org
SUMMARY:Séances d’équilibre pour séniors
DESCRIPTION:[vc_row][vc_column][vc_column_text css= » »]Dans le cadre des séances de remise en forme proposées par le CCAS de Saint-Paul-de-Vence\, venez participer à l’atelier « d’équilibre » à l’auditorium tous les mercredis de 8h30 à 9h30 toute l’année (hors période estivale) ! \nInformations pratiques : \n\nTarif : 60€/trimestre pour un cours et 110€/trimestre pour les 2 cours\nInscriptions auprès du CCAS : 04 93  32 41 12 / ccas@saint-pauldevence.fr\n\n[/vc_column_text][/vc_column][/vc_row]
URL:https://saintpauldevence.org/agenda/seances-dequilibre-pour-seniors/2026-01-28/
LOCATION:Auditorium\, 150 Rte des Serres\, Saint-Paul-de-Vence\, 06570\, France
ATTACH;FMTTYPE=image/jpeg:https://saintpauldevence.org/wp-content/uploads/2025/04/woman-doing-gymnastics-exercises-scaled.jpg
GEO:43.698886784084;7.1200623819271
X-APPLE-STRUCTURED-LOCATION;VALUE=URI;X-ADDRESS=Auditorium 150 Rte des Serres Saint-Paul-de-Vence 06570 France;X-APPLE-RADIUS=500;X-TITLE=150 Rte des Serres:geo:7.1200623819271,43.698886784084
END:VEVENT
BEGIN:VEVENT
DTSTART;TZID=Europe/Paris:20260128T090000
DTEND;TZID=Europe/Paris:20260128T140000
DTSTAMP:20260420T225826
CREATED:20240411T081217Z
LAST-MODIFIED:20250926T072516Z
UID:10012662-1769590800-1769608800@saintpauldevence.org
SUMMARY:Marché des producteurs
DESCRIPTION:Le marché des petits producteurs se tient régulièrement les mercredis et les vendredis sur la Place De Gaulle. \nVenez découvrir les spécialités locales\, mais aussi de délicieux produits issus du terroir.
URL:https://saintpauldevence.org/agenda/marche-petits-producteurs/2026-01-28/
LOCATION:Place de Gaulle\, Saint-Paul-de-Vence\, France
CATEGORIES:Marché
ATTACH;FMTTYPE=image/jpeg:https://saintpauldevence.org/wp-content/uploads/2021/04/marche-1-scaled-e1712823050881.jpg
END:VEVENT
BEGIN:VEVENT
DTSTART;TZID=Europe/Paris:20260128T140000
DTEND;TZID=Europe/Paris:20260128T160000
DTSTAMP:20260420T225826
CREATED:20251209T092909Z
LAST-MODIFIED:20251222T123518Z
UID:10014972-1769608800-1769616000@saintpauldevence.org
SUMMARY:Atelier Micro-Folie : Festival International de la Bande Dessinée d'Angoulême
DESCRIPTION:En lien avec Festival International de la Bande Dessinée d’Angoulême\, la médiathèque de Saint-Paul-de-Vence vous propose un atelier autour de la bande dessinée le mercredi 28 janvier 2026 à 14h ! Plongez dans l’univers de la bande dessinée à travers la découverte d’œuvres issues du catalogue Micro-Folie\, puis laissez parler votre créativité en réalisant votre propre planche de BD. Les créations seront ensuite imprimées et complétées par des bulles dans lesquelles petits et grands inventeront et rédigeront leurs dialogues. \nInformations pratiques :\n– A partir de 6 ans\n– Gratuit.\n– Inscriptions au 04 93 32 41 70 ou micro-folie@saint-pauldevence.fr
URL:https://saintpauldevence.org/agenda/atelier-micro-folie-festival-international-de-la-bande-dessinee-dangouleme/
LOCATION:Médiathèque
ATTACH;FMTTYPE=image/png:https://saintpauldevence.org/wp-content/uploads/2025/12/Atelier-bande-dessinee_mediatheque-SPDV-e1765272536631.png
END:VEVENT
BEGIN:VEVENT
DTSTART;TZID=Europe/Paris:20260129T090000
DTEND;TZID=Europe/Paris:20260129T113000
DTSTAMP:20260420T225826
CREATED:20221213T093830Z
LAST-MODIFIED:20251216T091027Z
UID:10014977-1769677200-1769686200@saintpauldevence.org
SUMMARY:Bulle d'éveil
DESCRIPTION:[vc_row][vc_column][vc_column_text css= » »]Parents\, venez découvrir Bulle d’Eveil ! Cet espace convivial et ludique est ouvert à toutes les familles ; il permet aux enfants de jouer avec d’autres petits et d’acquérir de l’autonomie. Rendez-vous tous les jeudis de 9h à 11h30 hors vacances scolaires à l’Auditorium – Route des Serres. \n> Téléchargez le calendrier 2025-2026 ! \nVous allez aimer :  \n\nPartager du temps avec votre enfant et renforcer votre lien avec lui\nRencontrer d’autres parents\nEchanger avec des professionnels de la Petite Enfance\nPrévenir ou rompre l’isolement\n\nInformations pratiques :  \n\nAccessible à tous les enfants de moins de 6 ans\, accompagnés de leurs parents ou d’un adulte référent\nGratuit et sans inscription\, basé sur le principe du volontariat et de l’anonymat\nRenseignements au 04 93 24 20 18.\n\n[/vc_column_text][/vc_column][/vc_row]
URL:https://saintpauldevence.org/agenda/bulle-deveil/2026-01-29/
LOCATION:Auditorium\, 150 Rte des Serres\, Saint-Paul-de-Vence\, 06570\, France
CATEGORIES:Animation
ATTACH;FMTTYPE=image/png:https://saintpauldevence.org/wp-content/uploads/2022/12/Bulle-deveil-SPDV.png
GEO:43.698886784084;7.1200623819271
X-APPLE-STRUCTURED-LOCATION;VALUE=URI;X-ADDRESS=Auditorium 150 Rte des Serres Saint-Paul-de-Vence 06570 France;X-APPLE-RADIUS=500;X-TITLE=150 Rte des Serres:geo:7.1200623819271,43.698886784084
END:VEVENT
BEGIN:VEVENT
DTSTART;TZID=Europe/Paris:20260130T090000
DTEND;TZID=Europe/Paris:20260130T140000
DTSTAMP:20260420T225826
CREATED:20240411T081217Z
LAST-MODIFIED:20250926T072516Z
UID:10012663-1769763600-1769781600@saintpauldevence.org
SUMMARY:Marché des producteurs
DESCRIPTION:Le marché des petits producteurs se tient régulièrement les mercredis et les vendredis sur la Place De Gaulle. \nVenez découvrir les spécialités locales\, mais aussi de délicieux produits issus du terroir.
URL:https://saintpauldevence.org/agenda/marche-petits-producteurs/2026-01-30/
LOCATION:Place de Gaulle\, Saint-Paul-de-Vence\, France
CATEGORIES:Marché
ATTACH;FMTTYPE=image/jpeg:https://saintpauldevence.org/wp-content/uploads/2021/04/marche-1-scaled-e1712823050881.jpg
END:VEVENT
BEGIN:VEVENT
DTSTART;TZID=Europe/Paris:20260130T100000
DTEND;TZID=Europe/Paris:20260130T110000
DTSTAMP:20260420T225826
CREATED:20240626T103156Z
LAST-MODIFIED:20260212T094546Z
UID:10014510-1769767200-1769770800@saintpauldevence.org
SUMMARY:Séance "Bébés lecteurs"
DESCRIPTION:[vc_row][vc_column][vc_column_text css= » »]Avis aux parents\, assistant(e)s maternel(le)s\, votre enfant aime lire ? La médiathèque vous propose un programme d’éveil à la lecture à destination des tout-petits comprenant des histoires\, des comptines lors de la séance « Bébés lecteurs » ! \nInformations pratiques : \n\nDe 10h à 11h\nGratuit\nInscription auprès de la médiathèque : 04 93 32 41 70 / mediatheque@saint-pauldevence.fr\n\n[/vc_column_text][/vc_column][/vc_row]
URL:https://saintpauldevence.org/agenda/seance-bebes-lecteurs-2/2026-01-30/
LOCATION:Médiathèque
ATTACH;FMTTYPE=image/jpeg:https://saintpauldevence.org/wp-content/uploads/2021/08/Bebes-lecteurs-2021-scaled.jpg
END:VEVENT
END:VCALENDAR