BEGIN:VCALENDAR
VERSION:2.0
PRODID:-//Saint-Paul-de-Vence - ECPv6.15.20//NONSGML v1.0//EN
CALSCALE:GREGORIAN
METHOD:PUBLISH
X-ORIGINAL-URL:https://saintpauldevence.org
X-WR-CALDESC:Évènements pour Saint-Paul-de-Vence
REFRESH-INTERVAL;VALUE=DURATION:PT1H
X-Robots-Tag:noindex
X-PUBLISHED-TTL:PT1H
BEGIN:VTIMEZONE
TZID:Europe/Paris
BEGIN:DAYLIGHT
TZOFFSETFROM:+0100
TZOFFSETTO:+0200
TZNAME:CEST
DTSTART:20240331T010000
END:DAYLIGHT
BEGIN:STANDARD
TZOFFSETFROM:+0200
TZOFFSETTO:+0100
TZNAME:CET
DTSTART:20241027T010000
END:STANDARD
BEGIN:DAYLIGHT
TZOFFSETFROM:+0100
TZOFFSETTO:+0200
TZNAME:CEST
DTSTART:20250330T010000
END:DAYLIGHT
BEGIN:STANDARD
TZOFFSETFROM:+0200
TZOFFSETTO:+0100
TZNAME:CET
DTSTART:20251026T010000
END:STANDARD
BEGIN:DAYLIGHT
TZOFFSETFROM:+0100
TZOFFSETTO:+0200
TZNAME:CEST
DTSTART:20260329T010000
END:DAYLIGHT
BEGIN:STANDARD
TZOFFSETFROM:+0200
TZOFFSETTO:+0100
TZNAME:CET
DTSTART:20261025T010000
END:STANDARD
END:VTIMEZONE
BEGIN:VEVENT
DTSTART;TZID=Europe/Paris:20251121T080000
DTEND;TZID=Europe/Paris:20251204T170000
DTSTAMP:20260421T012404
CREATED:20250828T115847Z
LAST-MODIFIED:20250828T115847Z
UID:10014525-1763712000-1764867600@saintpauldevence.org
SUMMARY:Exposition de Armand Schafer
DESCRIPTION:A découvrir du 21 novembre au 4 décembre 2025 : la nouvelle exposition de Armand Schafer présentée au Cercle des Artistes de Saint-Paul-de-Vence. \nInformations pratiques :\n-Entrée libre \n–Infos complémentaires à venir
URL:https://saintpauldevence.org/agenda/exposition-de-armand-schafer/
LOCATION:La Vieille Forge
ATTACH;FMTTYPE=image/png:https://saintpauldevence.org/wp-content/uploads/2025/05/Capture-decran-2025-05-21-a-15.17.45.png
END:VEVENT
BEGIN:VEVENT
DTSTART;TZID=Europe/Paris:20251201T090000
DTEND;TZID=Europe/Paris:20251201T100000
DTSTAMP:20260421T012404
CREATED:20250415T134057Z
LAST-MODIFIED:20250415T141111Z
UID:10013512-1764579600-1764583200@saintpauldevence.org
SUMMARY:Séances gymnastique douce pour séniors
DESCRIPTION:Dans le cadre des séances de remise en forme proposé par le CCAS de Saint-Paul-de-Vence\, venez participer à l’atelier de gymnastique douce à l’auditorium tous les lundis de 9h à 10h toute l’année (hors période estivale) ! \nInformations pratiques : \n\nTarif : 60€/trimestre pour un cours et 110€/trimestre pour les 2 cours\nInscriptions auprès du CCAS : 04 93  32 41 12 / ccas@saint-pauldevence.fr
URL:https://saintpauldevence.org/agenda/seances-gymnastique-douce-pour-seniors/2025-12-01/
LOCATION:Auditorium\, 150 Rte des Serres\, Saint-Paul-de-Vence\, 06570\, France
ATTACH;FMTTYPE=image/jpeg:https://saintpauldevence.org/wp-content/uploads/2020/09/Ateliers-seniors_gym-et-equilibre_SPDV_2020-e1631189624738.jpg
GEO:43.698886784084;7.1200623819271
X-APPLE-STRUCTURED-LOCATION;VALUE=URI;X-ADDRESS=Auditorium 150 Rte des Serres Saint-Paul-de-Vence 06570 France;X-APPLE-RADIUS=500;X-TITLE=150 Rte des Serres:geo:7.1200623819271,43.698886784084
END:VEVENT
BEGIN:VEVENT
DTSTART;TZID=Europe/Paris:20251203T083000
DTEND;TZID=Europe/Paris:20251203T093000
DTSTAMP:20260421T012404
CREATED:20250416T113907Z
LAST-MODIFIED:20250917T100415Z
UID:10014558-1764750600-1764754200@saintpauldevence.org
SUMMARY:Séances d’équilibre pour séniors
DESCRIPTION:[vc_row][vc_column][vc_column_text css= » »]Dans le cadre des séances de remise en forme proposées par le CCAS de Saint-Paul-de-Vence\, venez participer à l’atelier « d’équilibre » à l’auditorium tous les mercredis de 8h30 à 9h30 toute l’année (hors période estivale) ! \nInformations pratiques : \n\nTarif : 60€/trimestre pour un cours et 110€/trimestre pour les 2 cours\nInscriptions auprès du CCAS : 04 93  32 41 12 / ccas@saint-pauldevence.fr\n\n[/vc_column_text][/vc_column][/vc_row]
URL:https://saintpauldevence.org/agenda/seances-dequilibre-pour-seniors/2025-12-03/
LOCATION:Auditorium\, 150 Rte des Serres\, Saint-Paul-de-Vence\, 06570\, France
ATTACH;FMTTYPE=image/jpeg:https://saintpauldevence.org/wp-content/uploads/2025/04/woman-doing-gymnastics-exercises-scaled.jpg
GEO:43.698886784084;7.1200623819271
X-APPLE-STRUCTURED-LOCATION;VALUE=URI;X-ADDRESS=Auditorium 150 Rte des Serres Saint-Paul-de-Vence 06570 France;X-APPLE-RADIUS=500;X-TITLE=150 Rte des Serres:geo:7.1200623819271,43.698886784084
END:VEVENT
BEGIN:VEVENT
DTSTART;TZID=Europe/Paris:20251203T090000
DTEND;TZID=Europe/Paris:20251203T140000
DTSTAMP:20260421T012404
CREATED:20240411T081217Z
LAST-MODIFIED:20250926T072516Z
UID:10012646-1764752400-1764770400@saintpauldevence.org
SUMMARY:Marché des producteurs
DESCRIPTION:Le marché des petits producteurs se tient régulièrement les mercredis et les vendredis sur la Place De Gaulle. \nVenez découvrir les spécialités locales\, mais aussi de délicieux produits issus du terroir.
URL:https://saintpauldevence.org/agenda/marche-petits-producteurs/2025-12-03/
LOCATION:Place de Gaulle\, Saint-Paul-de-Vence\, France
CATEGORIES:Marché
ATTACH;FMTTYPE=image/jpeg:https://saintpauldevence.org/wp-content/uploads/2021/04/marche-1-scaled-e1712823050881.jpg
END:VEVENT
BEGIN:VEVENT
DTSTART;TZID=Europe/Paris:20251203T100000
DTEND;TZID=Europe/Paris:20251203T120000
DTSTAMP:20260421T012404
CREATED:20231122T072914Z
LAST-MODIFIED:20250825T085313Z
UID:10014493-1764756000-1764763200@saintpauldevence.org
SUMMARY:Café des lecteurs
DESCRIPTION:[vc_row][vc_column][vc_column_text css= » »]Vous aimez lire ? Vous avez envie de partager vos coups de cœur littéraires ? Rejoignez le club des lecteurs de la médiathèque de Saint-Paul-de-Vence et venez échanger autour de vos lectures. \nInfos pratiques : \n\nAccès gratuit. Ouvert à tous.\nRéservations : 04 93 32 41 70 / mediatheque@saint-pauldevence.fr\n\n[/vc_column_text][/vc_column][/vc_row]
URL:https://saintpauldevence.org/agenda/lu-et-approuve-cafe-des-lecteurs/2025-12-03/
LOCATION:Médiathèque
CATEGORIES:Culture
ATTACH;FMTTYPE=image/jpeg:https://saintpauldevence.org/wp-content/uploads/2023/11/cafe-des-lecteurs.jpg
END:VEVENT
BEGIN:VEVENT
DTSTART;TZID=Europe/Paris:20251204T100000
DTEND;TZID=Europe/Paris:20251204T113000
DTSTAMP:20260421T012404
CREATED:20250415T132549Z
LAST-MODIFIED:20251023T083540Z
UID:10014477-1764842400-1764847800@saintpauldevence.org
SUMMARY:Ateliers de sophrologie
DESCRIPTION:[vc_row][vc_column][vc_column_text css= » »] \nLe CCAS de votre commune vous propose gratuitement des ateliers de sophrologie tous les jeudis à compter du 6 novembre 2025 à la salle de la Fontette (Club de l’Amitié Saint-Pauloise) ! \nObjectif : développer votre mieux-être et libérer vos tensions en découvrant des techniques pour retrouver une détente physique et mentale. \nLe planning des séances de 10h à 11h30 : \n• 6\, 13\, 20 et 27 novembre\n• 4\, 11 et 18 décembre \nInformations pratiques : \n\nGratuit. Inscriptions auprès du CCAS : 04 93 32 41 12 ou ccas@saint-pauldevence.fr\nCes ateliers sont proposés dans le cadre du programme « Pour bien vieillir »\, avec le soutien de l’Asept Paca (vos caisses de retraite)\, les conférences des financeurs et leurs partenaires.\n\n[/vc_column_text][/vc_column][/vc_row]
URL:https://saintpauldevence.org/agenda/ateliers-de-sophrologie-3/2025-12-04/
LOCATION:Salle de la Fontette
ATTACH;FMTTYPE=image/png:https://saintpauldevence.org/wp-content/uploads/2023/08/Sophrologie-1.png
END:VEVENT
BEGIN:VEVENT
DTSTART;TZID=Europe/Paris:20251205T090000
DTEND;TZID=Europe/Paris:20251205T140000
DTSTAMP:20260421T012404
CREATED:20240411T081217Z
LAST-MODIFIED:20250926T072516Z
UID:10012647-1764925200-1764943200@saintpauldevence.org
SUMMARY:Marché des producteurs
DESCRIPTION:Le marché des petits producteurs se tient régulièrement les mercredis et les vendredis sur la Place De Gaulle. \nVenez découvrir les spécialités locales\, mais aussi de délicieux produits issus du terroir.
URL:https://saintpauldevence.org/agenda/marche-petits-producteurs/2025-12-05/
LOCATION:Place de Gaulle\, Saint-Paul-de-Vence\, France
CATEGORIES:Marché
ATTACH;FMTTYPE=image/jpeg:https://saintpauldevence.org/wp-content/uploads/2021/04/marche-1-scaled-e1712823050881.jpg
END:VEVENT
BEGIN:VEVENT
DTSTART;TZID=Europe/Paris:20251205T100000
DTEND;TZID=Europe/Paris:20251218T180000
DTSTAMP:20260421T012404
CREATED:20251103T130618Z
LAST-MODIFIED:20251128T145436Z
UID:10014941-1764928800-1766080800@saintpauldevence.org
SUMMARY:Exposition de Godefroy Starck
DESCRIPTION:Du vendredi 5 au jeudi 18 décembre novembre 2025\, le Cercle des Artistes de Saint-Paul-de-Vence vous propose de découvrir l’exposition de l’artiste sculpteur Godefroy Starck à la Vielle Forge. \nInformations pratiques :\n– Vernissage le vendredi 5 décembre 2025 à 17h à la Vieille Forge \n– Entrée libre
URL:https://saintpauldevence.org/agenda/exposition-de-godefroy-starck/
LOCATION:La Vieille Forge
ATTACH;FMTTYPE=image/jpeg:https://saintpauldevence.org/wp-content/uploads/2025/11/Private-system_expo-Godefroy-Starck.jpg
END:VEVENT
BEGIN:VEVENT
DTSTART;TZID=Europe/Paris:20251207T111500
DTEND;TZID=Europe/Paris:20251207T120000
DTSTAMP:20260421T012404
CREATED:20251110T090009Z
LAST-MODIFIED:20251110T090526Z
UID:10014952-1765106100-1765108800@saintpauldevence.org
SUMMARY:Messe à l'Eglise collégiale
DESCRIPTION:
URL:https://saintpauldevence.org/agenda/messe-a-leglise-colegiale/
LOCATION:Eglise La Collégiale\, Saint-Paul-de-Vence\, France
ATTACH;FMTTYPE=image/jpeg:https://saintpauldevence.org/wp-content/uploads/2023/11/Messe-de-noel-SPDV-2023-scaled.jpg
END:VEVENT
BEGIN:VEVENT
DTSTART;TZID=Europe/Paris:20251207T143000
DTEND;TZID=Europe/Paris:20251207T180000
DTSTAMP:20260421T012404
CREATED:20251103T131846Z
LAST-MODIFIED:20251105T083959Z
UID:10014942-1765117800-1765130400@saintpauldevence.org
SUMMARY:Grand Loto de Noël
DESCRIPTION:Participez au grand loto de Noël ! L’association Fédérée pour Le Don Du Sang Bénévole de Saint-Paul-de-Vence vous attendent nombreux le dimanche 7 décembre 2025 à 14h30 à l’Auditorium. \nDe nombreux lots sont à remporter : paniers garnis\, bouteilles de champagne\, chocolats\, panettone\, etc. \nUne partie des bénéfices réalisés lors de cet après-midi sera reversée au CCAS de notre commune. \nInformations pratiques :\n-Entrée libre.\n-Prix des cartons dégressifs (1 carton : 8€)\n-Il est recommandé de venir avec l’appoint.\n-Renseignements auprès de l’Office de Tourisme : 04 93 32 86 95
URL:https://saintpauldevence.org/agenda/grand-loto-de-noel-2/
LOCATION:Auditorium\, 150 Rte des Serres\, Saint-Paul-de-Vence\, 06570\, France
ATTACH;FMTTYPE=image/png:https://saintpauldevence.org/wp-content/uploads/2025/11/Visuel-loto-de-Noel-2025.png
GEO:43.698886784084;7.1200623819271
X-APPLE-STRUCTURED-LOCATION;VALUE=URI;X-ADDRESS=Auditorium 150 Rte des Serres Saint-Paul-de-Vence 06570 France;X-APPLE-RADIUS=500;X-TITLE=150 Rte des Serres:geo:7.1200623819271,43.698886784084
END:VEVENT
END:VCALENDAR