BEGIN:VCALENDAR
VERSION:2.0
PRODID:-//Saint-Paul-de-Vence - ECPv6.15.20//NONSGML v1.0//EN
CALSCALE:GREGORIAN
METHOD:PUBLISH
X-WR-CALNAME:Saint-Paul-de-Vence
X-ORIGINAL-URL:https://saintpauldevence.org
X-WR-CALDESC:Évènements pour Saint-Paul-de-Vence
REFRESH-INTERVAL;VALUE=DURATION:PT1H
X-Robots-Tag:noindex
X-PUBLISHED-TTL:PT1H
BEGIN:VTIMEZONE
TZID:Europe/Paris
BEGIN:DAYLIGHT
TZOFFSETFROM:+0100
TZOFFSETTO:+0200
TZNAME:CEST
DTSTART:20240331T010000
END:DAYLIGHT
BEGIN:STANDARD
TZOFFSETFROM:+0200
TZOFFSETTO:+0100
TZNAME:CET
DTSTART:20241027T010000
END:STANDARD
BEGIN:DAYLIGHT
TZOFFSETFROM:+0100
TZOFFSETTO:+0200
TZNAME:CEST
DTSTART:20250330T010000
END:DAYLIGHT
BEGIN:STANDARD
TZOFFSETFROM:+0200
TZOFFSETTO:+0100
TZNAME:CET
DTSTART:20251026T010000
END:STANDARD
BEGIN:DAYLIGHT
TZOFFSETFROM:+0100
TZOFFSETTO:+0200
TZNAME:CEST
DTSTART:20260329T010000
END:DAYLIGHT
BEGIN:STANDARD
TZOFFSETFROM:+0200
TZOFFSETTO:+0100
TZNAME:CET
DTSTART:20261025T010000
END:STANDARD
END:VTIMEZONE
BEGIN:VEVENT
DTSTART;TZID=Europe/Paris:20250314T080000
DTEND;TZID=Europe/Paris:20251031T170000
DTSTAMP:20260421T051854
CREATED:20250127T111153Z
LAST-MODIFIED:20250127T111153Z
UID:10013403-1741939200-1761930000@saintpauldevence.org
SUMMARY:Exposition « Partenaires particulaires »
DESCRIPTION:Du 14 mars au 31 octobre 2025\, la Fondation CAB Saint-Paul-de-Vence vous présente l’exposition Partenaires particulaires (supports\, surfaces\, dissémination). Elle réunit une dizaine d’œuvres historiques du mouvement supports/surfaces. \nCe mouvement\, de courte durée mais toujours très actuel\, a marqué l’histoire de la scène française de la fin des années 1960 et du début 1970 à travers un retour à la peinture abstraite dans une version brute\, augmentée d’une bonne dose de savoir-faire. Peintures sans pinceau\, tableaux sans châssis\, toiles pliées\, brûlées\, bois assemblés\, empreintes tamponnées… \nCette exposition réunit autant de pratiques qui manipulent les imaginaires premiers des matières précaires\, des empreintes aux compositions-décomposées\, aux opérations\, abstractions mouvantes et lumineuses\, assemblages et recyclages\, etc. Ainsi l’enjeux / le jeu se situent dans un dépassement des œillères\, des postures et des frontières qui se jouent du système D\, particule de la matière. \nVenez (re)découvrir donc à la Fondation CAB\, des artistes venus du monde entier : Kapwani Kiwanga\, Brandon Ndife\, Robert Overby\, Lotus L Kang\, Ernest breleur\, Renée Levi\, Jack O’Brien\, Miho Dohi\, Myriam Mihindou\, Ladji Diaby\, Torkwase Dyson\, Melinda Fourn\, Edith Dekyndt\, Barbara Sanchez-Kane\, Hall Haus… \nInformations pratiques :\n– Commissaire de l’exposition : Hugo Vitrani\n– En savoir plus sur www.fondationcab.com \n 
URL:https://saintpauldevence.org/agenda/exposition-partenaires-particulaires/
LOCATION:Fondation CAB Saint-Paul de Vence\, 5766 Chemin des Trious\, Saint-Paul-de-Vence\, 06570\, France
ATTACH;FMTTYPE=image/png:https://saintpauldevence.org/wp-content/uploads/2025/01/Patrick-Saytour-Tuilage-1975-Teinture-sur-toile-solarises-Courtesy-Collection-Fondation-CAB.png
END:VEVENT
BEGIN:VEVENT
DTSTART;TZID=Europe/Paris:20250901T100000
DTEND;TZID=Europe/Paris:20250930T183000
DTSTAMP:20260421T051854
CREATED:20250908T084757Z
LAST-MODIFIED:20250908T085023Z
UID:10014529-1756720800-1759257000@saintpauldevence.org
SUMMARY:Micro-Folie : programme de septembre
DESCRIPTION:Tous les mois\, la Micro-Folie de Saint-Paul-de-Vence vous propose de découvrir l’art autrement ! Ateliers\, expositions\, collections des plus grands musées nationaux et internationaux…venez vivre une expérience culturelle immersive unique ! À l’aide de tablettes ou d’écrans tactiles\, plongez dans des œuvres d’art et découvrez les détails d’une œuvre\, l’histoire de l’artiste… \nDécouvrez le programme de septembre 2025 : \nMusée numérique : \n\nMercredi 3 septembre  : Collection Grand Est\nMercredi 10 septembre : Collection Bretagne [NOUVEAU]\nMercredi 17 septembre : Collection Paris\n\n>En accès libre et gratuit \nInformations complémentaires : 04 93 32 41 70 // micro-folie@saint-pauldevence.fr
URL:https://saintpauldevence.org/agenda/micro-folie-programme-de-septembre/
LOCATION:Médiathèque
ATTACH;FMTTYPE=image/jpeg:https://saintpauldevence.org/wp-content/uploads/2025/03/Micro-folie-Saint-Paul-de-Vence-10-scaled.jpg
END:VEVENT
BEGIN:VEVENT
DTSTART;TZID=Europe/Paris:20250912T180000
DTEND;TZID=Europe/Paris:20250925T170000
DTSTAMP:20260421T051854
CREATED:20250812T104119Z
LAST-MODIFIED:20250909T084222Z
UID:10014498-1757700000-1758819600@saintpauldevence.org
SUMMARY:Exposition “Instants poétiques réels et virtuels”
DESCRIPTION:À partir du vendredi 12 septembre 2025\, le Cercle des Artistes de Saint-Paul-de-Vence accueille une nouvelle exposition de Chantal Cavenel : « Instants poétiques réels et virtuels ». \nA propos de l’artiste : \nChantal Cavenel\, artiste\, peintre\, designer de mode\, compositrice\, réalisatrice de clips artistiques dévoile un univers sensoriel et symbolique à travers une exposition mêlant œuvres picturales musicales\, créations de mode « fashion »\, installations audiovisuelles « Musical Moving Paintings »\, et une immersion virtuelle dans le Metaverse via un QR code menant à l’espace Spatial.io. \nSes toiles\, déclinées sur des supports textiles (voiles\, tapis\, vêtements)\, deviennent objets design et pièces de mode. Elle compose également des musiques originales et produit des supports audiovisuels (CD\, DVD HD)\, dans une recherche constante de dialogue entre l’image et le son. \nEn mobilisant le numérique comme médium\, Chantal Cavenel crée des installations où le mouvement\, la musique et la couleur s’unissent pour générer une expérience artistique unique\, qu’elle nomme : Musical Moving Paintings. Une invitation à explorer la beauté à travers l’interaction des arts. \nInformations pratiques :\n– Entrée libre\n– Vernissage le samedi 20 septembre à 18h à la Vieille Forge
URL:https://saintpauldevence.org/agenda/exposition-instants-poetiques-reels-et-virtuels/
LOCATION:La Vieille Forge
ATTACH;FMTTYPE=image/jpeg:https://saintpauldevence.org/wp-content/uploads/2025/08/CAVENEL-CHANTAL-AFFICHE-A-5-EXPO-CASP-2025-e1754995271928.jpg
END:VEVENT
BEGIN:VEVENT
DTSTART;TZID=Europe/Paris:20250922T090000
DTEND;TZID=Europe/Paris:20250922T100000
DTSTAMP:20260421T051854
CREATED:20250415T134057Z
LAST-MODIFIED:20250415T141111Z
UID:10013502-1758531600-1758535200@saintpauldevence.org
SUMMARY:Séances gymnastique douce pour séniors
DESCRIPTION:Dans le cadre des séances de remise en forme proposé par le CCAS de Saint-Paul-de-Vence\, venez participer à l’atelier de gymnastique douce à l’auditorium tous les lundis de 9h à 10h toute l’année (hors période estivale) ! \nInformations pratiques : \n\nTarif : 60€/trimestre pour un cours et 110€/trimestre pour les 2 cours\nInscriptions auprès du CCAS : 04 93  32 41 12 / ccas@saint-pauldevence.fr
URL:https://saintpauldevence.org/agenda/seances-gymnastique-douce-pour-seniors/2025-09-22/
LOCATION:Auditorium\, 150 Rte des Serres\, Saint-Paul-de-Vence\, 06570\, France
ATTACH;FMTTYPE=image/jpeg:https://saintpauldevence.org/wp-content/uploads/2020/09/Ateliers-seniors_gym-et-equilibre_SPDV_2020-e1631189624738.jpg
GEO:43.698886784084;7.1200623819271
X-APPLE-STRUCTURED-LOCATION;VALUE=URI;X-ADDRESS=Auditorium 150 Rte des Serres Saint-Paul-de-Vence 06570 France;X-APPLE-RADIUS=500;X-TITLE=150 Rte des Serres:geo:7.1200623819271,43.698886784084
END:VEVENT
BEGIN:VEVENT
DTSTART;TZID=Europe/Paris:20250923T100000
DTEND;TZID=Europe/Paris:20250923T110000
DTSTAMP:20260421T051854
CREATED:20250721T095921Z
LAST-MODIFIED:20250917T101041Z
UID:10014808-1758621600-1758625200@saintpauldevence.org
SUMMARY:Ateliers mémoire et gymnastique cérébrale
DESCRIPTION:Le CCAS vous propose des ateliers “gymnastique cérébrale” pour travailler sa mémoire tout en prenant plaisir tous les mardis jusqu’au 4 novembre 2025\, à la salle Freinet (mairie annexe). \nL’atelier vise à donner les moyens à chaque participant :\n– d’exercer ses principales fonctions cognitives ;\n– d’apprendre les techniques pour transférer ces exercices dans la vie quotidienne ;\n– de connaître les conseils pratiques pour savoir prendre soin de son cerveau. \nLe programme des séances : \n \nRendez-vous les mardis de 10h à 11h :\n– 23 et 30 septembre\n– 7\, 14\, 21\, 28 octobre\n– 4 novembre\n \nInformations pratiques :\n-Durée 1h\n-Gratuit \nInscriptions auprès du CCAS : 04 93 32 41 12 ou 04 93 32 41 24. \nPour en savoir plus sur les atelier cliquez ici.
URL:https://saintpauldevence.org/agenda/ateliers-memoire-et-gymnastique-cerebrale/2025-09-23/
LOCATION:Salle Freinet
ATTACH;FMTTYPE=image/png:https://saintpauldevence.org/wp-content/uploads/2020/09/Ateliers-Seniors_prendre-soin-de-soi-et-memoire_SPDV_2020-e1601289106264.png
ORGANIZER;CN="CCAS de Saint-Paul-de-Vence":MAILTO:ccas@saint-pauldevence.fr
END:VEVENT
BEGIN:VEVENT
DTSTART;TZID=Europe/Paris:20250924T083000
DTEND;TZID=Europe/Paris:20250924T093000
DTSTAMP:20260421T051854
CREATED:20250416T113907Z
LAST-MODIFIED:20250917T100415Z
UID:10014548-1758702600-1758706200@saintpauldevence.org
SUMMARY:Séances d’équilibre pour séniors
DESCRIPTION:[vc_row][vc_column][vc_column_text css= » »]Dans le cadre des séances de remise en forme proposées par le CCAS de Saint-Paul-de-Vence\, venez participer à l’atelier « d’équilibre » à l’auditorium tous les mercredis de 8h30 à 9h30 toute l’année (hors période estivale) ! \nInformations pratiques : \n\nTarif : 60€/trimestre pour un cours et 110€/trimestre pour les 2 cours\nInscriptions auprès du CCAS : 04 93  32 41 12 / ccas@saint-pauldevence.fr\n\n[/vc_column_text][/vc_column][/vc_row]
URL:https://saintpauldevence.org/agenda/seances-dequilibre-pour-seniors/2025-09-24/
LOCATION:Auditorium\, 150 Rte des Serres\, Saint-Paul-de-Vence\, 06570\, France
ATTACH;FMTTYPE=image/jpeg:https://saintpauldevence.org/wp-content/uploads/2025/04/woman-doing-gymnastics-exercises-scaled.jpg
GEO:43.698886784084;7.1200623819271
X-APPLE-STRUCTURED-LOCATION;VALUE=URI;X-ADDRESS=Auditorium 150 Rte des Serres Saint-Paul-de-Vence 06570 France;X-APPLE-RADIUS=500;X-TITLE=150 Rte des Serres:geo:7.1200623819271,43.698886784084
END:VEVENT
BEGIN:VEVENT
DTSTART;TZID=Europe/Paris:20250924T090000
DTEND;TZID=Europe/Paris:20250924T140000
DTSTAMP:20260421T051854
CREATED:20240411T081217Z
LAST-MODIFIED:20250926T072516Z
UID:10012626-1758704400-1758722400@saintpauldevence.org
SUMMARY:Marché des producteurs
DESCRIPTION:Le marché des petits producteurs se tient régulièrement les mercredis et les vendredis sur la Place De Gaulle. \nVenez découvrir les spécialités locales\, mais aussi de délicieux produits issus du terroir.
URL:https://saintpauldevence.org/agenda/marche-petits-producteurs/2025-09-24/
LOCATION:Place de Gaulle\, Saint-Paul-de-Vence\, France
CATEGORIES:Marché
ATTACH;FMTTYPE=image/jpeg:https://saintpauldevence.org/wp-content/uploads/2021/04/marche-1-scaled-e1712823050881.jpg
END:VEVENT
BEGIN:VEVENT
DTSTART;TZID=Europe/Paris:20250924T183000
DTEND;TZID=Europe/Paris:20250924T203000
DTSTAMP:20260421T051854
CREATED:20250115T125124Z
LAST-MODIFIED:20250522T101641Z
UID:10013378-1758738600-1758745800@saintpauldevence.org
SUMMARY:Conseil municipal
DESCRIPTION:Découvrez les prochaines séances du Conseil municipal prévues cette année à 18h30 à l’Auditorium. Si ne pouvez pas vous déplacer pour assister au conseil municipal\, une diffusion en live vous est proposée sur le compte Facebook de la mairie.
URL:https://saintpauldevence.org/agenda/conseil-municipal-3/2025-09-24/
LOCATION:Auditorium\, 150 Rte des Serres\, Saint-Paul-de-Vence\, 06570\, France
ATTACH;FMTTYPE=image/jpeg:https://saintpauldevence.org/wp-content/uploads/2025/01/Conseil-Municipal-Saint-Paul-de-Vence-scaled.jpg
GEO:43.698886784084;7.1200623819271
X-APPLE-STRUCTURED-LOCATION;VALUE=URI;X-ADDRESS=Auditorium 150 Rte des Serres Saint-Paul-de-Vence 06570 France;X-APPLE-RADIUS=500;X-TITLE=150 Rte des Serres:geo:7.1200623819271,43.698886784084
END:VEVENT
BEGIN:VEVENT
DTSTART;TZID=Europe/Paris:20250925T143000
DTEND;TZID=Europe/Paris:20250925T163000
DTSTAMP:20260421T051854
CREATED:20250722T075950Z
LAST-MODIFIED:20250722T075950Z
UID:10014487-1758810600-1758817800@saintpauldevence.org
SUMMARY:Café des Aidants
DESCRIPTION:En partenariat avec le Relais des Aidants du CCAS d’Antibes\, un Café des Aidants se tiendra le jeudi 25 septembre 2025\, de 14h30 à 16h30 à la salle du Club de l’amitié saint-pauloise (chemin de la Fontette). \nCe temps d’échange est dédié à toutes celles et ceux qui accompagnent au quotidien un proche en perte d’autonomie\, malade ou en situation de handicap. Dans une ambiance conviviale et bienveillante\, les participants pourront partager leurs expériences\, poser leurs questions et trouver du soutien autour d’un café. \nPendant ce moment de répit\, les proches aidés seront accueillis dans une salle attenante\, pris en charge par des professionnels qualifiés\, permettant ainsi aux aidants de s’accorder une pause en toute tranquillité. \nUn rendez-vous précieux pour échanger et rompre l’isolement. \nInformations pratiques : \n\nGratuit.\nInscriptions auprès du CCAS : 04 93 32 41 12 ou 24
URL:https://saintpauldevence.org/agenda/cafe-des-aidants/
LOCATION:Salle de la Fontette
ATTACH;FMTTYPE=image/png:https://saintpauldevence.org/wp-content/uploads/2025/07/Cafe-des-aidants.png
ORGANIZER;CN="CCAS de Saint-Paul-de-Vence":MAILTO:ccas@saint-pauldevence.fr
END:VEVENT
BEGIN:VEVENT
DTSTART;TZID=Europe/Paris:20250926T090000
DTEND;TZID=Europe/Paris:20250926T140000
DTSTAMP:20260421T051854
CREATED:20240411T081217Z
LAST-MODIFIED:20250926T072516Z
UID:10012627-1758877200-1758895200@saintpauldevence.org
SUMMARY:Marché des producteurs
DESCRIPTION:Le marché des petits producteurs se tient régulièrement les mercredis et les vendredis sur la Place De Gaulle. \nVenez découvrir les spécialités locales\, mais aussi de délicieux produits issus du terroir.
URL:https://saintpauldevence.org/agenda/marche-petits-producteurs/2025-09-26/
LOCATION:Place de Gaulle\, Saint-Paul-de-Vence\, France
CATEGORIES:Marché
ATTACH;FMTTYPE=image/jpeg:https://saintpauldevence.org/wp-content/uploads/2021/04/marche-1-scaled-e1712823050881.jpg
END:VEVENT
BEGIN:VEVENT
DTSTART;TZID=Europe/Paris:20250926T100000
DTEND;TZID=Europe/Paris:20250926T110000
DTSTAMP:20260421T051854
CREATED:20250416T120304Z
LAST-MODIFIED:20250416T120304Z
UID:10014396-1758880800-1758884400@saintpauldevence.org
SUMMARY:Atelier "yoga du rire"
DESCRIPTION:Le CCAS vous propose des ateliers “yoga du rire” tous les vendredis du 12 septembre au 10 octobre 2025\, à la salle de la Fontette (salle du club de l’amitié saint-pauloise). \nObjectifs : améliorer la santé mentale\, physique\, émotionnelle et sociale en passant par le rire. (réduction du stress\, stimulation du système immunitaire et de la digestion\, relâchement musculaire…) \nDes techniques et exercices seront proposés par un professionnel diplômé : \n\nRéveil musculaire\nAdaptation de la respiration\nConnexion afin de libérer le cerveau des pensées parasitaires et cultiver un état d’esprit joyeux\nPartage des émotions et relaxation en fin de séance.\n\nRendez-vous les vendredis de 10h à 11h :\n– 12\, 19 et 26 septembre.\n– 3 et 10 octobre. \nInformations pratiques :\n-Durée 1h\n-Gratuit\n-Matériel nécessaire : tenue confortable\, chaussures souples et tapis de sol. \nInscriptions auprès du CCAS : 04 93 32 41 12 ou 04 93 32 41 24. \nCes ateliers sont proposés dans le cadre du programme “pour bien vieillir“\, avec le soutien de l’Asept Paca (vos caisses de retraite)\, les conférences des financeurs et leurs partenaires.
URL:https://saintpauldevence.org/agenda/atelier-yoga-du-rire-2/2025-09-26/
LOCATION:Salle de la Fontette
ATTACH;FMTTYPE=image/jpeg:https://saintpauldevence.org/wp-content/uploads/2025/04/happy-couple-looking-each-other-holding-yoga-mat-scaled.jpg
END:VEVENT
BEGIN:VEVENT
DTSTART;TZID=Europe/Paris:20250926T180000
DTEND;TZID=Europe/Paris:20251009T180000
DTSTAMP:20260421T051854
CREATED:20250812T104523Z
LAST-MODIFIED:20250929T123837Z
UID:10014500-1758909600-1760032800@saintpauldevence.org
SUMMARY:Exposition d’Augustin Colombani 
DESCRIPTION:L’artiste Augustin Colombani présente sa nouvelle exposition « Art digital » à la Vieille Forge\, du 27 septembre au 9 octobre 2025.  \n« Précurseur de l’art digital\, je poursuis mes explorations\, guidé par mon expérience et mon imagination. » – Augustin Colombani \nLe vernissage aura lieu samedi 4 octobre à partir de 18 h. \nEntrée libre
URL:https://saintpauldevence.org/agenda/exposition-daugustain-colombani/
LOCATION:La Vieille Forge
ATTACH;FMTTYPE=image/png:https://saintpauldevence.org/wp-content/uploads/2024/05/Exposition.png
END:VEVENT
END:VCALENDAR