BEGIN:VCALENDAR
VERSION:2.0
PRODID:-//Saint-Paul-de-Vence - ECPv6.15.20//NONSGML v1.0//EN
CALSCALE:GREGORIAN
METHOD:PUBLISH
X-ORIGINAL-URL:https://saintpauldevence.org
X-WR-CALDESC:Évènements pour Saint-Paul-de-Vence
REFRESH-INTERVAL;VALUE=DURATION:PT1H
X-Robots-Tag:noindex
X-PUBLISHED-TTL:PT1H
BEGIN:VTIMEZONE
TZID:Europe/Paris
BEGIN:DAYLIGHT
TZOFFSETFROM:+0100
TZOFFSETTO:+0200
TZNAME:CEST
DTSTART:20240331T010000
END:DAYLIGHT
BEGIN:STANDARD
TZOFFSETFROM:+0200
TZOFFSETTO:+0100
TZNAME:CET
DTSTART:20241027T010000
END:STANDARD
BEGIN:DAYLIGHT
TZOFFSETFROM:+0100
TZOFFSETTO:+0200
TZNAME:CEST
DTSTART:20250330T010000
END:DAYLIGHT
BEGIN:STANDARD
TZOFFSETFROM:+0200
TZOFFSETTO:+0100
TZNAME:CET
DTSTART:20251026T010000
END:STANDARD
BEGIN:DAYLIGHT
TZOFFSETFROM:+0100
TZOFFSETTO:+0200
TZNAME:CEST
DTSTART:20260329T010000
END:DAYLIGHT
BEGIN:STANDARD
TZOFFSETFROM:+0200
TZOFFSETTO:+0100
TZNAME:CET
DTSTART:20261025T010000
END:STANDARD
END:VTIMEZONE
BEGIN:VEVENT
DTSTART;TZID=Europe/Paris:20250314T080000
DTEND;TZID=Europe/Paris:20251031T170000
DTSTAMP:20260421T075535
CREATED:20250127T111153Z
LAST-MODIFIED:20250127T111153Z
UID:10013403-1741939200-1761930000@saintpauldevence.org
SUMMARY:Exposition « Partenaires particulaires »
DESCRIPTION:Du 14 mars au 31 octobre 2025\, la Fondation CAB Saint-Paul-de-Vence vous présente l’exposition Partenaires particulaires (supports\, surfaces\, dissémination). Elle réunit une dizaine d’œuvres historiques du mouvement supports/surfaces. \nCe mouvement\, de courte durée mais toujours très actuel\, a marqué l’histoire de la scène française de la fin des années 1960 et du début 1970 à travers un retour à la peinture abstraite dans une version brute\, augmentée d’une bonne dose de savoir-faire. Peintures sans pinceau\, tableaux sans châssis\, toiles pliées\, brûlées\, bois assemblés\, empreintes tamponnées… \nCette exposition réunit autant de pratiques qui manipulent les imaginaires premiers des matières précaires\, des empreintes aux compositions-décomposées\, aux opérations\, abstractions mouvantes et lumineuses\, assemblages et recyclages\, etc. Ainsi l’enjeux / le jeu se situent dans un dépassement des œillères\, des postures et des frontières qui se jouent du système D\, particule de la matière. \nVenez (re)découvrir donc à la Fondation CAB\, des artistes venus du monde entier : Kapwani Kiwanga\, Brandon Ndife\, Robert Overby\, Lotus L Kang\, Ernest breleur\, Renée Levi\, Jack O’Brien\, Miho Dohi\, Myriam Mihindou\, Ladji Diaby\, Torkwase Dyson\, Melinda Fourn\, Edith Dekyndt\, Barbara Sanchez-Kane\, Hall Haus… \nInformations pratiques :\n– Commissaire de l’exposition : Hugo Vitrani\n– En savoir plus sur www.fondationcab.com \n 
URL:https://saintpauldevence.org/agenda/exposition-partenaires-particulaires/
LOCATION:Fondation CAB Saint-Paul de Vence\, 5766 Chemin des Trious\, Saint-Paul-de-Vence\, 06570\, France
ATTACH;FMTTYPE=image/png:https://saintpauldevence.org/wp-content/uploads/2025/01/Patrick-Saytour-Tuilage-1975-Teinture-sur-toile-solarises-Courtesy-Collection-Fondation-CAB.png
END:VEVENT
BEGIN:VEVENT
DTSTART;TZID=Europe/Paris:20250702T080000
DTEND;TZID=Europe/Paris:20250730T170000
DTSTAMP:20260421T075535
CREATED:20250423T124204Z
LAST-MODIFIED:20250606T065612Z
UID:10014411-1751443200-1753894800@saintpauldevence.org
SUMMARY:Micro-Folie : programme du mois de juillet
DESCRIPTION:Tous les mois\, la Micro-Folie de Saint-Paul-de-Vence vous propose de découvrir l’art autrement ! Ateliers\, expositions\, collections des plus grands musées nationaux et internationaux…venez vivre une expérience culturelle immersive unique ! À l’aide de tablettes ou d’écrans tactiles\, plongez dans des œuvres d’art et découvrez les détails d’une œuvre\, l’histoire de l’artiste… \nDécouvrez le programme de juillet :  \nMusée numérique : \n\nMercredi 2 juillet : L’été en peinture\nMercredi 9 juillet : Sport\nMercredi 16 juillet : Auvergne-Rhône-Alpes\nMercredi 23 juillet : La Corse\nMercredi 30 juillet : Notre-Dame-de-Paris\n\n>En accès libre et gratuit \nLes ateliers du mois :  \n\nSamedi 26 juillet de 10h à 11h : Séance de Baby music avec Carina Oliviero\nSamedi 26 de 14h à 15h30 : Atelier Micro-Folie « À voix haute »\nPlongez dans l’univers fascinant de l’opéra ! À travers des extraits vidéo\, des échanges et des clés de compréhension\, découvrez l’art lyrique\, les différentes catégories de voix\, les rôles emblématiques de l’opéra\, et les grandes émotions portées par ce genre théâtral et musical.\nSamedi 26 juillet de 16h à 18h30 : Diffusion de l’opéra « La Traviata » par l’Opéra de Paris\n« Mis en scène par Simon Stone et avec Pretty Yende dans le rôle-titre\, cette version 2.0 propose une relecture rafraîchissante et connectée du célèbre mythe en le transposant à notre époque. » >Voir la bande annonce\n\n  \n>Tous les ateliers sont gratuits et sur inscriptions auprès de la médiathèque : micro-folie@saint-pauldevence.fr \nInformations complémentaires : 04 93 32 41 70 \nTéléchargez le programme !
URL:https://saintpauldevence.org/agenda/micro-folie-programme-du-mois-de-juillet/
LOCATION:Médiathèque
ATTACH;FMTTYPE=image/jpeg:https://saintpauldevence.org/wp-content/uploads/2025/04/Micro-folie-SPDV.jpeg
END:VEVENT
BEGIN:VEVENT
DTSTART;TZID=Europe/Paris:20250704T100000
DTEND;TZID=Europe/Paris:20250717T180000
DTSTAMP:20260421T075535
CREATED:20250523T132219Z
LAST-MODIFIED:20250602T073518Z
UID:10014430-1751623200-1752775200@saintpauldevence.org
SUMMARY:Exposition de Franck Attar
DESCRIPTION:Du vendredi 4 au jeudi 17 juillet 2025\, place à la nouvelle exposition « Au-delà des mots » du Cercle des Artistes de Saint-Paul-de-Vence ! L’artiste-peintre Franck Attar présentera ses toiles abstraites à la Vieille Forge.  \nA propos de l’artiste :  \nC’est à travers des peintures abstraites que l’artiste Frank Attar exprime l’énergie et les émotions de son quotidien. “Il souhaite que les personnes qui découvrent ses toiles laissent libre cours à leur imagination et interprétation\, pour laisser la place à leur propre créativité et à leur sensibilité afin qu’elles trouvent leur propre lumière intérieure…Il considère son travail d’artiste comme une réflexion silencieuse.” \nInformations pratiques :\n– Entrée libre\n– Vernissage le samedi 5 juillet 2025 à partir de 18h à la Vieille Forge
URL:https://saintpauldevence.org/agenda/exposition-de-franck-attar/
LOCATION:La Vieille Forge
ATTACH;FMTTYPE=image/jpeg:https://saintpauldevence.org/wp-content/uploads/2025/05/Expo-Franck-Attar_Cercle-des-artistes-2025.jpg
END:VEVENT
BEGIN:VEVENT
DTSTART;TZID=Europe/Paris:20250709T090000
DTEND;TZID=Europe/Paris:20250709T140000
DTSTAMP:20260421T075535
CREATED:20240411T081217Z
LAST-MODIFIED:20250926T072516Z
UID:10012604-1752051600-1752069600@saintpauldevence.org
SUMMARY:Marché des producteurs
DESCRIPTION:Le marché des petits producteurs se tient régulièrement les mercredis et les vendredis sur la Place De Gaulle. \nVenez découvrir les spécialités locales\, mais aussi de délicieux produits issus du terroir.
URL:https://saintpauldevence.org/agenda/marche-petits-producteurs/2025-07-09/
LOCATION:Place de Gaulle\, Saint-Paul-de-Vence\, France
CATEGORIES:Marché
ATTACH;FMTTYPE=image/jpeg:https://saintpauldevence.org/wp-content/uploads/2021/04/marche-1-scaled-e1712823050881.jpg
END:VEVENT
BEGIN:VEVENT
DTSTART;TZID=Europe/Paris:20250711T090000
DTEND;TZID=Europe/Paris:20250711T140000
DTSTAMP:20260421T075535
CREATED:20240411T081217Z
LAST-MODIFIED:20250926T072516Z
UID:10012605-1752224400-1752242400@saintpauldevence.org
SUMMARY:Marché des producteurs
DESCRIPTION:Le marché des petits producteurs se tient régulièrement les mercredis et les vendredis sur la Place De Gaulle. \nVenez découvrir les spécialités locales\, mais aussi de délicieux produits issus du terroir.
URL:https://saintpauldevence.org/agenda/marche-petits-producteurs/2025-07-11/
LOCATION:Place de Gaulle\, Saint-Paul-de-Vence\, France
CATEGORIES:Marché
ATTACH;FMTTYPE=image/jpeg:https://saintpauldevence.org/wp-content/uploads/2021/04/marche-1-scaled-e1712823050881.jpg
END:VEVENT
BEGIN:VEVENT
DTSTART;TZID=Europe/Paris:20250711T190000
DTEND;TZID=Europe/Paris:20250711T213000
DTSTAMP:20260421T075535
CREATED:20250523T115859Z
LAST-MODIFIED:20250523T122721Z
UID:10014427-1752260400-1752269400@saintpauldevence.org
SUMMARY:Défilé de mode
DESCRIPTION:L’Association des Commerçants et Artistes Saint-Paulois (ACASP) vous donne rendez-vous le vendredi 11 juillet 2025 à 20h\, sur la Place Neuve pour un défilé de mode exceptionnel par des mannequins professionnels\,  \nPrès de 14 boutiques de prêt-à-porter\, bijoux et chaussures dévoileront leurs dernières collections dans une ambiance chic et conviviale. \nInformations pratiques : \n-Entrée libre\n-Bar à champagne de 19h à 21h30\n-Renseignements au 04 93 32 86 95
URL:https://saintpauldevence.org/agenda/defile-de-mode-3/
LOCATION:Place Neuve
ATTACH;FMTTYPE=image/jpeg:https://saintpauldevence.org/wp-content/uploads/2024/06/Defile-de-mode-des-commercants-1-scaled.jpg
END:VEVENT
BEGIN:VEVENT
DTSTART;TZID=Europe/Paris:20250713T200000
DTEND;TZID=Europe/Paris:20250713T233000
DTSTAMP:20260421T075535
CREATED:20250523T121631Z
LAST-MODIFIED:20250523T121833Z
UID:10014428-1752436800-1752449400@saintpauldevence.org
SUMMARY:Bal de la Fête nationale
DESCRIPTION:Venez célébrer la Fête Nationale le dimanche 13 juillet 2025 de 20h à 1h sur la place de la Courtine !  \nAux platines\, DJ Alex accompagné de deux danseuses enflammeront la piste jusqu’à 01h. Ambiance festive garantie ! \nInformations pratiques :\n– Buvette et restauration sur place\n– Renseignements auprès de l’Office de tourisme – 04 93 32 86 95
URL:https://saintpauldevence.org/agenda/bal-de-la-fete-nationale-3/
LOCATION:Place de la Courtine
ATTACH;FMTTYPE=image/jpeg:https://saintpauldevence.org/wp-content/uploads/2025/05/bal-de-la-fete-nationale-scaled.jpg
END:VEVENT
END:VCALENDAR