BEGIN:VCALENDAR
VERSION:2.0
PRODID:-//Saint-Paul-de-Vence - ECPv6.15.20//NONSGML v1.0//EN
CALSCALE:GREGORIAN
METHOD:PUBLISH
X-ORIGINAL-URL:https://saintpauldevence.org
X-WR-CALDESC:Évènements pour Saint-Paul-de-Vence
REFRESH-INTERVAL;VALUE=DURATION:PT1H
X-Robots-Tag:noindex
X-PUBLISHED-TTL:PT1H
BEGIN:VTIMEZONE
TZID:Europe/Paris
BEGIN:DAYLIGHT
TZOFFSETFROM:+0100
TZOFFSETTO:+0200
TZNAME:CEST
DTSTART:20240331T010000
END:DAYLIGHT
BEGIN:STANDARD
TZOFFSETFROM:+0200
TZOFFSETTO:+0100
TZNAME:CET
DTSTART:20241027T010000
END:STANDARD
BEGIN:DAYLIGHT
TZOFFSETFROM:+0100
TZOFFSETTO:+0200
TZNAME:CEST
DTSTART:20250330T010000
END:DAYLIGHT
BEGIN:STANDARD
TZOFFSETFROM:+0200
TZOFFSETTO:+0100
TZNAME:CET
DTSTART:20251026T010000
END:STANDARD
BEGIN:DAYLIGHT
TZOFFSETFROM:+0100
TZOFFSETTO:+0200
TZNAME:CEST
DTSTART:20260329T010000
END:DAYLIGHT
BEGIN:STANDARD
TZOFFSETFROM:+0200
TZOFFSETTO:+0100
TZNAME:CET
DTSTART:20261025T010000
END:STANDARD
END:VTIMEZONE
BEGIN:VEVENT
DTSTART;TZID=Europe/Paris:20250314T080000
DTEND;TZID=Europe/Paris:20251031T170000
DTSTAMP:20260421T075536
CREATED:20250127T111153Z
LAST-MODIFIED:20250127T111153Z
UID:10013403-1741939200-1761930000@saintpauldevence.org
SUMMARY:Exposition « Partenaires particulaires »
DESCRIPTION:Du 14 mars au 31 octobre 2025\, la Fondation CAB Saint-Paul-de-Vence vous présente l’exposition Partenaires particulaires (supports\, surfaces\, dissémination). Elle réunit une dizaine d’œuvres historiques du mouvement supports/surfaces. \nCe mouvement\, de courte durée mais toujours très actuel\, a marqué l’histoire de la scène française de la fin des années 1960 et du début 1970 à travers un retour à la peinture abstraite dans une version brute\, augmentée d’une bonne dose de savoir-faire. Peintures sans pinceau\, tableaux sans châssis\, toiles pliées\, brûlées\, bois assemblés\, empreintes tamponnées… \nCette exposition réunit autant de pratiques qui manipulent les imaginaires premiers des matières précaires\, des empreintes aux compositions-décomposées\, aux opérations\, abstractions mouvantes et lumineuses\, assemblages et recyclages\, etc. Ainsi l’enjeux / le jeu se situent dans un dépassement des œillères\, des postures et des frontières qui se jouent du système D\, particule de la matière. \nVenez (re)découvrir donc à la Fondation CAB\, des artistes venus du monde entier : Kapwani Kiwanga\, Brandon Ndife\, Robert Overby\, Lotus L Kang\, Ernest breleur\, Renée Levi\, Jack O’Brien\, Miho Dohi\, Myriam Mihindou\, Ladji Diaby\, Torkwase Dyson\, Melinda Fourn\, Edith Dekyndt\, Barbara Sanchez-Kane\, Hall Haus… \nInformations pratiques :\n– Commissaire de l’exposition : Hugo Vitrani\n– En savoir plus sur www.fondationcab.com \n 
URL:https://saintpauldevence.org/agenda/exposition-partenaires-particulaires/
LOCATION:Fondation CAB Saint-Paul de Vence\, 5766 Chemin des Trious\, Saint-Paul-de-Vence\, 06570\, France
ATTACH;FMTTYPE=image/png:https://saintpauldevence.org/wp-content/uploads/2025/01/Patrick-Saytour-Tuilage-1975-Teinture-sur-toile-solarises-Courtesy-Collection-Fondation-CAB.png
END:VEVENT
BEGIN:VEVENT
DTSTART;TZID=Europe/Paris:20250604T080000
DTEND;TZID=Europe/Paris:20250628T170000
DTSTAMP:20260421T075536
CREATED:20250423T123550Z
LAST-MODIFIED:20250606T065255Z
UID:10014410-1749024000-1751130000@saintpauldevence.org
SUMMARY:Micro-Folie : programme du mois de juin
DESCRIPTION:Tous les mois\, la Micro-Folie de Saint-Paul-de-Vence vous propose de découvrir l’art autrement ! Ateliers\, expositions\, collections des plus grands musées nationaux et internationaux…venez vivre une expérience culturelle immersive unique ! À l’aide de tablettes ou d’écrans tactiles\, plongez dans des œuvres d’art et découvrez les détails d’une œuvre\, l’histoire de l’artiste… \nDécouvrez le programme de juin :  \nMusée numérique : \n\nMercredi 4 juin : « Voyage au Cœur des Jardins »\, en écho à « Rendez-vous aux jardins »\nMercredi 11 juin : « Archéologie »\, en écho aux journées européennes de l’archéologie\nMercredi 18 juin : Autour de la » Fête de la musique » & Diffusion série documentaire ARTE « Raï is not dead »\nMercredi 25 juin : Autour de la « Fête de la musique » & Diffusion série documentaire ARTE « Auto-Tune : de Cher à PNL\, le Photoshop de la voix »\n\n>En accès libre et gratuit \nLes ateliers du mois : « Musique et Danse » \n\nSamedi 28 juin de 14h à 15h30 : séance découverte Micro-Folie « Le Classique\, quelle ambiance ! »\nVenez découvrir la musique classique sous un jour nouveau et surprenant ! Dans cet atelier\, vous explorerez comment cette musique\, présente partout dans nos films et publicités\, peut éveiller des émotions puissantes et stimuler l’imagination.\n\n\nSamedi 28 juin de 16h à 18h : Projection du spectacle de danse contemporaine « Twofold » \nPar la Sydney Dance Company\, la plus grande compagnie de danse contemporaine d’Australie\, par les chorégraphes Rafael Bonachela et Melanie Lane. (avec entracte)\n\n>Tous les ateliers sont gratuits et sur inscriptions auprès de la médiathèque : micro-folie@saint-pauldevence.fr \nInformations complémentaires : 04 93 32 41 70 \nTéléchargez le programme !
URL:https://saintpauldevence.org/agenda/micro-folie-programme-du-mois-de-juin/
LOCATION:Médiathèque
ATTACH;FMTTYPE=image/jpeg:https://saintpauldevence.org/wp-content/uploads/2025/04/Micro-folie-SPDV.jpeg
END:VEVENT
BEGIN:VEVENT
DTSTART;TZID=Europe/Paris:20250615T080000
DTEND;TZID=Europe/Paris:20250630T170000
DTSTAMP:20260421T075536
CREATED:20250423T162352Z
LAST-MODIFIED:20250602T072641Z
UID:10014414-1749974400-1751302800@saintpauldevence.org
SUMMARY:Expositions “L'Art au jardin des Orangers : Entre lumière et matière”
DESCRIPTION:Du 15 au 30 juin 2025\, venez découvrir l’exposition “L’Art au jardin des Orangers : Entre lumière et matière” dans le cadre enchanteur d’un jardin d’orangers\, rue de l’allée dans le village de Saint-Paul-de-Vence.  \nUn groupe talentueux d’artistes peintres et sculpteurs vous invite à découvrir leur univers artistique vous offrant une expérience unique où nature et créativité se rencontrent. \nLes artistes réaliseront des performances et des démonstrations live tout au long de l’exposition. \nInformations pratiques :\n-Vernissage le vendredi 20 juin dès 17h30 au jardin des Orangers\n-Entrée libre
URL:https://saintpauldevence.org/agenda/expositions-lart-au-jardin-des-orangers-entre-lumiere-et-matiere/
LOCATION:Atelier d’artiste\, jardin d’orangers\, Rue de l'allée\, Saint-Paul-de-Vence
ATTACH;FMTTYPE=image/jpeg:https://saintpauldevence.org/wp-content/uploads/2025/04/Expo-jardin-des-orangers-3.jpeg
END:VEVENT
BEGIN:VEVENT
DTSTART;TZID=Europe/Paris:20250620T180000
DTEND;TZID=Europe/Paris:20250703T180000
DTSTAMP:20260421T075536
CREATED:20250313T083718Z
LAST-MODIFIED:20250602T072447Z
UID:10013438-1750442400-1751565600@saintpauldevence.org
SUMMARY:Exposition de Brigitte Molinari Fossé
DESCRIPTION:Du vendredi 20 juin au jeudi 3 juillet 2025\, venez découvrir la nouvelle exposition présentée au Cercle des artistes de Saint-Paul-de-Vence : “Toujours un rêve qui veille” de Brigitte Molinari Fossé.   \nTout ce qui reflète la liberté d’expression des émotions fondamentales et des expériences oniriques inspire Brigitte Molinari. L’expressionisme abstrait qui met l’accent sur l’improvisation spontanée\, l’intuition ainsi que la magie et le sens de l’art aborigène la relient à sa nature profonde. Le langage visuel est chargé de traces\, de signes universels et parfois de lignes vides\, de cases\, symbole de notre mémoire existentielle morcelée par les acquis et les oublis de notre culture\, Parce qu’il y a un temps pour tout et même un temps pour que les temps se rejoignent\, la toile est son propre « Temps du rêve ». \nInformations pratiques : \n\nVernissage le vendredi 27 juin à 18h à la Vieille Forge\n Entrée libre
URL:https://saintpauldevence.org/agenda/exposition-de-brigitte-molinari-fosse/
LOCATION:La Vieille Forge
ATTACH;FMTTYPE=image/jpeg:https://saintpauldevence.org/wp-content/uploads/2025/03/toujours-un-reve-qui-veille._Brigitte-Molinari_Cercle-des-Artistes-SPDV.jpeg
END:VEVENT
BEGIN:VEVENT
DTSTART;TZID=Europe/Paris:20250623T090000
DTEND;TZID=Europe/Paris:20250623T100000
DTSTAMP:20260421T075536
CREATED:20250415T134057Z
LAST-MODIFIED:20250415T141111Z
UID:10013489-1750669200-1750672800@saintpauldevence.org
SUMMARY:Séances gymnastique douce pour séniors
DESCRIPTION:Dans le cadre des séances de remise en forme proposé par le CCAS de Saint-Paul-de-Vence\, venez participer à l’atelier de gymnastique douce à l’auditorium tous les lundis de 9h à 10h toute l’année (hors période estivale) ! \nInformations pratiques : \n\nTarif : 60€/trimestre pour un cours et 110€/trimestre pour les 2 cours\nInscriptions auprès du CCAS : 04 93  32 41 12 / ccas@saint-pauldevence.fr
URL:https://saintpauldevence.org/agenda/seances-gymnastique-douce-pour-seniors/2025-06-23/
LOCATION:Auditorium\, 150 Rte des Serres\, Saint-Paul-de-Vence\, 06570\, France
ATTACH;FMTTYPE=image/jpeg:https://saintpauldevence.org/wp-content/uploads/2020/09/Ateliers-seniors_gym-et-equilibre_SPDV_2020-e1631189624738.jpg
GEO:43.698886784084;7.1200623819271
X-APPLE-STRUCTURED-LOCATION;VALUE=URI;X-ADDRESS=Auditorium 150 Rte des Serres Saint-Paul-de-Vence 06570 France;X-APPLE-RADIUS=500;X-TITLE=150 Rte des Serres:geo:7.1200623819271,43.698886784084
END:VEVENT
BEGIN:VEVENT
DTSTART;TZID=Europe/Paris:20250624T140000
DTEND;TZID=Europe/Paris:20250624T160000
DTSTAMP:20260421T075536
CREATED:20250415T113749Z
LAST-MODIFIED:20250416T141610Z
UID:10013472-1750773600-1750780800@saintpauldevence.org
SUMMARY:Atelier marche nordique
DESCRIPTION:En partenariat avec le département 06 et l’association Sport et santé\, le CCAS de votre commune propose aux séniors de + de 60 ans un programme de remise en forme gratuit pendant 2 mois. \nObjectifs : maintenir sa forme et acquérir les bons réflexes pour votre santé. \n\n\nAteliers de « marche Nordique » : Tous les mardis à partir du 6 mai 2025. \n\n\nDont une session sur la sensibilisation aux gestes de premiers secours : le mardi 13 mai \n\n\nCes séances auront lieu au bois de La Sine de 14h à 16h. \nRenseignements auprès du CCAS : 04 93 32 41 12 / ccas@saint-pauldevence.fr
URL:https://saintpauldevence.org/agenda/atelier-marche-nordique/2025-06-24/
LOCATION:Bois de la Sine
ATTACH;FMTTYPE=image/jpeg:https://saintpauldevence.org/wp-content/uploads/2025/04/older-woman-trekking-outdoors-1-scaled.jpg
END:VEVENT
BEGIN:VEVENT
DTSTART;TZID=Europe/Paris:20250624T180000
DTEND;TZID=Europe/Paris:20250624T190000
DTSTAMP:20260421T075536
CREATED:20250520T120059Z
LAST-MODIFIED:20250520T121552Z
UID:10014423-1750788000-1750791600@saintpauldevence.org
SUMMARY:Bénédiction de la Saint-Jean
DESCRIPTION:Rendez-vous le mardi 24 juin 2025 à 18h à l’oratoire Saint-Jean (Malvan).  \nAu programme : bénédiction et verre de l’amitié.  \nAfin que ce moment convivial soit réussi\, pensez à apporter une boisson ou un plat à partager. \nInformations pratiques : \n-Entrée libre
URL:https://saintpauldevence.org/agenda/benediction-saint-jean-4/
ATTACH;FMTTYPE=image/jpeg:https://saintpauldevence.org/wp-content/uploads/2025/05/20210624_175934-scaled-1.jpg
END:VEVENT
BEGIN:VEVENT
DTSTART;TZID=Europe/Paris:20250625T083000
DTEND;TZID=Europe/Paris:20250625T093000
DTSTAMP:20260421T075536
CREATED:20250416T113907Z
LAST-MODIFIED:20250917T100415Z
UID:10014543-1750840200-1750843800@saintpauldevence.org
SUMMARY:Séances d’équilibre pour séniors
DESCRIPTION:[vc_row][vc_column][vc_column_text css= » »]Dans le cadre des séances de remise en forme proposées par le CCAS de Saint-Paul-de-Vence\, venez participer à l’atelier « d’équilibre » à l’auditorium tous les mercredis de 8h30 à 9h30 toute l’année (hors période estivale) ! \nInformations pratiques : \n\nTarif : 60€/trimestre pour un cours et 110€/trimestre pour les 2 cours\nInscriptions auprès du CCAS : 04 93  32 41 12 / ccas@saint-pauldevence.fr\n\n[/vc_column_text][/vc_column][/vc_row]
URL:https://saintpauldevence.org/agenda/seances-dequilibre-pour-seniors/2025-06-25/
LOCATION:Auditorium\, 150 Rte des Serres\, Saint-Paul-de-Vence\, 06570\, France
ATTACH;FMTTYPE=image/jpeg:https://saintpauldevence.org/wp-content/uploads/2025/04/woman-doing-gymnastics-exercises-scaled.jpg
GEO:43.698886784084;7.1200623819271
X-APPLE-STRUCTURED-LOCATION;VALUE=URI;X-ADDRESS=Auditorium 150 Rte des Serres Saint-Paul-de-Vence 06570 France;X-APPLE-RADIUS=500;X-TITLE=150 Rte des Serres:geo:7.1200623819271,43.698886784084
END:VEVENT
BEGIN:VEVENT
DTSTART;TZID=Europe/Paris:20250625T090000
DTEND;TZID=Europe/Paris:20250625T140000
DTSTAMP:20260421T075536
CREATED:20240411T081217Z
LAST-MODIFIED:20250926T072516Z
UID:10012600-1750842000-1750860000@saintpauldevence.org
SUMMARY:Marché des producteurs
DESCRIPTION:Le marché des petits producteurs se tient régulièrement les mercredis et les vendredis sur la Place De Gaulle. \nVenez découvrir les spécialités locales\, mais aussi de délicieux produits issus du terroir.
URL:https://saintpauldevence.org/agenda/marche-petits-producteurs/2025-06-25/
LOCATION:Place de Gaulle\, Saint-Paul-de-Vence\, France
CATEGORIES:Marché
ATTACH;FMTTYPE=image/jpeg:https://saintpauldevence.org/wp-content/uploads/2021/04/marche-1-scaled-e1712823050881.jpg
END:VEVENT
BEGIN:VEVENT
DTSTART;TZID=Europe/Paris:20250627T090000
DTEND;TZID=Europe/Paris:20250627T140000
DTSTAMP:20260421T075536
CREATED:20240411T081217Z
LAST-MODIFIED:20250926T072516Z
UID:10012601-1751014800-1751032800@saintpauldevence.org
SUMMARY:Marché des producteurs
DESCRIPTION:Le marché des petits producteurs se tient régulièrement les mercredis et les vendredis sur la Place De Gaulle. \nVenez découvrir les spécialités locales\, mais aussi de délicieux produits issus du terroir.
URL:https://saintpauldevence.org/agenda/marche-petits-producteurs/2025-06-27/
LOCATION:Place de Gaulle\, Saint-Paul-de-Vence\, France
CATEGORIES:Marché
ATTACH;FMTTYPE=image/jpeg:https://saintpauldevence.org/wp-content/uploads/2021/04/marche-1-scaled-e1712823050881.jpg
END:VEVENT
BEGIN:VEVENT
DTSTART;TZID=Europe/Paris:20250627T103000
DTEND;TZID=Europe/Paris:20250627T120000
DTSTAMP:20260421T075536
CREATED:20250520T120810Z
LAST-MODIFIED:20250526T073402Z
UID:10014424-1751020200-1751025600@saintpauldevence.org
SUMMARY:Journées du Patrimoine de Pays et des Moulins
DESCRIPTION:Les Journées du Patrimoine de Pays et des Moulins auront lieu les vendredi 27 et samedi 28 juin 2025 à Saint-Paul-de-Vence avec une nouvelle édition « Terre à terre »\, mettant à l’honneur notre cadre de vie et les patrimoines nés du sol. Alors découvrez le programme de cette année : \n\nVendredi 27 juin de 10h30 à 12h : Visite guidée “Saint-Paul\, une terre fertile”. Découvrez l’histoire agricole du village\, de l’antiquité à nos jours.\nSamedi 28 juin de 10h à 12h : Visite guidée “ La vigne de Saint-Paul-de-Vence et autres cultures paysannes” suivie d’une projection de photos d’époque de Jacques Gomot à la médiathèque.\n\nInformations pratiques :\n-Départ Office de tourisme\n-Gratuit sur réservation au 04 93 32 86 95 / serviceguide@saint-pauldevence.com
URL:https://saintpauldevence.org/agenda/journees-du-patrimoine-de-pays-et-des-moulins-2/2025-06-27/
ATTACH;FMTTYPE=image/jpeg:https://saintpauldevence.org/wp-content/uploads/2025/05/20250410_110824-scaled-e1747986902430.jpg
END:VEVENT
BEGIN:VEVENT
DTSTART;TZID=Europe/Paris:20250627T200000
DTEND;TZID=Europe/Paris:20250627T233000
DTSTAMP:20260421T075536
CREATED:20250520T102253Z
LAST-MODIFIED:20250624T092818Z
UID:10014422-1751054400-1751067000@saintpauldevence.org
SUMMARY:Fête de la Saint-Jean
DESCRIPTION:[vc_row][vc_column][vc_column_text css= » »]À l’occasion de la Saint-Jean rendez-vous au pied des remparts le vendredi 27 juin 2025 dès 20h pour une soirée rythmée avec Djette Dana Dare avec la chanteuse Fanny.  \nA noter : le feu initialement prévu à l’occasion est annulé pour des raisons de sécurité\, en lien avec la vague de chaleur qui frappe actuellement le département et du risque élevé de feux de forêt. \nInformations pratiques :\n– Entrée libre\n– Buvette et restauration sur place\n– Renseignements auprès de l’Office de Tourisme : 04 93 32 86 95[/vc_column_text][/vc_column][/vc_row]
URL:https://saintpauldevence.org/agenda/fete-de-la-saint-jean-4/
LOCATION:Place de la Courtine
ATTACH;FMTTYPE=image/jpeg:https://saintpauldevence.org/wp-content/uploads/2025/05/IMG-20240623-WA0014-2.jpg
END:VEVENT
BEGIN:VEVENT
DTSTART;TZID=Europe/Paris:20250628T100000
DTEND;TZID=Europe/Paris:20250628T120000
DTSTAMP:20260421T075536
CREATED:20250520T120810Z
LAST-MODIFIED:20250526T073402Z
UID:10014425-1751104800-1751112000@saintpauldevence.org
SUMMARY:Journées du Patrimoine de Pays et des Moulins
DESCRIPTION:Les Journées du Patrimoine de Pays et des Moulins auront lieu les vendredi 27 et samedi 28 juin 2025 à Saint-Paul-de-Vence avec une nouvelle édition « Terre à terre »\, mettant à l’honneur notre cadre de vie et les patrimoines nés du sol. Alors découvrez le programme de cette année : \n\nVendredi 27 juin de 10h30 à 12h : Visite guidée “Saint-Paul\, une terre fertile”. Découvrez l’histoire agricole du village\, de l’antiquité à nos jours.\nSamedi 28 juin de 10h à 12h : Visite guidée “ La vigne de Saint-Paul-de-Vence et autres cultures paysannes” suivie d’une projection de photos d’époque de Jacques Gomot à la médiathèque.\n\nInformations pratiques :\n-Départ Office de tourisme\n-Gratuit sur réservation au 04 93 32 86 95 / serviceguide@saint-pauldevence.com
URL:https://saintpauldevence.org/agenda/journees-du-patrimoine-de-pays-et-des-moulins-2/2025-06-28/
ATTACH;FMTTYPE=image/jpeg:https://saintpauldevence.org/wp-content/uploads/2025/05/20250410_110824-scaled-e1747986902430.jpg
END:VEVENT
BEGIN:VEVENT
DTSTART;TZID=Europe/Paris:20250628T200000
DTEND;TZID=Europe/Paris:20250628T213000
DTSTAMP:20260421T075536
CREATED:20250423T184718Z
LAST-MODIFIED:20250423T184718Z
UID:10014417-1751140800-1751146200@saintpauldevence.org
SUMMARY:Spectacle de théâtre de l'association RéCréation
DESCRIPTION:L’Association RéCréation\, dirigée par Numa Sadoul\, vous invite à découvrir son spectacle de fin d’année\, le samedi 28 juin 2025 à 20h à l’Auditorium.   \nInformations pratiques : \n– Entrée libre
URL:https://saintpauldevence.org/agenda/spectacle-de-theatre-de-lassociation-recreation/
LOCATION:Auditorium\, 150 Rte des Serres\, Saint-Paul-de-Vence\, 06570\, France
ATTACH;FMTTYPE=image/jpeg:https://saintpauldevence.org/wp-content/uploads/2023/03/Theatre-scaled.jpg
GEO:43.698886784084;7.1200623819271
X-APPLE-STRUCTURED-LOCATION;VALUE=URI;X-ADDRESS=Auditorium 150 Rte des Serres Saint-Paul-de-Vence 06570 France;X-APPLE-RADIUS=500;X-TITLE=150 Rte des Serres:geo:7.1200623819271,43.698886784084
END:VEVENT
END:VCALENDAR