BEGIN:VCALENDAR
VERSION:2.0
PRODID:-//Saint-Paul-de-Vence - ECPv6.15.20//NONSGML v1.0//EN
CALSCALE:GREGORIAN
METHOD:PUBLISH
X-ORIGINAL-URL:https://saintpauldevence.org
X-WR-CALDESC:Évènements pour Saint-Paul-de-Vence
REFRESH-INTERVAL;VALUE=DURATION:PT1H
X-Robots-Tag:noindex
X-PUBLISHED-TTL:PT1H
BEGIN:VTIMEZONE
TZID:Europe/Paris
BEGIN:DAYLIGHT
TZOFFSETFROM:+0100
TZOFFSETTO:+0200
TZNAME:CEST
DTSTART:20240331T010000
END:DAYLIGHT
BEGIN:STANDARD
TZOFFSETFROM:+0200
TZOFFSETTO:+0100
TZNAME:CET
DTSTART:20241027T010000
END:STANDARD
BEGIN:DAYLIGHT
TZOFFSETFROM:+0100
TZOFFSETTO:+0200
TZNAME:CEST
DTSTART:20250330T010000
END:DAYLIGHT
BEGIN:STANDARD
TZOFFSETFROM:+0200
TZOFFSETTO:+0100
TZNAME:CET
DTSTART:20251026T010000
END:STANDARD
BEGIN:DAYLIGHT
TZOFFSETFROM:+0100
TZOFFSETTO:+0200
TZNAME:CEST
DTSTART:20260329T010000
END:DAYLIGHT
BEGIN:STANDARD
TZOFFSETFROM:+0200
TZOFFSETTO:+0100
TZNAME:CET
DTSTART:20261025T010000
END:STANDARD
END:VTIMEZONE
BEGIN:VEVENT
DTSTART;TZID=Europe/Paris:20250314T080000
DTEND;TZID=Europe/Paris:20251031T170000
DTSTAMP:20260421T134335
CREATED:20250127T111153Z
LAST-MODIFIED:20250127T111153Z
UID:10013403-1741939200-1761930000@saintpauldevence.org
SUMMARY:Exposition « Partenaires particulaires »
DESCRIPTION:Du 14 mars au 31 octobre 2025\, la Fondation CAB Saint-Paul-de-Vence vous présente l’exposition Partenaires particulaires (supports\, surfaces\, dissémination). Elle réunit une dizaine d’œuvres historiques du mouvement supports/surfaces. \nCe mouvement\, de courte durée mais toujours très actuel\, a marqué l’histoire de la scène française de la fin des années 1960 et du début 1970 à travers un retour à la peinture abstraite dans une version brute\, augmentée d’une bonne dose de savoir-faire. Peintures sans pinceau\, tableaux sans châssis\, toiles pliées\, brûlées\, bois assemblés\, empreintes tamponnées… \nCette exposition réunit autant de pratiques qui manipulent les imaginaires premiers des matières précaires\, des empreintes aux compositions-décomposées\, aux opérations\, abstractions mouvantes et lumineuses\, assemblages et recyclages\, etc. Ainsi l’enjeux / le jeu se situent dans un dépassement des œillères\, des postures et des frontières qui se jouent du système D\, particule de la matière. \nVenez (re)découvrir donc à la Fondation CAB\, des artistes venus du monde entier : Kapwani Kiwanga\, Brandon Ndife\, Robert Overby\, Lotus L Kang\, Ernest breleur\, Renée Levi\, Jack O’Brien\, Miho Dohi\, Myriam Mihindou\, Ladji Diaby\, Torkwase Dyson\, Melinda Fourn\, Edith Dekyndt\, Barbara Sanchez-Kane\, Hall Haus… \nInformations pratiques :\n– Commissaire de l’exposition : Hugo Vitrani\n– En savoir plus sur www.fondationcab.com \n 
URL:https://saintpauldevence.org/agenda/exposition-partenaires-particulaires/
LOCATION:Fondation CAB Saint-Paul de Vence\, 5766 Chemin des Trious\, Saint-Paul-de-Vence\, 06570\, France
ATTACH;FMTTYPE=image/png:https://saintpauldevence.org/wp-content/uploads/2025/01/Patrick-Saytour-Tuilage-1975-Teinture-sur-toile-solarises-Courtesy-Collection-Fondation-CAB.png
END:VEVENT
BEGIN:VEVENT
DTSTART;TZID=Europe/Paris:20250322T100000
DTEND;TZID=Europe/Paris:20250609T183000
DTSTAMP:20260421T134335
CREATED:20250207T081935Z
LAST-MODIFIED:20250207T081935Z
UID:10013415-1742637600-1749493800@saintpauldevence.org
SUMMARY:Exposition « Écoutez ! C’est l’éclipse. »
DESCRIPTION:[vc_row][vc_column][vc_column_text css= » »]Du samedi 22 mars au lundi 9 juin 2025\, la Fondation Maeght présente Écoutez ! C’est l’éclipse\, une exposition monographique consacrée à Hélène Delprat\, figure majeure de la scène artistique contemporaine. A travers une soixantaine d’œuvres (peintures\, dessins\, sculptures\, photographies…)\, l’exposition explore le monde d’Hélène Delprat dont l’histoire originale croise celle de la Fondation Maeght. À 16 ans\, elle y découvre Giacometti et Le Musée imaginaire de Malraux qui l’impressionnent au point de s’en souvenir encore aujourd’hui dans son accrochage actuel. \nÀ travers une pratique quotidienne\, où elle utilise à la fois le dessin\, la peinture\, la photographie\, les archives ou la vidéo\, elle développe une œuvre pleine d’autodérision\, une sorte de livre d’heures à la fois noir et sensible\, où fiction et documentaire se côtoient. Elle aime l’idée d’une mort drôle\, monstrueuse\, outrancière\, mélancolique… Son art est autant hanté par les fantômes de l’histoire (de la guerre en particulier) et de l’histoire de l’art (de Piero della Francesca à William Hogarth\, de Ad Reinhardt à Paul McCarthy…) que par les images populaires et familières. Elle est ainsi avide d’images de presse\, de la Gazette Drouot\, de cartoons d’hier et d’aujourd’hui. Elle n’a de cesse d’imprimer\, de photocopier\, de classer… Quant aux épisodes traumatisants de sa vie\, elle préfère leur donner la forme cryptée d’un rébus. Sa propension à tourner le pire en dérision rend son art d’autant plus vivant\, truculent\, drôle et archi-émouvant. \nInformations pratiques :\n– Commissaire de l’exposition : Laurence Bertrand Dorléac\n– Le 24 avril\, un concert d’Aline Piboule\, Voyage sonore dans l’œuvre d’Hélène Delprat\, se tiendra à la Fondation Maeght\, en partenariat avec le Festival de Saint-Paul-de-Vence et avec le soutien de la Société des Amis de la Fondation Maeght.\n– En savoir plus : www.fondationmaeght.com \n[/vc_column_text][/vc_column][/vc_row]
URL:https://saintpauldevence.org/agenda/exposition-ecoutez-cest-leclipse/
LOCATION:Fondation Maeght\, 623 Chemin des Gardettes\, Saint-Paul-de-Vence\, 06570\, France
ATTACH;FMTTYPE=image/png:https://saintpauldevence.org/wp-content/uploads/2025/02/Exposition_Ecoutez-Cest-leclipse_Helene-Dulprat.png
END:VEVENT
BEGIN:VEVENT
DTSTART;TZID=Europe/Paris:20250425T180000
DTEND;TZID=Europe/Paris:20250508T180000
DTSTAMP:20260421T134335
CREATED:20250307T085310Z
LAST-MODIFIED:20250326T125600Z
UID:10013431-1745604000-1746727200@saintpauldevence.org
SUMMARY:Exposition de Dominica Leccia
DESCRIPTION:Découvrez la prochaine exposition du Cercle des artistes ! Du vendredi 25 avril au jeudi 8 mai 2025\, l’artiste Dominica Leccia présente “Au delà du regard” à la Vieille Forge.  \nPassionnée par l’art depuis toujours\, cette ancienne enseignante a suivi des cours de peinture figurative à Paris pendant 15 ans avant de perfectionner sa technique de peinture à l’huile et à l’acrylique. Au-delà des portraits féminins\, elle se consacre également à l’art abstrait.  \nEn 2024\, Dominica Leccia a exposé à la Biennale de Venise\, en participant au projet “Femina e Mare Nostrum”.  \nInformations pratiques :\n-Vernissage le samedi 26 avril à 18h à la Vieille Forge\n-Entrée libre
URL:https://saintpauldevence.org/agenda/exposition-de-dominica-leccia/
LOCATION:La Vieille Forge
ATTACH;FMTTYPE=image/jpeg:https://saintpauldevence.org/wp-content/uploads/2025/03/Le-chagrin-de-Parthenope-30x30-Exposition-DL.jpg
END:VEVENT
BEGIN:VEVENT
DTSTART;TZID=Europe/Paris:20250505T090000
DTEND;TZID=Europe/Paris:20250505T100000
DTSTAMP:20260421T134335
CREATED:20250415T134057Z
LAST-MODIFIED:20250415T141111Z
UID:10013482-1746435600-1746439200@saintpauldevence.org
SUMMARY:Séances gymnastique douce pour séniors
DESCRIPTION:Dans le cadre des séances de remise en forme proposé par le CCAS de Saint-Paul-de-Vence\, venez participer à l’atelier de gymnastique douce à l’auditorium tous les lundis de 9h à 10h toute l’année (hors période estivale) ! \nInformations pratiques : \n\nTarif : 60€/trimestre pour un cours et 110€/trimestre pour les 2 cours\nInscriptions auprès du CCAS : 04 93  32 41 12 / ccas@saint-pauldevence.fr
URL:https://saintpauldevence.org/agenda/seances-gymnastique-douce-pour-seniors/2025-05-05/
LOCATION:Auditorium\, 150 Rte des Serres\, Saint-Paul-de-Vence\, 06570\, France
ATTACH;FMTTYPE=image/jpeg:https://saintpauldevence.org/wp-content/uploads/2020/09/Ateliers-seniors_gym-et-equilibre_SPDV_2020-e1631189624738.jpg
GEO:43.698886784084;7.1200623819271
X-APPLE-STRUCTURED-LOCATION;VALUE=URI;X-ADDRESS=Auditorium 150 Rte des Serres Saint-Paul-de-Vence 06570 France;X-APPLE-RADIUS=500;X-TITLE=150 Rte des Serres:geo:7.1200623819271,43.698886784084
END:VEVENT
BEGIN:VEVENT
DTSTART;TZID=Europe/Paris:20250506T140000
DTEND;TZID=Europe/Paris:20250506T160000
DTSTAMP:20260421T134335
CREATED:20250415T113749Z
LAST-MODIFIED:20250416T141610Z
UID:10013466-1746540000-1746547200@saintpauldevence.org
SUMMARY:Atelier marche nordique
DESCRIPTION:En partenariat avec le département 06 et l’association Sport et santé\, le CCAS de votre commune propose aux séniors de + de 60 ans un programme de remise en forme gratuit pendant 2 mois. \nObjectifs : maintenir sa forme et acquérir les bons réflexes pour votre santé. \n\n\nAteliers de « marche Nordique » : Tous les mardis à partir du 6 mai 2025. \n\n\nDont une session sur la sensibilisation aux gestes de premiers secours : le mardi 13 mai \n\n\nCes séances auront lieu au bois de La Sine de 14h à 16h. \nRenseignements auprès du CCAS : 04 93 32 41 12 / ccas@saint-pauldevence.fr
URL:https://saintpauldevence.org/agenda/atelier-marche-nordique/2025-05-06/
LOCATION:Bois de la Sine
ATTACH;FMTTYPE=image/jpeg:https://saintpauldevence.org/wp-content/uploads/2025/04/older-woman-trekking-outdoors-1-scaled.jpg
END:VEVENT
BEGIN:VEVENT
DTSTART;TZID=Europe/Paris:20250507T080000
DTEND;TZID=Europe/Paris:20250524T170000
DTSTAMP:20260421T134335
CREATED:20250423T123315Z
LAST-MODIFIED:20250509T091306Z
UID:10014409-1746604800-1748106000@saintpauldevence.org
SUMMARY:Micro-Folie : programme du mois de mai 
DESCRIPTION:Tous les mois\, la Micro-Folie de Saint-Paul-de-Vence vous propose de découvrir l’art autrement ! Ateliers\, expositions\, collections des plus grands musées nationaux et internationaux…venez vivre une expérience culturelle immersive unique ! À l’aide de tablettes ou d’écrans tactiles\, plongez dans des œuvres d’art et découvrez les détails d’une œuvre\, l’histoire de l’artiste… \nDécouvrez le programme de mai :  \nMusée numérique : \n\nMercredi 7 mai : Collection Nationale 2\nMercredi 14 mai : Collection Normandie [NOUVEAU]\nMercredi 21 mai : Eclats de nature\nSamedi 24 mai : Eclats de nature\nMercredi 28 mai : Notre-Dame-De-Paris\n\n>En accès libre et gratuit. \nLes ateliers du mois : \n\nMercredi 21 mai de 15h à 16h : Atelier créatif “Nature et découverte”\nVenez participer en famille à l’atelier créatif proposé par l’association des Jeunes Pousses. Puis\, assistez à la présentation de la Micro-Folie de Saint-Paul-de-Vence autour du thème « Éclats de Nature\nVendredi 23 mai de 16h à 18h30 : Exposition « Symphonie des papillons du monde »\nVenez rencontrer M. Denis Benichou\, lépidoptériste dans l’âme. Cet amoureux des papillons vous fera découvrir de nombreuses espèces qui peuplent les différentes contrées du monde.\nSamedi 24 mai de 14h à 15h : Atelier découverte « Les Impressionnistes et la Nature »\nDans le cadre de la Micro-Folie\, venez découvrir la palette de couleurs des impressionnistes qui ont succombé à la douceur des paysages.\nSamedi 24 mai de 15h à 18h30 : Découverte de la mallette pédagogique « le Paysage dans l’art »\nVenez satisfaire votre curiosité et découvrir\, grâce à la Micro-Folie\, des œuvres et des grands courants artistiques sous la forme de jeu\, de recherche d’indices et de propositions créatives. Et testez vos connaissances avec le quizz qui vous sera proposé à l’écran !\n\n>Tous les ateliers sont gratuits et sur inscriptions auprès de la médiathèque de Saint-Paul-de-Vence : micro-folie@saint-pauldevence.fr \nInformations complémentaires : 09 66 43 41 13 \nTéléchargez le programme !
URL:https://saintpauldevence.org/agenda/micro-folie-programme-du-mois-de-mai/
LOCATION:Médiathèque
ATTACH;FMTTYPE=image/jpeg:https://saintpauldevence.org/wp-content/uploads/2025/04/Micro-folie-SPDV.jpeg
END:VEVENT
BEGIN:VEVENT
DTSTART;TZID=Europe/Paris:20250507T083000
DTEND;TZID=Europe/Paris:20250507T093000
DTSTAMP:20260421T134335
CREATED:20250416T113907Z
LAST-MODIFIED:20250917T100415Z
UID:10014536-1746606600-1746610200@saintpauldevence.org
SUMMARY:Séances d’équilibre pour séniors
DESCRIPTION:[vc_row][vc_column][vc_column_text css= » »]Dans le cadre des séances de remise en forme proposées par le CCAS de Saint-Paul-de-Vence\, venez participer à l’atelier « d’équilibre » à l’auditorium tous les mercredis de 8h30 à 9h30 toute l’année (hors période estivale) ! \nInformations pratiques : \n\nTarif : 60€/trimestre pour un cours et 110€/trimestre pour les 2 cours\nInscriptions auprès du CCAS : 04 93  32 41 12 / ccas@saint-pauldevence.fr\n\n[/vc_column_text][/vc_column][/vc_row]
URL:https://saintpauldevence.org/agenda/seances-dequilibre-pour-seniors/2025-05-07/
LOCATION:Auditorium\, 150 Rte des Serres\, Saint-Paul-de-Vence\, 06570\, France
ATTACH;FMTTYPE=image/jpeg:https://saintpauldevence.org/wp-content/uploads/2025/04/woman-doing-gymnastics-exercises-scaled.jpg
GEO:43.698886784084;7.1200623819271
X-APPLE-STRUCTURED-LOCATION;VALUE=URI;X-ADDRESS=Auditorium 150 Rte des Serres Saint-Paul-de-Vence 06570 France;X-APPLE-RADIUS=500;X-TITLE=150 Rte des Serres:geo:7.1200623819271,43.698886784084
END:VEVENT
BEGIN:VEVENT
DTSTART;TZID=Europe/Paris:20250507T090000
DTEND;TZID=Europe/Paris:20250507T140000
DTSTAMP:20260421T134335
CREATED:20240411T081217Z
LAST-MODIFIED:20250926T072516Z
UID:10012586-1746608400-1746626400@saintpauldevence.org
SUMMARY:Marché des producteurs
DESCRIPTION:Le marché des petits producteurs se tient régulièrement les mercredis et les vendredis sur la Place De Gaulle. \nVenez découvrir les spécialités locales\, mais aussi de délicieux produits issus du terroir.
URL:https://saintpauldevence.org/agenda/marche-petits-producteurs/2025-05-07/
LOCATION:Place de Gaulle\, Saint-Paul-de-Vence\, France
CATEGORIES:Marché
ATTACH;FMTTYPE=image/jpeg:https://saintpauldevence.org/wp-content/uploads/2021/04/marche-1-scaled-e1712823050881.jpg
END:VEVENT
BEGIN:VEVENT
DTSTART;TZID=Europe/Paris:20250507T100000
DTEND;TZID=Europe/Paris:20250507T120000
DTSTAMP:20260421T134335
CREATED:20231122T072914Z
LAST-MODIFIED:20250825T085313Z
UID:10013371-1746612000-1746619200@saintpauldevence.org
SUMMARY:Café des lecteurs
DESCRIPTION:[vc_row][vc_column][vc_column_text css= » »]Vous aimez lire ? Vous avez envie de partager vos coups de cœur littéraires ? Rejoignez le club des lecteurs de la médiathèque de Saint-Paul-de-Vence et venez échanger autour de vos lectures. \nInfos pratiques : \n\nAccès gratuit. Ouvert à tous.\nRéservations : 04 93 32 41 70 / mediatheque@saint-pauldevence.fr\n\n[/vc_column_text][/vc_column][/vc_row]
URL:https://saintpauldevence.org/agenda/lu-et-approuve-cafe-des-lecteurs/2025-05-07/
LOCATION:Médiathèque
CATEGORIES:Culture
ATTACH;FMTTYPE=image/jpeg:https://saintpauldevence.org/wp-content/uploads/2023/11/cafe-des-lecteurs.jpg
END:VEVENT
BEGIN:VEVENT
DTSTART;TZID=Europe/Paris:20250508T110000
DTEND;TZID=Europe/Paris:20250508T120000
DTSTAMP:20260421T134335
CREATED:20250423T155828Z
LAST-MODIFIED:20250423T155828Z
UID:10014412-1746702000-1746705600@saintpauldevence.org
SUMMARY:Commémoration du 8 mai 1945
DESCRIPTION:À l’occasion de la cérémonie commémorative de la Victoire du 8 mai 1945\, venez assister à un moment d’hommage et de recueillement le jeudi 8 mai 2025 à 11h au Monument aux Morts.  \nAu programme : concert de l’Harmonie de Saint-Paul-de-Vence suivi d’un apéritif d’honneur. \nInformations pratiques :\n-Entrée libre
URL:https://saintpauldevence.org/agenda/commemoration-du-8-mai-1945/
LOCATION:Place Neuve
ATTACH;FMTTYPE=image/png:https://saintpauldevence.org/wp-content/uploads/2024/06/Monument-aux-Morts.png
END:VEVENT
BEGIN:VEVENT
DTSTART;TZID=Europe/Paris:20250509T090000
DTEND;TZID=Europe/Paris:20250509T140000
DTSTAMP:20260421T134335
CREATED:20240411T081217Z
LAST-MODIFIED:20250926T072516Z
UID:10012587-1746781200-1746799200@saintpauldevence.org
SUMMARY:Marché des producteurs
DESCRIPTION:Le marché des petits producteurs se tient régulièrement les mercredis et les vendredis sur la Place De Gaulle. \nVenez découvrir les spécialités locales\, mais aussi de délicieux produits issus du terroir.
URL:https://saintpauldevence.org/agenda/marche-petits-producteurs/2025-05-09/
LOCATION:Place de Gaulle\, Saint-Paul-de-Vence\, France
CATEGORIES:Marché
ATTACH;FMTTYPE=image/jpeg:https://saintpauldevence.org/wp-content/uploads/2021/04/marche-1-scaled-e1712823050881.jpg
END:VEVENT
BEGIN:VEVENT
DTSTART;TZID=Europe/Paris:20250509T180000
DTEND;TZID=Europe/Paris:20250522T180000
DTSTAMP:20260421T134335
CREATED:20250307T085552Z
LAST-MODIFIED:20250415T073152Z
UID:10013432-1746813600-1747936800@saintpauldevence.org
SUMMARY:Exposition de Iris Davaine 
DESCRIPTION:À découvrir du vendredi 9 mai au jeudi 22 mai 2025 à la Vieille Forge : l’exposition Iconique d’Iris Davaine. Formée à Paris et exerçant le métier de peintre depuis 2008\, Iris Davaine a posé ses pinceaux dans notre village où elle réalise des œuvres dont la limite se situe entre art et artisanat : fresques\, dorures\, fausses matières\, trompe l’œil… Elle s’est également spécialisée dans la technique de la dorure sous verre (verre églomisé).  \nInformations pratiques :\n-Vernissage le dimanche 11 mai à 18h à la Vieille Forge\n-Entrée libre
URL:https://saintpauldevence.org/agenda/exposition-de-iris-davaine/
LOCATION:La Vieille Forge
ATTACH;FMTTYPE=image/png:https://saintpauldevence.org/wp-content/uploads/2025/03/affiche-A3-Exposition-Iris-Davaine-2025.png
END:VEVENT
BEGIN:VEVENT
DTSTART;TZID=Europe/Paris:20250509T203000
DTEND;TZID=Europe/Paris:20250509T220000
DTSTAMP:20260421T134335
CREATED:20250127T103905Z
LAST-MODIFIED:20250127T103905Z
UID:10013402-1746822600-1746828000@saintpauldevence.org
SUMMARY:Pièce de théâtre “Les seins de Lola”
DESCRIPTION:Le vendredi 9 mai 2025 à 20h30 à l’Auditorium\, l’association Paul ‘Art vous invite à découvrir la pièce de théâtre : Les seins de Lola. Signée Maria Pacôme et interprétée par la compagnie S.BOSC\, cette comédie drôle et sensible aborde avec humour\, la chirurgie esthétique et la vieillesse chez la femme. \nRésumé : Lola\, une quinquagénaire fauchée\, décide de recourir à la chirurgie esthétique pour se refaire les seins. Stéphane\, son fils\, et Julien\, son ex-mari\, vont tenter de l’en dissuader\, tandis qu’elle sera faussement soutenue par sa belle-fille Caroline. Jérôme\, l’ami de Stéphane\, quant à lui\, n’aura d’yeux que pour Lola. \nAvec : Stéphanie BOSC\, Robin Cautard-Martucci\, Nicolas Drisset\, Jean-François Loppin et Juliette Malaussena.  \nInformations pratiques : \n-Tarifs : \n   – Grand public : 15€ par adulte et 5€ par enfant (- de 15 ans)\n   – Tarifs adhérent : 10€ par adulte / Gratuit pour les enfants (- de 15 ans)\n-Réservations sur billetreduc.com
URL:https://saintpauldevence.org/agenda/piece-de-theatre-les-seins-de-lola/
LOCATION:Auditorium\, 150 Rte des Serres\, Saint-Paul-de-Vence\, 06570\, France
ATTACH;FMTTYPE=image/jpeg:https://saintpauldevence.org/wp-content/uploads/2025/01/Les-seins-de-Lola-Paul-Art-SPDV.jpg
GEO:43.698886784084;7.1200623819271
X-APPLE-STRUCTURED-LOCATION;VALUE=URI;X-ADDRESS=Auditorium 150 Rte des Serres Saint-Paul-de-Vence 06570 France;X-APPLE-RADIUS=500;X-TITLE=150 Rte des Serres:geo:7.1200623819271,43.698886784084
END:VEVENT
BEGIN:VEVENT
DTSTART;TZID=Europe/Paris:20250510T180000
DTEND;TZID=Europe/Paris:20250510T190000
DTSTAMP:20260421T134335
CREATED:20250307T085816Z
LAST-MODIFIED:20250307T085816Z
UID:10013433-1746900000-1746903600@saintpauldevence.org
SUMMARY:Fête de la Saint-Antonin
DESCRIPTION:Rendez-vous à l’oratoire de Saint-Antonin (1748 Route des Serres) le samedi 10 mai à 18h pour assister à sa bénédiction. Ce moment de recueillement sera suivi d’un verre de l’amitié et de la dégustation des traditionnels beignets de fleurs d’acacias.  \nInformations pratiques :\nEntrée libre
URL:https://saintpauldevence.org/agenda/fete-de-la-saint-antonin-3/
LOCATION:Oratoire Saint Antonin
ATTACH;FMTTYPE=image/jpeg:https://saintpauldevence.org/wp-content/uploads/2025/03/20230510_190646-scaled.jpg
END:VEVENT
END:VCALENDAR