BEGIN:VCALENDAR
VERSION:2.0
PRODID:-//Saint-Paul-de-Vence - ECPv6.15.20//NONSGML v1.0//EN
CALSCALE:GREGORIAN
METHOD:PUBLISH
X-ORIGINAL-URL:https://saintpauldevence.org
X-WR-CALDESC:Évènements pour Saint-Paul-de-Vence
REFRESH-INTERVAL;VALUE=DURATION:PT1H
X-Robots-Tag:noindex
X-PUBLISHED-TTL:PT1H
BEGIN:VTIMEZONE
TZID:Europe/Paris
BEGIN:DAYLIGHT
TZOFFSETFROM:+0100
TZOFFSETTO:+0200
TZNAME:CEST
DTSTART:20240331T010000
END:DAYLIGHT
BEGIN:STANDARD
TZOFFSETFROM:+0200
TZOFFSETTO:+0100
TZNAME:CET
DTSTART:20241027T010000
END:STANDARD
BEGIN:DAYLIGHT
TZOFFSETFROM:+0100
TZOFFSETTO:+0200
TZNAME:CEST
DTSTART:20250330T010000
END:DAYLIGHT
BEGIN:STANDARD
TZOFFSETFROM:+0200
TZOFFSETTO:+0100
TZNAME:CET
DTSTART:20251026T010000
END:STANDARD
BEGIN:DAYLIGHT
TZOFFSETFROM:+0100
TZOFFSETTO:+0200
TZNAME:CEST
DTSTART:20260329T010000
END:DAYLIGHT
BEGIN:STANDARD
TZOFFSETFROM:+0200
TZOFFSETTO:+0100
TZNAME:CET
DTSTART:20261025T010000
END:STANDARD
END:VTIMEZONE
BEGIN:VEVENT
DTSTART;TZID=Europe/Paris:20250314T080000
DTEND;TZID=Europe/Paris:20251031T170000
DTSTAMP:20260421T135812
CREATED:20250127T111153Z
LAST-MODIFIED:20250127T111153Z
UID:10013403-1741939200-1761930000@saintpauldevence.org
SUMMARY:Exposition « Partenaires particulaires »
DESCRIPTION:Du 14 mars au 31 octobre 2025\, la Fondation CAB Saint-Paul-de-Vence vous présente l’exposition Partenaires particulaires (supports\, surfaces\, dissémination). Elle réunit une dizaine d’œuvres historiques du mouvement supports/surfaces. \nCe mouvement\, de courte durée mais toujours très actuel\, a marqué l’histoire de la scène française de la fin des années 1960 et du début 1970 à travers un retour à la peinture abstraite dans une version brute\, augmentée d’une bonne dose de savoir-faire. Peintures sans pinceau\, tableaux sans châssis\, toiles pliées\, brûlées\, bois assemblés\, empreintes tamponnées… \nCette exposition réunit autant de pratiques qui manipulent les imaginaires premiers des matières précaires\, des empreintes aux compositions-décomposées\, aux opérations\, abstractions mouvantes et lumineuses\, assemblages et recyclages\, etc. Ainsi l’enjeux / le jeu se situent dans un dépassement des œillères\, des postures et des frontières qui se jouent du système D\, particule de la matière. \nVenez (re)découvrir donc à la Fondation CAB\, des artistes venus du monde entier : Kapwani Kiwanga\, Brandon Ndife\, Robert Overby\, Lotus L Kang\, Ernest breleur\, Renée Levi\, Jack O’Brien\, Miho Dohi\, Myriam Mihindou\, Ladji Diaby\, Torkwase Dyson\, Melinda Fourn\, Edith Dekyndt\, Barbara Sanchez-Kane\, Hall Haus… \nInformations pratiques :\n– Commissaire de l’exposition : Hugo Vitrani\n– En savoir plus sur www.fondationcab.com \n 
URL:https://saintpauldevence.org/agenda/exposition-partenaires-particulaires/
LOCATION:Fondation CAB Saint-Paul de Vence\, 5766 Chemin des Trious\, Saint-Paul-de-Vence\, 06570\, France
ATTACH;FMTTYPE=image/png:https://saintpauldevence.org/wp-content/uploads/2025/01/Patrick-Saytour-Tuilage-1975-Teinture-sur-toile-solarises-Courtesy-Collection-Fondation-CAB.png
END:VEVENT
BEGIN:VEVENT
DTSTART;TZID=Europe/Paris:20250322T100000
DTEND;TZID=Europe/Paris:20250609T183000
DTSTAMP:20260421T135812
CREATED:20250207T081935Z
LAST-MODIFIED:20250207T081935Z
UID:10013415-1742637600-1749493800@saintpauldevence.org
SUMMARY:Exposition « Écoutez ! C’est l’éclipse. »
DESCRIPTION:[vc_row][vc_column][vc_column_text css= » »]Du samedi 22 mars au lundi 9 juin 2025\, la Fondation Maeght présente Écoutez ! C’est l’éclipse\, une exposition monographique consacrée à Hélène Delprat\, figure majeure de la scène artistique contemporaine. A travers une soixantaine d’œuvres (peintures\, dessins\, sculptures\, photographies…)\, l’exposition explore le monde d’Hélène Delprat dont l’histoire originale croise celle de la Fondation Maeght. À 16 ans\, elle y découvre Giacometti et Le Musée imaginaire de Malraux qui l’impressionnent au point de s’en souvenir encore aujourd’hui dans son accrochage actuel. \nÀ travers une pratique quotidienne\, où elle utilise à la fois le dessin\, la peinture\, la photographie\, les archives ou la vidéo\, elle développe une œuvre pleine d’autodérision\, une sorte de livre d’heures à la fois noir et sensible\, où fiction et documentaire se côtoient. Elle aime l’idée d’une mort drôle\, monstrueuse\, outrancière\, mélancolique… Son art est autant hanté par les fantômes de l’histoire (de la guerre en particulier) et de l’histoire de l’art (de Piero della Francesca à William Hogarth\, de Ad Reinhardt à Paul McCarthy…) que par les images populaires et familières. Elle est ainsi avide d’images de presse\, de la Gazette Drouot\, de cartoons d’hier et d’aujourd’hui. Elle n’a de cesse d’imprimer\, de photocopier\, de classer… Quant aux épisodes traumatisants de sa vie\, elle préfère leur donner la forme cryptée d’un rébus. Sa propension à tourner le pire en dérision rend son art d’autant plus vivant\, truculent\, drôle et archi-émouvant. \nInformations pratiques :\n– Commissaire de l’exposition : Laurence Bertrand Dorléac\n– Le 24 avril\, un concert d’Aline Piboule\, Voyage sonore dans l’œuvre d’Hélène Delprat\, se tiendra à la Fondation Maeght\, en partenariat avec le Festival de Saint-Paul-de-Vence et avec le soutien de la Société des Amis de la Fondation Maeght.\n– En savoir plus : www.fondationmaeght.com \n[/vc_column_text][/vc_column][/vc_row]
URL:https://saintpauldevence.org/agenda/exposition-ecoutez-cest-leclipse/
LOCATION:Fondation Maeght\, 623 Chemin des Gardettes\, Saint-Paul-de-Vence\, 06570\, France
ATTACH;FMTTYPE=image/png:https://saintpauldevence.org/wp-content/uploads/2025/02/Exposition_Ecoutez-Cest-leclipse_Helene-Dulprat.png
END:VEVENT
BEGIN:VEVENT
DTSTART;TZID=Europe/Paris:20250425T180000
DTEND;TZID=Europe/Paris:20250508T180000
DTSTAMP:20260421T135812
CREATED:20250307T085310Z
LAST-MODIFIED:20250326T125600Z
UID:10013431-1745604000-1746727200@saintpauldevence.org
SUMMARY:Exposition de Dominica Leccia
DESCRIPTION:Découvrez la prochaine exposition du Cercle des artistes ! Du vendredi 25 avril au jeudi 8 mai 2025\, l’artiste Dominica Leccia présente “Au delà du regard” à la Vieille Forge.  \nPassionnée par l’art depuis toujours\, cette ancienne enseignante a suivi des cours de peinture figurative à Paris pendant 15 ans avant de perfectionner sa technique de peinture à l’huile et à l’acrylique. Au-delà des portraits féminins\, elle se consacre également à l’art abstrait.  \nEn 2024\, Dominica Leccia a exposé à la Biennale de Venise\, en participant au projet “Femina e Mare Nostrum”.  \nInformations pratiques :\n-Vernissage le samedi 26 avril à 18h à la Vieille Forge\n-Entrée libre
URL:https://saintpauldevence.org/agenda/exposition-de-dominica-leccia/
LOCATION:La Vieille Forge
ATTACH;FMTTYPE=image/jpeg:https://saintpauldevence.org/wp-content/uploads/2025/03/Le-chagrin-de-Parthenope-30x30-Exposition-DL.jpg
END:VEVENT
BEGIN:VEVENT
DTSTART;TZID=Europe/Paris:20250428T090000
DTEND;TZID=Europe/Paris:20250428T100000
DTSTAMP:20260421T135812
CREATED:20250415T134057Z
LAST-MODIFIED:20250415T141111Z
UID:10013481-1745830800-1745834400@saintpauldevence.org
SUMMARY:Séances gymnastique douce pour séniors
DESCRIPTION:Dans le cadre des séances de remise en forme proposé par le CCAS de Saint-Paul-de-Vence\, venez participer à l’atelier de gymnastique douce à l’auditorium tous les lundis de 9h à 10h toute l’année (hors période estivale) ! \nInformations pratiques : \n\nTarif : 60€/trimestre pour un cours et 110€/trimestre pour les 2 cours\nInscriptions auprès du CCAS : 04 93  32 41 12 / ccas@saint-pauldevence.fr
URL:https://saintpauldevence.org/agenda/seances-gymnastique-douce-pour-seniors/2025-04-28/
LOCATION:Auditorium\, 150 Rte des Serres\, Saint-Paul-de-Vence\, 06570\, France
ATTACH;FMTTYPE=image/jpeg:https://saintpauldevence.org/wp-content/uploads/2020/09/Ateliers-seniors_gym-et-equilibre_SPDV_2020-e1631189624738.jpg
GEO:43.698886784084;7.1200623819271
X-APPLE-STRUCTURED-LOCATION;VALUE=URI;X-ADDRESS=Auditorium 150 Rte des Serres Saint-Paul-de-Vence 06570 France;X-APPLE-RADIUS=500;X-TITLE=150 Rte des Serres:geo:7.1200623819271,43.698886784084
END:VEVENT
BEGIN:VEVENT
DTSTART;TZID=Europe/Paris:20250429T140000
DTEND;TZID=Europe/Paris:20250429T170000
DTSTAMP:20260421T135812
CREATED:20250402T130932Z
LAST-MODIFIED:20250415T104029Z
UID:10013465-1745935200-1745946000@saintpauldevence.org
SUMMARY:Atelier marche nordique : réunion d'information et d'inscription
DESCRIPTION:En partenariat avec le département des Alpes-Maritimes et l’association Sport et santé\, le CCAS de votre commune propose aux séniors de + de 60 ans un programme de remise en forme gratuit pendant 2 mois : \n\nAteliers de « marche Nordique » / (à partir du 6 mai\, tous les mardis)\nUne session sur la sensibilisation aux gestes de premiers secours\n\nObjectifs : maintenir sa forme et acquérir les bons réflexes pour votre santé. \nCes séances auront lieu au bois de La Sine de 14h à 16h. \nPour vous inscrire\, munissez-vous de votre certificat médical et attestation de responsabilité civile et rendez-vous à la réunion d’information le mardi 29 avril à 14h à la Salle Freinet (mairie annexe). \nInformations pratiques : \n\nLe bâton de marche est fourni\nRenseignements auprès du CCAS : 04 93 32 41 12 / ccas@saint-pauldevence.fr
URL:https://saintpauldevence.org/agenda/atelier-marche-nordique-reunion-dinformation-et-dinscription/
LOCATION:Salle Freinet
ATTACH;FMTTYPE=image/jpeg:https://saintpauldevence.org/wp-content/uploads/2025/04/MARCHE-NORDIQUE-AFFICHE-A3-2025_SPV-scaled-e1743599346397.jpg
END:VEVENT
BEGIN:VEVENT
DTSTART;TZID=Europe/Paris:20250430T083000
DTEND;TZID=Europe/Paris:20250430T093000
DTSTAMP:20260421T135812
CREATED:20250416T113907Z
LAST-MODIFIED:20250917T100415Z
UID:10014535-1746001800-1746005400@saintpauldevence.org
SUMMARY:Séances d’équilibre pour séniors
DESCRIPTION:[vc_row][vc_column][vc_column_text css= » »]Dans le cadre des séances de remise en forme proposées par le CCAS de Saint-Paul-de-Vence\, venez participer à l’atelier « d’équilibre » à l’auditorium tous les mercredis de 8h30 à 9h30 toute l’année (hors période estivale) ! \nInformations pratiques : \n\nTarif : 60€/trimestre pour un cours et 110€/trimestre pour les 2 cours\nInscriptions auprès du CCAS : 04 93  32 41 12 / ccas@saint-pauldevence.fr\n\n[/vc_column_text][/vc_column][/vc_row]
URL:https://saintpauldevence.org/agenda/seances-dequilibre-pour-seniors/2025-04-30/
LOCATION:Auditorium\, 150 Rte des Serres\, Saint-Paul-de-Vence\, 06570\, France
ATTACH;FMTTYPE=image/jpeg:https://saintpauldevence.org/wp-content/uploads/2025/04/woman-doing-gymnastics-exercises-scaled.jpg
GEO:43.698886784084;7.1200623819271
X-APPLE-STRUCTURED-LOCATION;VALUE=URI;X-ADDRESS=Auditorium 150 Rte des Serres Saint-Paul-de-Vence 06570 France;X-APPLE-RADIUS=500;X-TITLE=150 Rte des Serres:geo:7.1200623819271,43.698886784084
END:VEVENT
BEGIN:VEVENT
DTSTART;TZID=Europe/Paris:20250502T090000
DTEND;TZID=Europe/Paris:20250502T140000
DTSTAMP:20260421T135812
CREATED:20240411T081217Z
LAST-MODIFIED:20250926T072516Z
UID:10012585-1746176400-1746194400@saintpauldevence.org
SUMMARY:Marché des producteurs
DESCRIPTION:Le marché des petits producteurs se tient régulièrement les mercredis et les vendredis sur la Place De Gaulle. \nVenez découvrir les spécialités locales\, mais aussi de délicieux produits issus du terroir.
URL:https://saintpauldevence.org/agenda/marche-petits-producteurs/2025-05-02/
LOCATION:Place de Gaulle\, Saint-Paul-de-Vence\, France
CATEGORIES:Marché
ATTACH;FMTTYPE=image/jpeg:https://saintpauldevence.org/wp-content/uploads/2021/04/marche-1-scaled-e1712823050881.jpg
END:VEVENT
END:VCALENDAR