BEGIN:VCALENDAR
VERSION:2.0
PRODID:-//Saint-Paul-de-Vence - ECPv6.15.20//NONSGML v1.0//EN
CALSCALE:GREGORIAN
METHOD:PUBLISH
X-ORIGINAL-URL:https://saintpauldevence.org
X-WR-CALDESC:Évènements pour Saint-Paul-de-Vence
REFRESH-INTERVAL;VALUE=DURATION:PT1H
X-Robots-Tag:noindex
X-PUBLISHED-TTL:PT1H
BEGIN:VTIMEZONE
TZID:Europe/Paris
BEGIN:DAYLIGHT
TZOFFSETFROM:+0100
TZOFFSETTO:+0200
TZNAME:CEST
DTSTART:20240331T010000
END:DAYLIGHT
BEGIN:STANDARD
TZOFFSETFROM:+0200
TZOFFSETTO:+0100
TZNAME:CET
DTSTART:20241027T010000
END:STANDARD
BEGIN:DAYLIGHT
TZOFFSETFROM:+0100
TZOFFSETTO:+0200
TZNAME:CEST
DTSTART:20250330T010000
END:DAYLIGHT
BEGIN:STANDARD
TZOFFSETFROM:+0200
TZOFFSETTO:+0100
TZNAME:CET
DTSTART:20251026T010000
END:STANDARD
BEGIN:DAYLIGHT
TZOFFSETFROM:+0100
TZOFFSETTO:+0200
TZNAME:CEST
DTSTART:20260329T010000
END:DAYLIGHT
BEGIN:STANDARD
TZOFFSETFROM:+0200
TZOFFSETTO:+0100
TZNAME:CET
DTSTART:20261025T010000
END:STANDARD
END:VTIMEZONE
BEGIN:VEVENT
DTSTART;TZID=Europe/Paris:20250314T080000
DTEND;TZID=Europe/Paris:20251031T170000
DTSTAMP:20260421T184830
CREATED:20250127T111153Z
LAST-MODIFIED:20250127T111153Z
UID:10013403-1741939200-1761930000@saintpauldevence.org
SUMMARY:Exposition « Partenaires particulaires »
DESCRIPTION:Du 14 mars au 31 octobre 2025\, la Fondation CAB Saint-Paul-de-Vence vous présente l’exposition Partenaires particulaires (supports\, surfaces\, dissémination). Elle réunit une dizaine d’œuvres historiques du mouvement supports/surfaces. \nCe mouvement\, de courte durée mais toujours très actuel\, a marqué l’histoire de la scène française de la fin des années 1960 et du début 1970 à travers un retour à la peinture abstraite dans une version brute\, augmentée d’une bonne dose de savoir-faire. Peintures sans pinceau\, tableaux sans châssis\, toiles pliées\, brûlées\, bois assemblés\, empreintes tamponnées… \nCette exposition réunit autant de pratiques qui manipulent les imaginaires premiers des matières précaires\, des empreintes aux compositions-décomposées\, aux opérations\, abstractions mouvantes et lumineuses\, assemblages et recyclages\, etc. Ainsi l’enjeux / le jeu se situent dans un dépassement des œillères\, des postures et des frontières qui se jouent du système D\, particule de la matière. \nVenez (re)découvrir donc à la Fondation CAB\, des artistes venus du monde entier : Kapwani Kiwanga\, Brandon Ndife\, Robert Overby\, Lotus L Kang\, Ernest breleur\, Renée Levi\, Jack O’Brien\, Miho Dohi\, Myriam Mihindou\, Ladji Diaby\, Torkwase Dyson\, Melinda Fourn\, Edith Dekyndt\, Barbara Sanchez-Kane\, Hall Haus… \nInformations pratiques :\n– Commissaire de l’exposition : Hugo Vitrani\n– En savoir plus sur www.fondationcab.com \n 
URL:https://saintpauldevence.org/agenda/exposition-partenaires-particulaires/
LOCATION:Fondation CAB Saint-Paul de Vence\, 5766 Chemin des Trious\, Saint-Paul-de-Vence\, 06570\, France
ATTACH;FMTTYPE=image/png:https://saintpauldevence.org/wp-content/uploads/2025/01/Patrick-Saytour-Tuilage-1975-Teinture-sur-toile-solarises-Courtesy-Collection-Fondation-CAB.png
END:VEVENT
BEGIN:VEVENT
DTSTART;TZID=Europe/Paris:20250315T100000
DTEND;TZID=Europe/Paris:20250326T180000
DTSTAMP:20260421T184830
CREATED:20250218T090720Z
LAST-MODIFIED:20250307T084747Z
UID:10013419-1742032800-1743012000@saintpauldevence.org
SUMMARY:Exposition "Formes et couleurs"  
DESCRIPTION:Du samedi 15 au mercredi 26 mars 2025\, à la Vieille Forge\, le Cercle des artistes de Saint-Paul-de-Vence présente l’exposition de Marie Mihoubi : « Formes et couleurs ». Cette artiste céramiste (et ingénieur en santé environnement) dévoile son univers aussi poétique qu’original à travers ses créations d’argile\, presque « régressives » qui insufflent de la douceur et de la gaieté. \nInformations pratiques : \n-Vernissage le samedi 15 mars 2025 à 18h à la Vieille Forge\n-Entrée libre
URL:https://saintpauldevence.org/agenda/exposition-formes-et-couleurs/
LOCATION:La Vieille Forge
ATTACH;FMTTYPE=image/jpeg:https://saintpauldevence.org/wp-content/uploads/2025/02/affiche-expo-ceramique-300dpi.jpg
END:VEVENT
BEGIN:VEVENT
DTSTART;TZID=Europe/Paris:20250317T133000
DTEND;TZID=Europe/Paris:20250317T160000
DTSTAMP:20260421T184830
CREATED:20250317T133102Z
LAST-MODIFIED:20250317T133104Z
UID:10013409-1742218200-1742227200@saintpauldevence.org
SUMMARY:Permanence : mutuelle communale
DESCRIPTION:Dans le cadre de la mise en place de la mutuelle communale\, des permanences gratuites sont organisées afin de répondre à vos questions ! \nRendez-vous en mairie principale\, à partir de 13h30\, les lundis :  \n\nlundi 7 avril 2025\nlundi 5 mai 2025\n\nPour rappel\, cette solution de santé mutualisé a pour objectif d’offrir une couverture de soin optimale à tous sans condition de ressources. \nInformations pratiques : \n\nInscriptions auprès de votre conseiller mutualiste : 04 92 90 70 60. Vous pouvez également effectuer vos demandes auprès du CCAS : ccas@saint-pauldevence.fr ou 04 93 32 41 24\nEn partenariat avec la Mutuelle Familiale et le CCAS\nPlus d’infos sur www.saintpauldevence.org/mutuelle-communale
URL:https://saintpauldevence.org/agenda/permanences-mutuelle-communale-2/2025-03-17/1/
LOCATION:Place de la Mairie
ATTACH;FMTTYPE=image/png:https://saintpauldevence.org/wp-content/uploads/2024/02/Mutuelle-communale-permanences-SPDV.png
END:VEVENT
BEGIN:VEVENT
DTSTART;TZID=Europe/Paris:20250317T143100
DTEND;TZID=Europe/Paris:20250317T143100
DTSTAMP:20260421T184830
CREATED:20250317T133102Z
LAST-MODIFIED:20250317T133104Z
UID:10013459-1742221860-1742221860@saintpauldevence.org
SUMMARY:Permanence : mutuelle communale
DESCRIPTION:Dans le cadre de la mise en place de la mutuelle communale\, des permanences gratuites sont organisées afin de répondre à vos questions ! \nRendez-vous en mairie principale\, à partir de 13h30\, les lundis :  \n\nlundi 7 avril 2025\nlundi 5 mai 2025\n\nPour rappel\, cette solution de santé mutualisé a pour objectif d’offrir une couverture de soin optimale à tous sans condition de ressources. \nInformations pratiques : \n\nInscriptions auprès de votre conseiller mutualiste : 04 92 90 70 60. Vous pouvez également effectuer vos demandes auprès du CCAS : ccas@saint-pauldevence.fr ou 04 93 32 41 24\nEn partenariat avec la Mutuelle Familiale et le CCAS\nPlus d’infos sur www.saintpauldevence.org/mutuelle-communale
URL:https://saintpauldevence.org/agenda/permanences-mutuelle-communale-2/2025-03-17/2/
LOCATION:Place de la Mairie
ATTACH;FMTTYPE=image/png:https://saintpauldevence.org/wp-content/uploads/2024/02/Mutuelle-communale-permanences-SPDV.png
END:VEVENT
BEGIN:VEVENT
DTSTART;TZID=Europe/Paris:20250318T100000
DTEND;TZID=Europe/Paris:20250420T183000
DTSTAMP:20260421T184830
CREATED:20250303T085621Z
LAST-MODIFIED:20250303T085621Z
UID:10013425-1742292000-1745173800@saintpauldevence.org
SUMMARY:Exposition « Regards d’artistes sur un monde à préserver » 
DESCRIPTION:Du mardi 18 mars au dimanche 20 avril 2025\, à l’espace Verdet\, venez découvrir une exposition unique réalisée par un binôme « mère-fille ». Marianne et Maïlie Lagorio vous invitent à partir en voyage avec elles. Résultante d’un récit autobiographique de Marianne\, intitulé Instinct positif de survie\, cette exposition était une sorte de challenge pour les 2 artistes et d’inviter à embarquer avec elles autour du monde (voyage réalisé en 1991-1992).   \nInformations pratiques  :\n– Entrée libre du mardi au dimanche de 10h30 à 18h30\n– Vernissage le samedi 22 mars à 16h à l’Espace André Verdet. Sur invitation.
URL:https://saintpauldevence.org/agenda/exposition-regards-dartistes-sur-un-monde-a-preserver/
LOCATION:Espace André Verdet\, Place de l'hospice\, Saint-Paul-de-Vence\, 06570\, France
ATTACH;FMTTYPE=image/jpeg:https://saintpauldevence.org/wp-content/uploads/2025/03/1-IMG_20241007_155315-scaled.jpg
END:VEVENT
BEGIN:VEVENT
DTSTART;TZID=Europe/Paris:20250319T140000
DTEND;TZID=Europe/Paris:20250319T160000
DTSTAMP:20260421T184830
CREATED:20250203T110512Z
LAST-MODIFIED:20250214T085840Z
UID:10013407-1742392800-1742400000@saintpauldevence.org
SUMMARY:Printemps des Poètes
DESCRIPTION:A l’occasion de la 27e édition du Printemps des Poètes\, votre médiathèque vous propose un atelier d’écriture de poésie autour du thème « volcanique » et des œuvres d’art du musée numérique Micro-Folie. \nL’auteure Brigitte Broc accompagnera ce moment qui sera suivi de lectures de poèmes. Rendez-vous le mercredi 19 mars 2025 à 14h à la médiathèque. \nInformations pratiques :\n– Pour adultes\n– Durée 2h\n– Gratuit sur inscriptions : 09 66 43 41 13 // mediatheque@saint-pauldevence.fr
URL:https://saintpauldevence.org/agenda/printemps-des-poetes/
LOCATION:Médiathèque
ATTACH;FMTTYPE=image/png:https://saintpauldevence.org/wp-content/uploads/2025/02/Printemps-des-poetes-2025.png
END:VEVENT
BEGIN:VEVENT
DTSTART;TZID=Europe/Paris:20250319T150000
DTEND;TZID=Europe/Paris:20250319T170000
DTSTAMP:20260421T184830
CREATED:20250306T101119Z
LAST-MODIFIED:20250306T101119Z
UID:10013426-1742396400-1742403600@saintpauldevence.org
SUMMARY:Séance dédicace de Thérèse Massa
DESCRIPTION:Le Cercle de Saint-Paul-de-Vence accueille Thérèse Massa\, le mercredi 19 mars à 15h (Place de Gaulle). L’autrice y présentera son dernier ouvrage\, Julia de la Colombe d’Or qui propose une plongée fascinante dans l’univers du célèbre restaurant saint-paulois. Ce moment sera suivi d’une séance de dédicace. \nRésumé :  \nAyant pris sa retraite après 40 ans de service à La Colombe d’Or\, Julia souhaitait laisser une trace écrite de sa vie\, de son engagement professionnel auprès de la famille Roux et des rencontres célèbres\, impromptues et nombreuses au cours de sa longue carrière. Cet ouvrage retrace son histoire émaillée de récits véridiques et parfois étonnants. Il met en scène également le monde artistique : peintres\, écrivains\, cinéastes\, acteurs\, chanteurs\, ambassadeurs\, rois… \nInformations pratiques : \n\nEntrée libre
URL:https://saintpauldevence.org/agenda/seance-dedicace-de-therese-massa/
LOCATION:Le Cercle de Saint-Paul-de-Vence
ATTACH;FMTTYPE=image/png:https://saintpauldevence.org/wp-content/uploads/2025/03/Seance-dedicace-Therese-Massa.png
END:VEVENT
BEGIN:VEVENT
DTSTART;TZID=Europe/Paris:20250320T183000
DTEND;TZID=Europe/Paris:20250320T203000
DTSTAMP:20260421T184830
CREATED:20250224T112228Z
LAST-MODIFIED:20250225T183013Z
UID:10013420-1742495400-1742502600@saintpauldevence.org
SUMMARY:Réunion publique : fermeture du réseau cuivre
DESCRIPTION:Initialement prévue fin 2024\, la réunion d’information sur l’extinction du réseau cuivre au profit de la fibre optique aura lieu le jeudi 20 mars 2025 à 18h30 à l’Auditorium. Les équipes de l’opérateur d’infrastructure fibre et les opérateurs commerciaux seront présents pour répondre à vos questions. \n\nÀ propos du décommissionnement du cuivre :\nLe réseau cuivre va disparaître progressivement au profit de la fibre optique. Plus moderne\, plus rapide et plus puissante\, elle permet de répondre davantage aux enjeux numériques actuels et futurs. Dans notre commune\, cette transition se fera de façon progressive :\n\nDepuis le 27 janvier 2025 : les opérateurs de télécommunication ont cessé de commercialiser les offres (téléphonie fixe et ADSL) via le cuivre.\nA compter du 27 janvier 2026 : les services de téléphonie et internet assurés par le réseau cuivre cesseront.\n\n\nInformations pratiques :\nAccès libre
URL:https://saintpauldevence.org/agenda/reunion-publique-fermeture-du-reseau-cuivre/
LOCATION:Auditorium\, 150 Rte des Serres\, Saint-Paul-de-Vence\, 06570\, France
ATTACH;FMTTYPE=image/jpeg:https://saintpauldevence.org/wp-content/uploads/2021/04/fibre-optique_SPDV-e1617884335253.jpg
GEO:43.698886784084;7.1200623819271
X-APPLE-STRUCTURED-LOCATION;VALUE=URI;X-ADDRESS=Auditorium 150 Rte des Serres Saint-Paul-de-Vence 06570 France;X-APPLE-RADIUS=500;X-TITLE=150 Rte des Serres:geo:7.1200623819271,43.698886784084
END:VEVENT
BEGIN:VEVENT
DTSTART;TZID=Europe/Paris:20250321T180000
DTEND;TZID=Europe/Paris:20250323T210000
DTSTAMP:20260421T184830
CREATED:20250114T112039Z
LAST-MODIFIED:20250310T092719Z
UID:10013366-1742580000-1742763600@saintpauldevence.org
SUMMARY:Tréteaux de printemps
DESCRIPTION:Du 21 au 23 mars 2025\, l’association les Tréteaux de Vence vous invite à partager un moment de divertissement à l’Auditorium. Au total : 10 pièces de théâtre vous seront proposées lors de ce festival de théâtre gratuit.  \nLe programme 2025 : \nVendredi 21 mars  \n\n 18h : Un grand cri d’amour (comédie) par la compagnie des Cigales (Le Pradet) \n 21h : Harvey (comédie) par le théâtre des 3 Corniches (Eze)\n\nSamedi 22 mars \n\n15h : L’Invitation (comédie) par Artistes’2 Théâtre (Fréjus)\n18h : Antik et Tok (comédie musicale) par les Papyboomers (Saint-Raphaël) \n21h : Téléphone-moi (comédie dramatique) par les Baladins des Baous (Vence) \n\nDimanche 23 mars \n\n 11h : L’Uluberlu (comédie burlesque) par les Baladins des Baous (Vence)\n15h : Et la Démocratie\, Bordel !! (comédie caustique) par Grain de Scène (Cannes)\n18h : Un cadeau particulier (comédie) par la Compagnie du Manteau d’Arlequin (Fréjus)\n21h : Broadway (comédie musicale) par la Compagnie Passé Présent (Mougins)\n\nInformations pratiques : \n\nEntrée gratuite. Participation au chapeau
URL:https://saintpauldevence.org/agenda/treteaux-de-printemps/
LOCATION:Auditorium\, 150 Rte des Serres\, Saint-Paul-de-Vence\, 06570\, France
ATTACH;FMTTYPE=image/jpeg:https://saintpauldevence.org/wp-content/uploads/2023/03/Theatre-scaled.jpg
GEO:43.698886784084;7.1200623819271
X-APPLE-STRUCTURED-LOCATION;VALUE=URI;X-ADDRESS=Auditorium 150 Rte des Serres Saint-Paul-de-Vence 06570 France;X-APPLE-RADIUS=500;X-TITLE=150 Rte des Serres:geo:7.1200623819271,43.698886784084
END:VEVENT
BEGIN:VEVENT
DTSTART;TZID=Europe/Paris:20250322T100000
DTEND;TZID=Europe/Paris:20250609T183000
DTSTAMP:20260421T184830
CREATED:20250207T081935Z
LAST-MODIFIED:20250207T081935Z
UID:10013415-1742637600-1749493800@saintpauldevence.org
SUMMARY:Exposition « Écoutez ! C’est l’éclipse. »
DESCRIPTION:[vc_row][vc_column][vc_column_text css= » »]Du samedi 22 mars au lundi 9 juin 2025\, la Fondation Maeght présente Écoutez ! C’est l’éclipse\, une exposition monographique consacrée à Hélène Delprat\, figure majeure de la scène artistique contemporaine. A travers une soixantaine d’œuvres (peintures\, dessins\, sculptures\, photographies…)\, l’exposition explore le monde d’Hélène Delprat dont l’histoire originale croise celle de la Fondation Maeght. À 16 ans\, elle y découvre Giacometti et Le Musée imaginaire de Malraux qui l’impressionnent au point de s’en souvenir encore aujourd’hui dans son accrochage actuel. \nÀ travers une pratique quotidienne\, où elle utilise à la fois le dessin\, la peinture\, la photographie\, les archives ou la vidéo\, elle développe une œuvre pleine d’autodérision\, une sorte de livre d’heures à la fois noir et sensible\, où fiction et documentaire se côtoient. Elle aime l’idée d’une mort drôle\, monstrueuse\, outrancière\, mélancolique… Son art est autant hanté par les fantômes de l’histoire (de la guerre en particulier) et de l’histoire de l’art (de Piero della Francesca à William Hogarth\, de Ad Reinhardt à Paul McCarthy…) que par les images populaires et familières. Elle est ainsi avide d’images de presse\, de la Gazette Drouot\, de cartoons d’hier et d’aujourd’hui. Elle n’a de cesse d’imprimer\, de photocopier\, de classer… Quant aux épisodes traumatisants de sa vie\, elle préfère leur donner la forme cryptée d’un rébus. Sa propension à tourner le pire en dérision rend son art d’autant plus vivant\, truculent\, drôle et archi-émouvant. \nInformations pratiques :\n– Commissaire de l’exposition : Laurence Bertrand Dorléac\n– Le 24 avril\, un concert d’Aline Piboule\, Voyage sonore dans l’œuvre d’Hélène Delprat\, se tiendra à la Fondation Maeght\, en partenariat avec le Festival de Saint-Paul-de-Vence et avec le soutien de la Société des Amis de la Fondation Maeght.\n– En savoir plus : www.fondationmaeght.com \n[/vc_column_text][/vc_column][/vc_row]
URL:https://saintpauldevence.org/agenda/exposition-ecoutez-cest-leclipse/
LOCATION:Fondation Maeght\, 623 Chemin des Gardettes\, Saint-Paul-de-Vence\, 06570\, France
ATTACH;FMTTYPE=image/png:https://saintpauldevence.org/wp-content/uploads/2025/02/Exposition_Ecoutez-Cest-leclipse_Helene-Dulprat.png
END:VEVENT
END:VCALENDAR