BEGIN:VCALENDAR
VERSION:2.0
PRODID:-//Saint-Paul-de-Vence - ECPv6.15.20//NONSGML v1.0//EN
CALSCALE:GREGORIAN
METHOD:PUBLISH
X-ORIGINAL-URL:https://saintpauldevence.org
X-WR-CALDESC:Évènements pour Saint-Paul-de-Vence
REFRESH-INTERVAL;VALUE=DURATION:PT1H
X-Robots-Tag:noindex
X-PUBLISHED-TTL:PT1H
BEGIN:VTIMEZONE
TZID:Europe/Paris
BEGIN:DAYLIGHT
TZOFFSETFROM:+0100
TZOFFSETTO:+0200
TZNAME:CEST
DTSTART:20240331T010000
END:DAYLIGHT
BEGIN:STANDARD
TZOFFSETFROM:+0200
TZOFFSETTO:+0100
TZNAME:CET
DTSTART:20241027T010000
END:STANDARD
BEGIN:DAYLIGHT
TZOFFSETFROM:+0100
TZOFFSETTO:+0200
TZNAME:CEST
DTSTART:20250330T010000
END:DAYLIGHT
BEGIN:STANDARD
TZOFFSETFROM:+0200
TZOFFSETTO:+0100
TZNAME:CET
DTSTART:20251026T010000
END:STANDARD
BEGIN:DAYLIGHT
TZOFFSETFROM:+0100
TZOFFSETTO:+0200
TZNAME:CEST
DTSTART:20260329T010000
END:DAYLIGHT
BEGIN:STANDARD
TZOFFSETFROM:+0200
TZOFFSETTO:+0100
TZNAME:CET
DTSTART:20261025T010000
END:STANDARD
END:VTIMEZONE
BEGIN:VEVENT
DTSTART;TZID=Europe/Paris:20250213T100000
DTEND;TZID=Europe/Paris:20250313T180000
DTSTAMP:20260421T184827
CREATED:20250207T081611Z
LAST-MODIFIED:20250207T081611Z
UID:10013414-1739440800-1741888800@saintpauldevence.org
SUMMARY:Exposition collective : “Le Monde des Océans”
DESCRIPTION:Le Cercle des Artistes de Saint-Paul-de-Vence (CASP) vous présente sa nouvelle exposition collective : “Le Monde des Océans”. Du jeudi 13 février au jeudi 13 mars 2025 à la Vieille Forge\, venez découvrir ce subtil clin d’œil artistique sur la beauté des océans et le respect de ce monde vivant. Un thème qui fait écho à la Conférence des Nations Unies sur les océans\, prévue cette année à Nice. \nInformations pratiques :\n-Vernissage le dimanche 16 février à 17h à la Vieille Forge\n-Entrée libre
URL:https://saintpauldevence.org/agenda/exposition-collective-le-monde-des-oceans/
LOCATION:La Vieille Forge
ATTACH;FMTTYPE=image/jpeg:https://saintpauldevence.org/wp-content/uploads/2025/02/CASP-AFFICHE-A3-OCEANS-scaled-e1738916158589.jpg
END:VEVENT
BEGIN:VEVENT
DTSTART;TZID=Europe/Paris:20250308T143000
DTEND;TZID=Europe/Paris:20250308T173000
DTSTAMP:20260421T184827
CREATED:20250303T085307Z
LAST-MODIFIED:20250303T085307Z
UID:10013424-1741444200-1741455000@saintpauldevence.org
SUMMARY:Atelier multiArts : poésie volcanique
DESCRIPTION:En écho à la Journée Mondiale de la Femme\, le Cercle des artistes de Saint-Paul-de-Vence vous propose un atelier multiArts sur le thème de la « poésie volcanique » le samedi 8 mars 2025 à partir de 14h30 à la Vieille Forge. \nAu programme : dessin\, peinture\, poésie\, musique\, modelage… L’occasion idéale de partager un instant poétique et artistique ! \nÀ propos des ateliers multiArts  : \nOrganisés les week-ends à la Vieille Forge\, ils ont pour objectif de valoriser les rencontres et les échanges artistiques afin de créer des moments de ressentis en temps réel. « Un mot\, un son\, une forme\, un mouvement : ils résonnent\, ils vibrent et dessinent une passerelle entre le visible et l’invisible ». \nInformations pratiques :\n– Gratuit.\n– Ouvert à tous.
URL:https://saintpauldevence.org/agenda/atelier-multiarts-poesie-volcanique/
LOCATION:La Vieille Forge
ATTACH;FMTTYPE=image/png:https://saintpauldevence.org/wp-content/uploads/2024/05/Exposition.png
END:VEVENT
END:VCALENDAR