BEGIN:VCALENDAR
VERSION:2.0
PRODID:-//Saint-Paul-de-Vence - ECPv6.15.20//NONSGML v1.0//EN
CALSCALE:GREGORIAN
METHOD:PUBLISH
X-WR-CALNAME:Saint-Paul-de-Vence
X-ORIGINAL-URL:https://saintpauldevence.org
X-WR-CALDESC:Évènements pour Saint-Paul-de-Vence
REFRESH-INTERVAL;VALUE=DURATION:PT1H
X-Robots-Tag:noindex
X-PUBLISHED-TTL:PT1H
BEGIN:VTIMEZONE
TZID:Europe/Paris
BEGIN:DAYLIGHT
TZOFFSETFROM:+0100
TZOFFSETTO:+0200
TZNAME:CEST
DTSTART:20230326T010000
END:DAYLIGHT
BEGIN:STANDARD
TZOFFSETFROM:+0200
TZOFFSETTO:+0100
TZNAME:CET
DTSTART:20231029T010000
END:STANDARD
BEGIN:DAYLIGHT
TZOFFSETFROM:+0100
TZOFFSETTO:+0200
TZNAME:CEST
DTSTART:20240331T010000
END:DAYLIGHT
BEGIN:STANDARD
TZOFFSETFROM:+0200
TZOFFSETTO:+0100
TZNAME:CET
DTSTART:20241027T010000
END:STANDARD
BEGIN:DAYLIGHT
TZOFFSETFROM:+0100
TZOFFSETTO:+0200
TZNAME:CEST
DTSTART:20250330T010000
END:DAYLIGHT
BEGIN:STANDARD
TZOFFSETFROM:+0200
TZOFFSETTO:+0100
TZNAME:CET
DTSTART:20251026T010000
END:STANDARD
END:VTIMEZONE
BEGIN:VEVENT
DTSTART;TZID=Europe/Paris:20240321T080000
DTEND;TZID=Europe/Paris:20241027T170000
DTSTAMP:20260421T175558
CREATED:20240527T121655Z
LAST-MODIFIED:20240527T121655Z
UID:10013147-1711008000-1730048400@saintpauldevence.org
SUMMARY:Exposition Muller Van Severen : Fondation CAB
DESCRIPTION:Du 21 mars au 27 octobre 2024\, la Fondation CAB présente une exposition de Muller Van Severen\, le duo de designers belges Fien Muller (1978\, Lokeren) et Hannes Van Severen (1979\, Gand). \nRéputés pour leurs objets de mobilier sculpturalement intéressants\, Muller Van Severen présente une sélection de son travail des 12 dernières années\, en y ajoutant une dimension supplémentaire à l’expérience par des zooms avant et arrière (à travers le duo de photographes Scheltens et Abbenes) des objets tels que des prototypes\, des dessins\, des matériaux\, etc. Le résultat est un regard unique et distinct sur les techniques de travail de l’un des studios de design les plus iconiques d’Europe. \nEntre l’art et le design\, Muller Van Severen créent des meubles polyvalents\, colorés et sculpturalement attrayants\, caractérisés par une recherche minutieuse de l’art\, de l’architecture et des matériaux et qui interagissent avec l’espace qui les entoure. Soigneusement sélectionnés\, les matériaux tels que le cuir\, le laiton\, le polyéthylène\, l’acier\, le marbre et l’émail sont souvent le point de départ de leur parcours design. \nDotés d’une sensibilité pour les espaces architecturaux\, leurs objets situés entre meubles\, installations et œuvres d’art\, ne peuvent être qu’exposés dans le bâtiment des années 1950 de la Fondation CAB\, entièrement rénové par l’architecte d’intérieur et designer français Charles Zana. \nEn savoir plus sur www.fondationcab.com
URL:https://saintpauldevence.org/agenda/exposition-muller-van-severen-fondation-cab/
LOCATION:Fondation CAB Saint-Paul de Vence\, 5766 Chemin des Trious\, Saint-Paul-de-Vence\, 06570\, France
ATTACH;FMTTYPE=image/png:https://saintpauldevence.org/wp-content/uploads/2024/05/Exposition-Muller-Van-Severen-Foondation-CAB-2024.png
END:VEVENT
BEGIN:VEVENT
DTSTART;TZID=Europe/Paris:20240321T100000
DTEND;TZID=Europe/Paris:20241027T170000
DTSTAMP:20260421T175558
CREATED:20240123T073856Z
LAST-MODIFIED:20240123T122506Z
UID:10011687-1711015200-1730048400@saintpauldevence.org
SUMMARY:Exposition Fondation CAB : « Specific Subjects
DESCRIPTION:Du 21 mars au 27 octobre 2024\, la Fondation CAB accueillera l’exposition Specific Subjects d’Edith Dekyndt\, tissant des liens entre les technologies nouvelles et évolutives\, les savoirs ancestraux et les enjeux contemporains. \nL’univers artistique d’Edith Dekyndt\, où le dialogue entre la nature et la culture s’entremêle avec le territoire\, nous invite\, en tant que spectateurs\, à explorer de multiples niveaux de signification et à remettre en question notre compréhension de l’espace\, de la mémoire et de la temporalité. \nDans le contexte actuel\, marqué par des conflits et des transformations radicales de nos modes de vie et d’action\, avec des répercussions économiques\, matérielles\, immatérielles et émotionnelles\, l’artiste propose une série d’œuvres dans lesquelles la dynamique entre la nature et la culture\, le rural et l’urbain\, génère de nouveaux paradigmes auxquels il faut se confronter. \nInformations complémentaires :  \n\nCommissaire de l’exposition : María Inés Rodríguez\nLe vernissage aura lieu le jeudi 21 mars 2024 à la Fondation CAB Saint-Paul-de-Vence\nHoraires d’ouverture et informations sur www.fondationcab.com
URL:https://saintpauldevence.org/agenda/exposition-fondation-cab-specific-subjects/
LOCATION:Fondation CAB Saint-Paul de Vence\, 5766 Chemin des Trious\, Saint-Paul-de-Vence\, 06570\, France
ATTACH;FMTTYPE=image/jpeg:https://saintpauldevence.org/wp-content/uploads/2024/01/005-ATELIER-detail-Tissu-impregne-de-vin-et-toile-enterree-scaled.jpg
END:VEVENT
BEGIN:VEVENT
DTSTART;TZID=Europe/Paris:20241001T100000
DTEND;TZID=Europe/Paris:20241026T180000
DTSTAMP:20260421T175558
CREATED:20240926T100026Z
LAST-MODIFIED:20240926T100026Z
UID:10013234-1727776800-1729965600@saintpauldevence.org
SUMMARY:Concours de dessin “Votre Saint-Paul”
DESCRIPTION:Du 1er au 26 octobre 2024\, un concours de dessin\, ouvert à tous\, est organisé sur le thème “Votre Saint-Paul”. \nLes dessins\, réalisés aux crayons\, aux feutres ou à la peinture\, devront respecter les conditions suivantes :\n– Formats A5\, A4 et A3 uniquement.\n– Faire figurer au dos : l’âge et les coordonnées de l’artiste ainsi que quelques mots d’explication.\n– Les dessins devront être déposés à l’Office de Tourisme avant le samedi 26 octobre. \nAfin de récompenser les participants (qui se répartiront en 2 catégories : + de 14 ans et – de 14 ans)\, une remise des prix\, suivie d’une collation\, sera organisée le samedi 2 novembre à 16h. \nInformations pratiques :\n– Gratuit.\n– Inscriptions auprès de l’Office de Tourisme : 04 93 32 86 95
URL:https://saintpauldevence.org/agenda/concours-de-dessin-votre-saint-paul/
LOCATION:Office de tourisme
ATTACH;FMTTYPE=image/jpeg:https://saintpauldevence.org/wp-content/uploads/2024/09/woman-home-drawing_23-2148902376.jpg
END:VEVENT
BEGIN:VEVENT
DTSTART;TZID=Europe/Paris:20241010T100000
DTEND;TZID=Europe/Paris:20241021T180000
DTSTAMP:20260421T175558
CREATED:20240923T094146Z
LAST-MODIFIED:20240923T094146Z
UID:10013226-1728554400-1729533600@saintpauldevence.org
SUMMARY:Exposition de Rastorgueff
DESCRIPTION:Du 10 au 21 octobre 2024\, venez découvrir la nouvelle exposition du Cercle des Artistes de Saint-Paul-de-Vence : “Travail autour des bois rares et précieux d’ici et d’ailleurs” de Rastorgueff. Alliant sculpture et marqueterie\, l’artiste utilise les couleurs naturelles des différents bois pour la composition de ses tableaux. \nInformations pratiques :\n-Exposition présentée jusqu’au 21 octobre à la Vieille Forge\n-Entrée libre tous les jours de 14h à 18h
URL:https://saintpauldevence.org/agenda/exposition-de-rastorgueff/
LOCATION:La Vieille Forge
ATTACH;FMTTYPE=image/png:https://saintpauldevence.org/wp-content/uploads/2024/09/Exposition-Travail-autour-du-bois-SPDV.png
END:VEVENT
BEGIN:VEVENT
DTSTART;TZID=Europe/Paris:20241015T100000
DTEND;TZID=Europe/Paris:20241015T120000
DTSTAMP:20260421T175558
CREATED:20240902T140809Z
LAST-MODIFIED:20240924T073345Z
UID:10013230-1728986400-1728993600@saintpauldevence.org
SUMMARY:Atelier "marche active"
DESCRIPTION:En avant\, marche ! Rendez-vous le mardi 1er octobre de 10h à 12h pour participer à cette activité physique en extérieur. \nChaque séance sera ponctuée d’un échauffement articulaire\, de démonstrations d’exercices\, des conseils pratiques et des explications sur le fonctionnement du corps humain. \nLes prochaines séances : \n\nMardi 8 octobre 204\nMardi 15 octobre 2024\n\nInformations pratiques :  \n– Atelier gratuit.\n– Départ depuis le parking se trouvant face à la médiathèque de Villeneuve-Loubet.\n– Sur inscription auprès du CCAS : 04 93 32 41 24 \n  \n  \n 
URL:https://saintpauldevence.org/agenda/atelier-marche-active/2024-10-15/
LOCATION:Place de Gaulle\, Saint-Paul-de-Vence\, France
CATEGORIES:CCAS
ATTACH;FMTTYPE=image/jpeg:https://saintpauldevence.org/wp-content/uploads/2024/09/female-sneakers-pave-start-position-scaled-e1725286069167.jpg
ORGANIZER;CN="CCAS de Saint-Paul-de-Vence":MAILTO:ccas@saint-pauldevence.fr
END:VEVENT
BEGIN:VEVENT
DTSTART;TZID=Europe/Paris:20241016T090000
DTEND;TZID=Europe/Paris:20241016T140000
DTSTAMP:20260421T175558
CREATED:20240411T081217Z
LAST-MODIFIED:20250926T072516Z
UID:10012528-1729069200-1729087200@saintpauldevence.org
SUMMARY:Marché des producteurs
DESCRIPTION:Le marché des petits producteurs se tient régulièrement les mercredis et les vendredis sur la Place De Gaulle. \nVenez découvrir les spécialités locales\, mais aussi de délicieux produits issus du terroir.
URL:https://saintpauldevence.org/agenda/marche-petits-producteurs/2024-10-16/
LOCATION:Place de Gaulle\, Saint-Paul-de-Vence\, France
CATEGORIES:Marché
ATTACH;FMTTYPE=image/jpeg:https://saintpauldevence.org/wp-content/uploads/2021/04/marche-1-scaled-e1712823050881.jpg
END:VEVENT
BEGIN:VEVENT
DTSTART;TZID=Europe/Paris:20241017T080000
DTEND;TZID=Europe/Paris:20241031T170000
DTSTAMP:20260421T175558
CREATED:20240813T081704Z
LAST-MODIFIED:20240813T081704Z
UID:10013207-1729152000-1730394000@saintpauldevence.org
SUMMARY:Fête de l’automne
DESCRIPTION:Du 17 au 31 octobre 2024\, Saint-Paul-de-Vence se pare de ses plus beaux vêtements d’automne. Afin de célébrer cette nouvelle saison\, les commerçants habilleront le village de couleur orange. Citrouilles et bottes de paille seront parsemées ici et là… Ambiance dépaysante et instagrammable à souhait !
URL:https://saintpauldevence.org/agenda/fete-de-lautomne-2/
LOCATION:Village
ATTACH;FMTTYPE=image/png:https://saintpauldevence.org/wp-content/uploads/2024/08/Fete-automne-SPDV.png
END:VEVENT
BEGIN:VEVENT
DTSTART;TZID=Europe/Paris:20241018T090000
DTEND;TZID=Europe/Paris:20241018T140000
DTSTAMP:20260421T175558
CREATED:20240411T081217Z
LAST-MODIFIED:20250926T072516Z
UID:10012529-1729242000-1729260000@saintpauldevence.org
SUMMARY:Marché des producteurs
DESCRIPTION:Le marché des petits producteurs se tient régulièrement les mercredis et les vendredis sur la Place De Gaulle. \nVenez découvrir les spécialités locales\, mais aussi de délicieux produits issus du terroir.
URL:https://saintpauldevence.org/agenda/marche-petits-producteurs/2024-10-18/
LOCATION:Place de Gaulle\, Saint-Paul-de-Vence\, France
CATEGORIES:Marché
ATTACH;FMTTYPE=image/jpeg:https://saintpauldevence.org/wp-content/uploads/2021/04/marche-1-scaled-e1712823050881.jpg
END:VEVENT
BEGIN:VEVENT
DTSTART;TZID=Europe/Paris:20241019T090000
DTEND;TZID=Europe/Paris:20241019T123000
DTSTAMP:20260421T175558
CREATED:20240910T095433Z
LAST-MODIFIED:20240918T083252Z
UID:10013210-1729328400-1729341000@saintpauldevence.org
SUMMARY:CASA Nature : Flore du village : exotiques\, compagnes de l'homme et rudérale
DESCRIPTION:Accompagné d’un botaniste\, partez à la découverte des plantes exotiques de nos jardins azuréens\, leurs origines et leur utilisation (médicinales ou poisons\, climat\, biologie). \nInformations pratiques : \n\nGratuit\nSur inscription. Nombre de places limitées (30 pax)\nCette sortie vous est proposée dans le cadre du programme CASA – Nature de la Communauté d’Agglomération Sophia Antipolis.\nInformations et inscriptions sur le site internet CASA Nature 
URL:https://saintpauldevence.org/agenda/casa-nature-balade-decouverte-de-la-flore-mediterraneenne/
CATEGORIES:Environnement
ATTACH;FMTTYPE=image/jpeg:https://saintpauldevence.org/wp-content/uploads/2022/04/Concours-photo-nature-SPDV.jpg
END:VEVENT
BEGIN:VEVENT
DTSTART;TZID=Europe/Paris:20241019T100000
DTEND;TZID=Europe/Paris:20241019T190000
DTSTAMP:20260421T175558
CREATED:20240925T141016Z
LAST-MODIFIED:20240925T141016Z
UID:10013232-1729332000-1729364400@saintpauldevence.org
SUMMARY:Braderie des commerçants
DESCRIPTION:La braderie des commerçants est de retour les samedi 19 et dimanche 20 octobre 2024 ! L’Association des commerçants et des artistes Saint-Paulois (ACASP) vous donne rendez-vous de 10h à 19h pour une session shopping à petits prix. Prêt-à-porter\, bijoux\, accessoires de mode\, œuvres d’art\, épicerie fine\, cosmétique… De quoi faire plaisir et se faire plaisir ! \nInformations pratiques :\n– Parking publics gratuits grâce au soutien de la mairie.\n– Entrée libre
URL:https://saintpauldevence.org/agenda/braderie-des-commercants-5/2024-10-19/
LOCATION:Village
ATTACH;FMTTYPE=image/jpeg:https://saintpauldevence.org/wp-content/uploads/2024/09/20231022_131749-scaled.jpg
END:VEVENT
BEGIN:VEVENT
DTSTART;TZID=Europe/Paris:20241020T090000
DTEND;TZID=Europe/Paris:20241020T120000
DTSTAMP:20260421T175558
CREATED:20240910T100117Z
LAST-MODIFIED:20240912T100705Z
UID:10013211-1729414800-1729425600@saintpauldevence.org
SUMMARY:CASA Nature : récolte d'olives
DESCRIPTION:Venez participer à une récolte participative dans une oliveraie située route de Vence (à la sortie du village). Cette activité ancestrale authentique vous permettra de partager un moment convivial en famille !\nUne idée sortie idéale pour découvrir l’olivier et sa culture répandue à l’ensemble du bassin méditerranéen ! \nInformations pratiques : \n\nGratuit\nSur inscription. Nombre de places limitées (50 pax)\nCette sortie vous est proposée dans le cadre du programme CASA – Nature de la Communauté d’Agglomération Sophia Antipolis.\nInformations et inscriptions sur le site internet de CASA Nature
URL:https://saintpauldevence.org/agenda/casa-nature-recolte-oliviers/
CATEGORIES:Environnement
ATTACH;FMTTYPE=image/jpeg:https://saintpauldevence.org/wp-content/uploads/2023/10/olive-trees-scaled-e1697032347809.jpg
END:VEVENT
BEGIN:VEVENT
DTSTART;TZID=Europe/Paris:20241020T100000
DTEND;TZID=Europe/Paris:20241020T180000
DTSTAMP:20260421T175558
CREATED:20240925T141002Z
LAST-MODIFIED:20240925T141002Z
UID:10013231-1729418400-1729447200@saintpauldevence.org
SUMMARY:Fête des vendanges et des châtaignes
DESCRIPTION:Le dimanche 20 octobre 2024 dès 10h\, venez fêter les vendanges et les châtaignes sur la place de Gaulle. Préparez vos papilles car une 30N d’exposants seront présents pour vous faire découvrir les saveurs locales de l’automne ! \nAu programme : \n\nMarché de producteurs locaux\, vins et produits du terroir (huile d’olive\, fromage\, charcuterie\, socca\, farcis et fleurs de courgettes)\nDégustation de vin chaud\, de châtaignes de Collobrières et de velouté potimarron\, de polenta\nTour de poney pour les enfants (départ de la Place de la Courtine – animation payante)\nManifestation co-organisée par l’association fédérée pour le don du sang bénévole de Saint-Paul-de-Vence et la mairie.\n\nInformations pratiques :\n– Entrée libre\n– Buvette et restauration sur place\n– Renseignements auprès de l’Office de Tourisme : 04 93 32 86 95
URL:https://saintpauldevence.org/agenda/fete-des-vendanges-et-des-chataignes-4/
LOCATION:Place de Gaulle\, Saint-Paul-de-Vence\, France
ATTACH;FMTTYPE=image/jpeg:https://saintpauldevence.org/wp-content/uploads/2024/09/20231022_123535-scaled.jpg
END:VEVENT
BEGIN:VEVENT
DTSTART;TZID=Europe/Paris:20241020T100000
DTEND;TZID=Europe/Paris:20241020T190000
DTSTAMP:20260421T175558
CREATED:20240925T141016Z
LAST-MODIFIED:20240925T141016Z
UID:10013233-1729418400-1729450800@saintpauldevence.org
SUMMARY:Braderie des commerçants
DESCRIPTION:La braderie des commerçants est de retour les samedi 19 et dimanche 20 octobre 2024 ! L’Association des commerçants et des artistes Saint-Paulois (ACASP) vous donne rendez-vous de 10h à 19h pour une session shopping à petits prix. Prêt-à-porter\, bijoux\, accessoires de mode\, œuvres d’art\, épicerie fine\, cosmétique… De quoi faire plaisir et se faire plaisir ! \nInformations pratiques :\n– Parking publics gratuits grâce au soutien de la mairie.\n– Entrée libre
URL:https://saintpauldevence.org/agenda/braderie-des-commercants-5/2024-10-20/
LOCATION:Village
ATTACH;FMTTYPE=image/jpeg:https://saintpauldevence.org/wp-content/uploads/2024/09/20231022_131749-scaled.jpg
END:VEVENT
BEGIN:VEVENT
DTSTART;TZID=Europe/Paris:20241020T170000
DTEND;TZID=Europe/Paris:20241020T190000
DTSTAMP:20260421T175558
CREATED:20241009T093030Z
LAST-MODIFIED:20241018T194141Z
UID:10013245-1729443600-1729450800@saintpauldevence.org
SUMMARY:Concert de musique classique
DESCRIPTION:Le dimanche 20 octobre 2024 à 17h à l’église la Collégiale\, l’Harmonie de Saint-Paul-de-Vence donnera un concert de musique classique. \nInformations pratiques : \n\nEntrée libre
URL:https://saintpauldevence.org/agenda/concert-de-musique-classique-2/
LOCATION:Eglise La Collégiale\, Saint-Paul-de-Vence\, France
ATTACH;FMTTYPE=image/png:https://saintpauldevence.org/wp-content/uploads/2024/01/Messe-de-la-conversion-2024-Harmonie-de-Saint-Paul-de-Vence.png
END:VEVENT
END:VCALENDAR