BEGIN:VCALENDAR
VERSION:2.0
PRODID:-//Saint-Paul-de-Vence - ECPv6.15.20//NONSGML v1.0//EN
CALSCALE:GREGORIAN
METHOD:PUBLISH
X-WR-CALNAME:Saint-Paul-de-Vence
X-ORIGINAL-URL:https://saintpauldevence.org
X-WR-CALDESC:Évènements pour Saint-Paul-de-Vence
REFRESH-INTERVAL;VALUE=DURATION:PT1H
X-Robots-Tag:noindex
X-PUBLISHED-TTL:PT1H
BEGIN:VTIMEZONE
TZID:Europe/Paris
BEGIN:DAYLIGHT
TZOFFSETFROM:+0100
TZOFFSETTO:+0200
TZNAME:CEST
DTSTART:20230326T010000
END:DAYLIGHT
BEGIN:STANDARD
TZOFFSETFROM:+0200
TZOFFSETTO:+0100
TZNAME:CET
DTSTART:20231029T010000
END:STANDARD
BEGIN:DAYLIGHT
TZOFFSETFROM:+0100
TZOFFSETTO:+0200
TZNAME:CEST
DTSTART:20240331T010000
END:DAYLIGHT
BEGIN:STANDARD
TZOFFSETFROM:+0200
TZOFFSETTO:+0100
TZNAME:CET
DTSTART:20241027T010000
END:STANDARD
BEGIN:DAYLIGHT
TZOFFSETFROM:+0100
TZOFFSETTO:+0200
TZNAME:CEST
DTSTART:20250330T010000
END:DAYLIGHT
BEGIN:STANDARD
TZOFFSETFROM:+0200
TZOFFSETTO:+0100
TZNAME:CET
DTSTART:20251026T010000
END:STANDARD
END:VTIMEZONE
BEGIN:VEVENT
DTSTART;TZID=Europe/Paris:20240321T080000
DTEND;TZID=Europe/Paris:20241027T170000
DTSTAMP:20260421T215712
CREATED:20240527T121655Z
LAST-MODIFIED:20240527T121655Z
UID:10013147-1711008000-1730048400@saintpauldevence.org
SUMMARY:Exposition Muller Van Severen : Fondation CAB
DESCRIPTION:Du 21 mars au 27 octobre 2024\, la Fondation CAB présente une exposition de Muller Van Severen\, le duo de designers belges Fien Muller (1978\, Lokeren) et Hannes Van Severen (1979\, Gand). \nRéputés pour leurs objets de mobilier sculpturalement intéressants\, Muller Van Severen présente une sélection de son travail des 12 dernières années\, en y ajoutant une dimension supplémentaire à l’expérience par des zooms avant et arrière (à travers le duo de photographes Scheltens et Abbenes) des objets tels que des prototypes\, des dessins\, des matériaux\, etc. Le résultat est un regard unique et distinct sur les techniques de travail de l’un des studios de design les plus iconiques d’Europe. \nEntre l’art et le design\, Muller Van Severen créent des meubles polyvalents\, colorés et sculpturalement attrayants\, caractérisés par une recherche minutieuse de l’art\, de l’architecture et des matériaux et qui interagissent avec l’espace qui les entoure. Soigneusement sélectionnés\, les matériaux tels que le cuir\, le laiton\, le polyéthylène\, l’acier\, le marbre et l’émail sont souvent le point de départ de leur parcours design. \nDotés d’une sensibilité pour les espaces architecturaux\, leurs objets situés entre meubles\, installations et œuvres d’art\, ne peuvent être qu’exposés dans le bâtiment des années 1950 de la Fondation CAB\, entièrement rénové par l’architecte d’intérieur et designer français Charles Zana. \nEn savoir plus sur www.fondationcab.com
URL:https://saintpauldevence.org/agenda/exposition-muller-van-severen-fondation-cab/
LOCATION:Fondation CAB Saint-Paul de Vence\, 5766 Chemin des Trious\, Saint-Paul-de-Vence\, 06570\, France
ATTACH;FMTTYPE=image/png:https://saintpauldevence.org/wp-content/uploads/2024/05/Exposition-Muller-Van-Severen-Foondation-CAB-2024.png
END:VEVENT
BEGIN:VEVENT
DTSTART;TZID=Europe/Paris:20240321T100000
DTEND;TZID=Europe/Paris:20241027T170000
DTSTAMP:20260421T215712
CREATED:20240123T073856Z
LAST-MODIFIED:20240123T122506Z
UID:10011687-1711015200-1730048400@saintpauldevence.org
SUMMARY:Exposition Fondation CAB : « Specific Subjects
DESCRIPTION:Du 21 mars au 27 octobre 2024\, la Fondation CAB accueillera l’exposition Specific Subjects d’Edith Dekyndt\, tissant des liens entre les technologies nouvelles et évolutives\, les savoirs ancestraux et les enjeux contemporains. \nL’univers artistique d’Edith Dekyndt\, où le dialogue entre la nature et la culture s’entremêle avec le territoire\, nous invite\, en tant que spectateurs\, à explorer de multiples niveaux de signification et à remettre en question notre compréhension de l’espace\, de la mémoire et de la temporalité. \nDans le contexte actuel\, marqué par des conflits et des transformations radicales de nos modes de vie et d’action\, avec des répercussions économiques\, matérielles\, immatérielles et émotionnelles\, l’artiste propose une série d’œuvres dans lesquelles la dynamique entre la nature et la culture\, le rural et l’urbain\, génère de nouveaux paradigmes auxquels il faut se confronter. \nInformations complémentaires :  \n\nCommissaire de l’exposition : María Inés Rodríguez\nLe vernissage aura lieu le jeudi 21 mars 2024 à la Fondation CAB Saint-Paul-de-Vence\nHoraires d’ouverture et informations sur www.fondationcab.com
URL:https://saintpauldevence.org/agenda/exposition-fondation-cab-specific-subjects/
LOCATION:Fondation CAB Saint-Paul de Vence\, 5766 Chemin des Trious\, Saint-Paul-de-Vence\, 06570\, France
ATTACH;FMTTYPE=image/jpeg:https://saintpauldevence.org/wp-content/uploads/2024/01/005-ATELIER-detail-Tissu-impregne-de-vin-et-toile-enterree-scaled.jpg
END:VEVENT
BEGIN:VEVENT
DTSTART;TZID=Europe/Paris:20241001T100000
DTEND;TZID=Europe/Paris:20241026T180000
DTSTAMP:20260421T215712
CREATED:20240926T100026Z
LAST-MODIFIED:20240926T100026Z
UID:10013234-1727776800-1729965600@saintpauldevence.org
SUMMARY:Concours de dessin “Votre Saint-Paul”
DESCRIPTION:Du 1er au 26 octobre 2024\, un concours de dessin\, ouvert à tous\, est organisé sur le thème “Votre Saint-Paul”. \nLes dessins\, réalisés aux crayons\, aux feutres ou à la peinture\, devront respecter les conditions suivantes :\n– Formats A5\, A4 et A3 uniquement.\n– Faire figurer au dos : l’âge et les coordonnées de l’artiste ainsi que quelques mots d’explication.\n– Les dessins devront être déposés à l’Office de Tourisme avant le samedi 26 octobre. \nAfin de récompenser les participants (qui se répartiront en 2 catégories : + de 14 ans et – de 14 ans)\, une remise des prix\, suivie d’une collation\, sera organisée le samedi 2 novembre à 16h. \nInformations pratiques :\n– Gratuit.\n– Inscriptions auprès de l’Office de Tourisme : 04 93 32 86 95
URL:https://saintpauldevence.org/agenda/concours-de-dessin-votre-saint-paul/
LOCATION:Office de tourisme
ATTACH;FMTTYPE=image/jpeg:https://saintpauldevence.org/wp-content/uploads/2024/09/woman-home-drawing_23-2148902376.jpg
END:VEVENT
BEGIN:VEVENT
DTSTART;TZID=Europe/Paris:20241008T100000
DTEND;TZID=Europe/Paris:20241008T120000
DTSTAMP:20260421T215712
CREATED:20240902T140809Z
LAST-MODIFIED:20240924T073345Z
UID:10013229-1728381600-1728388800@saintpauldevence.org
SUMMARY:Atelier "marche active"
DESCRIPTION:En avant\, marche ! Rendez-vous le mardi 1er octobre de 10h à 12h pour participer à cette activité physique en extérieur. \nChaque séance sera ponctuée d’un échauffement articulaire\, de démonstrations d’exercices\, des conseils pratiques et des explications sur le fonctionnement du corps humain. \nLes prochaines séances : \n\nMardi 8 octobre 204\nMardi 15 octobre 2024\n\nInformations pratiques :  \n– Atelier gratuit.\n– Départ depuis le parking se trouvant face à la médiathèque de Villeneuve-Loubet.\n– Sur inscription auprès du CCAS : 04 93 32 41 24 \n  \n  \n 
URL:https://saintpauldevence.org/agenda/atelier-marche-active/2024-10-08/
LOCATION:Place de Gaulle\, Saint-Paul-de-Vence\, France
CATEGORIES:CCAS
ATTACH;FMTTYPE=image/jpeg:https://saintpauldevence.org/wp-content/uploads/2024/09/female-sneakers-pave-start-position-scaled-e1725286069167.jpg
ORGANIZER;CN="CCAS de Saint-Paul-de-Vence":MAILTO:ccas@saint-pauldevence.fr
END:VEVENT
BEGIN:VEVENT
DTSTART;TZID=Europe/Paris:20241009T090000
DTEND;TZID=Europe/Paris:20241009T140000
DTSTAMP:20260421T215712
CREATED:20240411T081217Z
LAST-MODIFIED:20250926T072516Z
UID:10012526-1728464400-1728482400@saintpauldevence.org
SUMMARY:Marché des producteurs
DESCRIPTION:Le marché des petits producteurs se tient régulièrement les mercredis et les vendredis sur la Place De Gaulle. \nVenez découvrir les spécialités locales\, mais aussi de délicieux produits issus du terroir.
URL:https://saintpauldevence.org/agenda/marche-petits-producteurs/2024-10-09/
LOCATION:Place de Gaulle\, Saint-Paul-de-Vence\, France
CATEGORIES:Marché
ATTACH;FMTTYPE=image/jpeg:https://saintpauldevence.org/wp-content/uploads/2021/04/marche-1-scaled-e1712823050881.jpg
END:VEVENT
BEGIN:VEVENT
DTSTART;TZID=Europe/Paris:20241010T100000
DTEND;TZID=Europe/Paris:20241021T180000
DTSTAMP:20260421T215712
CREATED:20240923T094146Z
LAST-MODIFIED:20240923T094146Z
UID:10013226-1728554400-1729533600@saintpauldevence.org
SUMMARY:Exposition de Rastorgueff
DESCRIPTION:Du 10 au 21 octobre 2024\, venez découvrir la nouvelle exposition du Cercle des Artistes de Saint-Paul-de-Vence : “Travail autour des bois rares et précieux d’ici et d’ailleurs” de Rastorgueff. Alliant sculpture et marqueterie\, l’artiste utilise les couleurs naturelles des différents bois pour la composition de ses tableaux. \nInformations pratiques :\n-Exposition présentée jusqu’au 21 octobre à la Vieille Forge\n-Entrée libre tous les jours de 14h à 18h
URL:https://saintpauldevence.org/agenda/exposition-de-rastorgueff/
LOCATION:La Vieille Forge
ATTACH;FMTTYPE=image/png:https://saintpauldevence.org/wp-content/uploads/2024/09/Exposition-Travail-autour-du-bois-SPDV.png
END:VEVENT
BEGIN:VEVENT
DTSTART;TZID=Europe/Paris:20241011T090000
DTEND;TZID=Europe/Paris:20241011T140000
DTSTAMP:20260421T215712
CREATED:20240411T081217Z
LAST-MODIFIED:20250926T072516Z
UID:10012527-1728637200-1728655200@saintpauldevence.org
SUMMARY:Marché des producteurs
DESCRIPTION:Le marché des petits producteurs se tient régulièrement les mercredis et les vendredis sur la Place De Gaulle. \nVenez découvrir les spécialités locales\, mais aussi de délicieux produits issus du terroir.
URL:https://saintpauldevence.org/agenda/marche-petits-producteurs/2024-10-11/
LOCATION:Place de Gaulle\, Saint-Paul-de-Vence\, France
CATEGORIES:Marché
ATTACH;FMTTYPE=image/jpeg:https://saintpauldevence.org/wp-content/uploads/2021/04/marche-1-scaled-e1712823050881.jpg
END:VEVENT
BEGIN:VEVENT
DTSTART;TZID=Europe/Paris:20241011T210000
DTEND;TZID=Europe/Paris:20241011T235900
DTSTAMP:20260421T215712
CREATED:20240813T082248Z
LAST-MODIFIED:20240919T084354Z
UID:10013208-1728680400-1728691140@saintpauldevence.org
SUMMARY:Le jour de la nuit
DESCRIPTION:Cette année encore\, venez participer à cette manifestation de sensibilisation à la beauté du ciel étoilé et à la pollution lumineuse ! Rendez-vous le vendredi 11 octobre 2024 à partir de 21h à l’Auditorium.  \nAu programme : \n\n21h : Conférence sur les impacts de la pollution lumineuse sur la biodiversité – Mais où est donc passée la Grande Ourse ?\nEn quelques mots : Par leur travail ou leur loisir\, ce sont les astronomes qui les premiers ont constaté la disparition des étoiles. Dès les années 90\, Ils ont tiré la sonnette d’alarme pour protéger la nuit\, ce patrimoine de l’humanité « premier livre des hommes ». Pris\, au départ\, pour de doux rêveurs et des farfelus\, ils ont été rejoints par d’autres spécialistes qui nuit après nuit démontrent que l’aspect astronomique n’est que la partie émergée de la pollution lumineuse : Biodiversité\, économie d’énergie\, réchauffement climatique\, mauvais usage des finances publiques\, santé humaine\, sécurité… Ces différents aspects démontrent bien que la qualité de l’environnement nocturne est une problématique transversale et incontournable du développement durable. Il est donc urgent de mieux gérer nos lumières !\n22h : Verre de l’amitié\n22h30 : Observation du ciel étoilé à l’attention du grand public\n45 minutes d’observation à l’œil nu et 45 minutes d’observation au télescope.\n\nVenez donc nombreux en apprendre plus sur la biodiversité nocturne\, le ciel étoilé\, et savoir comment se protéger de la lumière artificielle superflue qui nuit à notre santé. \n  \nInformations pratiques : \n\nGratuit. Nombre de places limité.\nA partir de 9 ans.\n Inscriptions auprès du service environnement : 04 93 32 41 22 / environnement@saint-pauldevence.fr
URL:https://saintpauldevence.org/agenda/le-jour-de-la-nuit/
LOCATION:Auditorium\, 150 Rte des Serres\, Saint-Paul-de-Vence\, 06570\, France
ATTACH;FMTTYPE=image/jpeg:https://saintpauldevence.org/wp-content/uploads/2024/08/20240724_225622-scaled-e1723537355891.jpg
GEO:43.698886784084;7.1200623819271
X-APPLE-STRUCTURED-LOCATION;VALUE=URI;X-ADDRESS=Auditorium 150 Rte des Serres Saint-Paul-de-Vence 06570 France;X-APPLE-RADIUS=500;X-TITLE=150 Rte des Serres:geo:7.1200623819271,43.698886784084
END:VEVENT
BEGIN:VEVENT
DTSTART;TZID=Europe/Paris:20241012T080000
DTEND;TZID=Europe/Paris:20241012T170000
DTSTAMP:20260421T215712
CREATED:20240910T105748Z
LAST-MODIFIED:20240912T100501Z
UID:10013213-1728720000-1728752400@saintpauldevence.org
SUMMARY:CASA Nature : chantier d'initiation à la restauration des restanques
DESCRIPTION:Véritables marqueurs de notre identité locale\, les terrasses de cultures\, plus communément appelées  «  restanques  »\, sont un élément structurant de notre paysage. Afin de les préserver\, CASA Nature vous propose un atelier d’initiation en présence d’un murailler professionnel\, le samedi 12 octobre de 8h30 à 17h\, sur la parcelle communale trufficole. \nAu programme : la restauration d’un mur en pierre sèche et apprentissage des techniques de construction. \nObjectifs :  \n\nInformer sur les rôles des restanques et l’intérêt de les préserver\,\nFormer aux bases des techniques de constructions en pierre sèche\,\nMobiliser autour de la restauration du patrimoine local.\n\n  \nInformations pratiques :  \n\nGratuit.\nSur inscription. Nombre de places limité (10/12 pax).\nInformations et inscriptions sur le site internet de CASA Nature\n\n 
URL:https://saintpauldevence.org/agenda/casa-nature-initiation-pierre-seche/
ATTACH;FMTTYPE=image/jpeg:https://saintpauldevence.org/wp-content/uploads/2024/09/Oliviers_restanques.jpg
END:VEVENT
BEGIN:VEVENT
DTSTART;TZID=Europe/Paris:20241012T113000
DTEND;TZID=Europe/Paris:20241012T170000
DTSTAMP:20260421T215712
CREATED:20240813T081552Z
LAST-MODIFIED:20240813T082110Z
UID:10013206-1728732600-1728752400@saintpauldevence.org
SUMMARY:4e Boucle historique de Saint-Paul
DESCRIPTION:Rendez-vous le samedi 12 octobre 2024 de 11h30 à 17h sur la place de Gaulle pour assister à un moment sportif\, chic et caritatif que s’apprête à revivre Saint-Paul-de-Vence. A l’occasion de la 4e édition de la Boucle historique de Saint-Paul\, le Saint Paul Car Club appelle tous les passionnés d’automobiles classiques et sportives à la découverte des plus belles routes du haut-pays pour un rallye unique de 90 kilomètres. \nAu programme : \n\nLe matin : rallye touristique du col de Vence à Gourdon\, en passant par Gréolières\, cette boucle ramènera les participants à Saint-Paul-de-Vence pour un déjeuner au célèbre restaurant La Colombe d’Or.\nL’après-midi : exposition de voitures de collection sur la Place de Gaulle jusqu’à 17h.\n\nEn plus d’être sportive\, cette journée est également caritative puisqu’elle vise à collecter des fonds pour une association d’aide aux enfants atteints de cancer. \nEn savoir plus sur www.saintpaulcarclub.fr
URL:https://saintpauldevence.org/agenda/4e-boucle-historique-de-saint-paul/
LOCATION:Place de Gaulle\, Saint-Paul-de-Vence\, France
ATTACH;FMTTYPE=image/jpeg:https://saintpauldevence.org/wp-content/uploads/2024/08/saint-paul-car-club_la-boucle-historique.jpg
END:VEVENT
END:VCALENDAR