BEGIN:VCALENDAR
VERSION:2.0
PRODID:-//Saint-Paul-de-Vence - ECPv6.15.20//NONSGML v1.0//EN
CALSCALE:GREGORIAN
METHOD:PUBLISH
X-WR-CALNAME:Saint-Paul-de-Vence
X-ORIGINAL-URL:https://saintpauldevence.org
X-WR-CALDESC:Évènements pour Saint-Paul-de-Vence
REFRESH-INTERVAL;VALUE=DURATION:PT1H
X-Robots-Tag:noindex
X-PUBLISHED-TTL:PT1H
BEGIN:VTIMEZONE
TZID:Europe/Paris
BEGIN:DAYLIGHT
TZOFFSETFROM:+0100
TZOFFSETTO:+0200
TZNAME:CEST
DTSTART:20210328T010000
END:DAYLIGHT
BEGIN:STANDARD
TZOFFSETFROM:+0200
TZOFFSETTO:+0100
TZNAME:CET
DTSTART:20211031T010000
END:STANDARD
BEGIN:DAYLIGHT
TZOFFSETFROM:+0100
TZOFFSETTO:+0200
TZNAME:CEST
DTSTART:20220327T010000
END:DAYLIGHT
BEGIN:STANDARD
TZOFFSETFROM:+0200
TZOFFSETTO:+0100
TZNAME:CET
DTSTART:20221030T010000
END:STANDARD
BEGIN:DAYLIGHT
TZOFFSETFROM:+0100
TZOFFSETTO:+0200
TZNAME:CEST
DTSTART:20230326T010000
END:DAYLIGHT
BEGIN:STANDARD
TZOFFSETFROM:+0200
TZOFFSETTO:+0100
TZNAME:CET
DTSTART:20231029T010000
END:STANDARD
END:VTIMEZONE
BEGIN:VEVENT
DTSTART;TZID=Europe/Paris:20221207T100000
DTEND;TZID=Europe/Paris:20221207T120000
DTSTAMP:20260424T015947
CREATED:20221129T102946Z
LAST-MODIFIED:20221129T103003Z
UID:10000905-1670407200-1670414400@saintpauldevence.org
SUMMARY:“Lu et approuvé”
DESCRIPTION:Vous aimez lire ? Vous avez envie de partager vos coups de cœur littéraires ? Rejoignez le club des lecteurs de la médiathèque de Saint-Paul-de-Vence et venez échanger sur vos lectures. \nInfos pratiques : \n\nAccès gratuit. Ouvert à tous.\nRéservations : 09 66 43 41 13 / mediatheque-saintpaul@orange.fr
URL:https://saintpauldevence.org/agenda/lu-et-approuve-2/
LOCATION:Médiathèque
ATTACH;FMTTYPE=image/jpeg:https://saintpauldevence.org/wp-content/uploads/2021/08/SPV-lu-et-approuve-2021-scaled.jpg
END:VEVENT
BEGIN:VEVENT
DTSTART;TZID=Europe/Paris:20221208T090000
DTEND;TZID=Europe/Paris:20221208T113000
DTSTAMP:20260424T015947
CREATED:20220314T122345Z
LAST-MODIFIED:20221209T125641Z
UID:10000920-1670490000-1670499000@saintpauldevence.org
SUMMARY:Bulle d'éveil
DESCRIPTION:Parents\, venez découvrir Bulle d’Eveil ! Cet espace convivial et ludique est ouvert à toutes les familles ; il permet aux enfants de jouer avec d’autres petits et d’acquérir de l’autonomie. Rendez-vous tous les jeudis de 9H à 11H30 hors vacances scolaires à l’Auditorium – Route des Serres. \nVous allez aimer :  \n\nPartager du temps avec votre enfant et renforcer votre lien avec lui\nRencontrer d’autres parents\nEchanger avec des professionnels de la Petite Enfance\nPrévenir ou rompre l’isolement\n\n  \nInformations pratiques :  \n\nAccessible à tous les enfants de moins de 6 ans\, accompagnés de leurs parents ou d’un adulte référent\nGratuit et sans inscription\, basé sur le principe du volontariat et de l’anonymat\nRenseignements au 04 93 24 20 18.\n\n 
URL:https://saintpauldevence.org/agenda/bulle-deveil-2022/2022-12-08/
LOCATION:Auditorium\, 150 Rte des Serres\, Saint-Paul-de-Vence\, 06570\, France
CATEGORIES:Animation
ATTACH;FMTTYPE=image/jpeg:https://saintpauldevence.org/wp-content/uploads/2019/10/bulle-deveil_LAEP_saint-paul-de-vence.jpg
GEO:43.698886784084;7.1200623819271
X-APPLE-STRUCTURED-LOCATION;VALUE=URI;X-ADDRESS=Auditorium 150 Rte des Serres Saint-Paul-de-Vence 06570 France;X-APPLE-RADIUS=500;X-TITLE=150 Rte des Serres:geo:7.1200623819271,43.698886784084
END:VEVENT
BEGIN:VEVENT
DTSTART;TZID=Europe/Paris:20221210T090000
DTEND;TZID=Europe/Paris:20221210T120000
DTSTAMP:20260424T015947
CREATED:20221115T111901Z
LAST-MODIFIED:20221115T111901Z
UID:10000668-1670662800-1670673600@saintpauldevence.org
SUMMARY:Atelier : Composer un jardin d'ornement
DESCRIPTION:La Communauté d’Agglomération de Sophia Antipolis vous propose de composer votre jardin d’ornement économe en eau ! Rendez-vous le samedi 10 décembre de 9h à 12h au parking des bus. Vous aurez l’occasion d’apprendre les bonnes pratiques de plantation et faire le bon choix en matière d’espèces adaptées au climat méditerranéen\, soit un climat sec. \nInformations pratiques :  \n\nGratuit\nSur inscriptions : www.casa-nature.agglo-casa.fr\nChaque participant devra être équipé de sa propre paire de gants.
URL:https://saintpauldevence.org/agenda/atelier-composer-un-jardin-dornement/
LOCATION:Parking Trious
CATEGORIES:Atelier
ATTACH;FMTTYPE=image/jpeg:https://saintpauldevence.org/wp-content/uploads/2022/03/printemps_fleurs-scaled.jpeg
END:VEVENT
BEGIN:VEVENT
DTSTART;TZID=Europe/Paris:20221210T133000
DTEND;TZID=Europe/Paris:20221210T170000
DTSTAMP:20260424T015947
CREATED:20221123T102603Z
LAST-MODIFIED:20221123T102603Z
UID:10000897-1670679000-1670691600@saintpauldevence.org
SUMMARY:Grand loto de Noël
DESCRIPTION:L’association Fédérée des Donneurs de Sang Bénévoles de Saint-Paul de Vence vous donne rendez-vous ce samedi 10 décembre à 14h30 à l’auditorium pour le Grand Loto de Noël ! Tentez de remportez peut-être votre lot gourmand !  Paniers garnis ; bouteille de champagne ; chocolats ; panettone etc… \nRenseignements au 04 93 32 86 95
URL:https://saintpauldevence.org/agenda/grand-loto-de-noel/
LOCATION:Auditorium\, 150 Rte des Serres\, Saint-Paul-de-Vence\, 06570\, France
ATTACH;FMTTYPE=image/png:https://saintpauldevence.org/wp-content/uploads/2022/11/Affiche-A3_Grand-loto-de-noel-2022-e1670228891348.png
GEO:43.698886784084;7.1200623819271
X-APPLE-STRUCTURED-LOCATION;VALUE=URI;X-ADDRESS=Auditorium 150 Rte des Serres Saint-Paul-de-Vence 06570 France;X-APPLE-RADIUS=500;X-TITLE=150 Rte des Serres:geo:7.1200623819271,43.698886784084
END:VEVENT
BEGIN:VEVENT
DTSTART;TZID=Europe/Paris:20221210T140000
DTEND;TZID=Europe/Paris:20221210T170000
DTSTAMP:20260424T015947
CREATED:20221115T111347Z
LAST-MODIFIED:20221115T111347Z
UID:10000667-1670680800-1670691600@saintpauldevence.org
SUMMARY:Atelier "construction de gîtes à chauve-souris"
DESCRIPTION:Je suis insectivore et je participe à la régulation des populations d’insecte… Qui-je ? La chauve-souris ! \nPour mieux comprendre et préserver cette espèce\, la Communauté d’Agglomération de Sophia Antipolis vous propose un atelier de construction de gîtes à Chiroptères(chauve-souris) le samedi 10 décembre de 14h à 17h à l’espace André Verdet. \nInformations pratiques :  \n\nGratuit.\nSur inscriptions : www.casa-nature.agglo-casa.fr\nChaque participant devra être équipé de sa propre paire de gants.
URL:https://saintpauldevence.org/agenda/atelier-gites-chauve-souris/
LOCATION:Espace André Verdet\, Place de l'hospice\, Saint-Paul-de-Vence\, 06570\, France
CATEGORIES:Atelier
ATTACH;FMTTYPE=image/jpeg:https://saintpauldevence.org/wp-content/uploads/2022/11/chauve-souris.jpg
END:VEVENT
BEGIN:VEVENT
DTSTART;TZID=Europe/Paris:20221210T140000
DTEND;TZID=Europe/Paris:20221210T170000
DTSTAMP:20260424T015947
CREATED:20221209T125253Z
LAST-MODIFIED:20221209T125253Z
UID:10000915-1670680800-1670691600@saintpauldevence.org
SUMMARY:Le Père Noël est à Saint-Paul-de-Vence
DESCRIPTION:Venu de loin\, le Père Noël fera une escale à Saint-Paul-de-Vence les samedis 10 et 17 décembre de 14h à 17h !
URL:https://saintpauldevence.org/agenda/le-pere-noel-est-a-saint-paul-de-vence-4/
LOCATION:Village
CATEGORIES:Tradition
ATTACH;FMTTYPE=image/jpeg:https://saintpauldevence.org/wp-content/uploads/2022/11/santa-ged1e493c9_1920.jpg
END:VEVENT
BEGIN:VEVENT
DTSTART;TZID=Europe/Paris:20221210T140000
DTEND;TZID=Europe/Paris:20221210T180000
DTSTAMP:20260424T015947
CREATED:20221129T102333Z
LAST-MODIFIED:20221129T102420Z
UID:10000903-1670680800-1670695200@saintpauldevence.org
SUMMARY:Le Père Noël est à Saint-Paul-de-Vence
DESCRIPTION:Venu de loin\, le Père Noël fera une escale à Saint-Paul-de-Vence les samedis 10 et 17 décembre de 14h à 18h !
URL:https://saintpauldevence.org/agenda/le-pere-noel-est-a-saint-paul-de-vence-2/
LOCATION:Village
ATTACH;FMTTYPE=image/png:https://saintpauldevence.org/wp-content/uploads/2022/11/Pere-Noel-a-Saint-paul-de-Vence.png
END:VEVENT
BEGIN:VEVENT
DTSTART;TZID=Europe/Paris:20221211T130000
DTEND;TZID=Europe/Paris:20221211T170000
DTSTAMP:20260424T015947
CREATED:20221115T114057Z
LAST-MODIFIED:20221115T114057Z
UID:10000673-1670763600-1670778000@saintpauldevence.org
SUMMARY:Forêt d'abondance : plantations collectives
DESCRIPTION:Avis aux amoureux de la nature ! Si vous souhaitez prendre part à la création de la forêt d’abondance\, rendez-vous sous le rempart Est à l’une de ces dates pour venir aider les bénévoles : \n\nSamedi 12 novembre de 13h à 17h : broyat\, désherbage\, terrassement\nDimanche 20 novembre de 13h à 17h : broyat\, désherbage\, terrassement\nSamedi 26 novembre de 13h à 17h : premières plantations\nSamedi 3 décembre de 13h à 17h : plantations\nDimanche 11 décembre de 11h à 17h : plantations et clôture du travail de l’année\n\nInformations complémentaires :  \n\nAccès libre\nInformations et contact : Diane Van den Berge\, membre de l’association Agirrr : diane.vandenberge@gmail.com
URL:https://saintpauldevence.org/agenda/foret-dabondance-plantations-collectives/2022-12-11/
LOCATION:Rempart Est\, Saint-Paul-de-Vence\, France
CATEGORIES:Atelier
ATTACH;FMTTYPE=image/jpeg:https://saintpauldevence.org/wp-content/uploads/2022/06/environmental-conservation-in-the-garden-for-children-scaled.jpg
END:VEVENT
END:VCALENDAR