BEGIN:VCALENDAR
VERSION:2.0
PRODID:-//Saint-Paul-de-Vence - ECPv6.15.20//NONSGML v1.0//EN
CALSCALE:GREGORIAN
METHOD:PUBLISH
X-WR-CALNAME:Saint-Paul-de-Vence
X-ORIGINAL-URL:https://saintpauldevence.org
X-WR-CALDESC:Évènements pour Saint-Paul-de-Vence
REFRESH-INTERVAL;VALUE=DURATION:PT1H
X-Robots-Tag:noindex
X-PUBLISHED-TTL:PT1H
BEGIN:VTIMEZONE
TZID:Europe/Paris
BEGIN:DAYLIGHT
TZOFFSETFROM:+0100
TZOFFSETTO:+0200
TZNAME:CEST
DTSTART:20230326T010000
END:DAYLIGHT
BEGIN:STANDARD
TZOFFSETFROM:+0200
TZOFFSETTO:+0100
TZNAME:CET
DTSTART:20231029T010000
END:STANDARD
BEGIN:DAYLIGHT
TZOFFSETFROM:+0100
TZOFFSETTO:+0200
TZNAME:CEST
DTSTART:20240331T010000
END:DAYLIGHT
BEGIN:STANDARD
TZOFFSETFROM:+0200
TZOFFSETTO:+0100
TZNAME:CET
DTSTART:20241027T010000
END:STANDARD
BEGIN:DAYLIGHT
TZOFFSETFROM:+0100
TZOFFSETTO:+0200
TZNAME:CEST
DTSTART:20250330T010000
END:DAYLIGHT
BEGIN:STANDARD
TZOFFSETFROM:+0200
TZOFFSETTO:+0100
TZNAME:CET
DTSTART:20251026T010000
END:STANDARD
END:VTIMEZONE
BEGIN:VEVENT
DTSTART;TZID=Europe/Paris:20241213T200000
DTEND;TZID=Europe/Paris:20241213T230000
DTSTAMP:20260422T084517
CREATED:20241121T201030Z
LAST-MODIFIED:20241203T113940Z
UID:10013261-1734120000-1734130800@saintpauldevence.org
SUMMARY:Opéra Cendrillon
DESCRIPTION:Dans le cadre de la Micro-Folie\, vivez une soirée d’exception le vendredi 13 décembre 2024 à 20h à la médiathèque et découvrez “Cendrillon” de Jules Massenet. \nInspirée par le conte de Perrault et interprétée par l’Opéra de Paris\, la Cendrillon de Jules Massenet s’en éloigne allègrement : point de citrouille ni de carrosse\, encore moins de pantoufle à essayer. À quoi bon puisque Cendrillon et le Prince charmant se reconnaissent immédiatement ? Ne vivent-ils pas la même solitude malgré leurs différences de positions sociales ? En choisissant pour ces deux rôles des voix féminines\, Massenet souligne leur parenté d’âme dans une partition séduisante qui mélange les styles à dessein.  \nMariame Clément aborde l’œuvre avec finesse. Machine à produire des princesses\, crinolines rose bonbon\, salle de bal grandiose mais aussi liquette et baskets : la metteuse en scène joue avec les clichés et la Belle Époque (celle de la création de la partition)\, lançant des clins d’œil à la Fée électricité et au cinéma de Méliès. Une façon de mieux réfléchir au mythe et aux conventions sociales… tout en gardant son âme d’enfant ! \nInformations pratiques :  \n\nDurée : 3h (4 actes et 6 tableaux avec entracte)\nGratuit\nSur réservation auprès de l’Office de Tourisme : 04 93 32 86 95\n\n  \nCrédit photo : Monika Rittershaus – OnP. 
URL:https://saintpauldevence.org/agenda/opera-cendrillon/
LOCATION:Médiathèque
CATEGORIES:Culture
ATTACH;FMTTYPE=image/jpeg:https://saintpauldevence.org/wp-content/uploads/2024/11/opera-cendrillon.jpg
END:VEVENT
END:VCALENDAR