BEGIN:VCALENDAR
VERSION:2.0
PRODID:-//Saint-Paul-de-Vence - ECPv6.15.20//NONSGML v1.0//EN
CALSCALE:GREGORIAN
METHOD:PUBLISH
X-ORIGINAL-URL:https://saintpauldevence.org
X-WR-CALDESC:Évènements pour Saint-Paul-de-Vence
REFRESH-INTERVAL;VALUE=DURATION:PT1H
X-Robots-Tag:noindex
X-PUBLISHED-TTL:PT1H
BEGIN:VTIMEZONE
TZID:Europe/Paris
BEGIN:DAYLIGHT
TZOFFSETFROM:+0100
TZOFFSETTO:+0200
TZNAME:CEST
DTSTART:20230326T010000
END:DAYLIGHT
BEGIN:STANDARD
TZOFFSETFROM:+0200
TZOFFSETTO:+0100
TZNAME:CET
DTSTART:20231029T010000
END:STANDARD
BEGIN:DAYLIGHT
TZOFFSETFROM:+0100
TZOFFSETTO:+0200
TZNAME:CEST
DTSTART:20240331T010000
END:DAYLIGHT
BEGIN:STANDARD
TZOFFSETFROM:+0200
TZOFFSETTO:+0100
TZNAME:CET
DTSTART:20241027T010000
END:STANDARD
BEGIN:DAYLIGHT
TZOFFSETFROM:+0100
TZOFFSETTO:+0200
TZNAME:CEST
DTSTART:20250330T010000
END:DAYLIGHT
BEGIN:STANDARD
TZOFFSETFROM:+0200
TZOFFSETTO:+0100
TZNAME:CET
DTSTART:20251026T010000
END:STANDARD
END:VTIMEZONE
BEGIN:VEVENT
DTSTART;TZID=Europe/Paris:20241003T170000
DTEND;TZID=Europe/Paris:20241003T180000
DTSTAMP:20260422T123758
CREATED:20240920T122208Z
LAST-MODIFIED:20240920T122208Z
UID:10013223-1727974800-1727978400@saintpauldevence.org
SUMMARY:Inauguration de la Micro-Folie Saint-Paul-de-Vence
DESCRIPTION:Le jeudi 3 octobre à 17h devant la médiathèque\, venez assister à l’inauguration de la Micro-Folie Saint-Paul-de-Vence ! \nSeul(e) ou accompagné(e)\, en famille ou entre amis ou voisins\, venez découvrir en avant-première ce dispositif culturel de proximité visant à rendre accessible les collections des plus grands musées et institutions culturelles : le Centre Pompidou\, le Château de Versailles\, la Cité de la Musique – Philharmonie de Paris\, l’Institut du monde arabe\, le Louvre\, le musée d’Orsay\, le Musée du quai Branly-Jacques Chirac\, l’Opéra national de Paris… \nCette nouvelle proposition\, alliant parfaitement art et culture numérique sur notre territoire\, permet ainsi de découvrir à côté de chez soi plus de 5 000 œuvres en diffusant des contenus uniques. \n> Accès libre.\n> Un verre de l’amitié sera servi pour clôturer cet évènement convivial. \nCrédit photo : Daniel Rapaich – MF Lille – Musée numérique \n  \n  \n 
URL:https://saintpauldevence.org/agenda/inauguration-de-la-micro-folie-saint-paul-de-vence/
LOCATION:Médiathèque
CATEGORIES:Culture
ATTACH;FMTTYPE=image/jpeg:https://saintpauldevence.org/wp-content/uploads/2024/09/MF-Lille-Musee-numerique-c-Daniel-Rapaich-Dicom-Ville-de-Lille_hautedef-scaled.jpg
END:VEVENT
END:VCALENDAR