BEGIN:VCALENDAR
VERSION:2.0
PRODID:-//Saint-Paul-de-Vence - ECPv6.15.20//NONSGML v1.0//EN
CALSCALE:GREGORIAN
METHOD:PUBLISH
X-ORIGINAL-URL:https://saintpauldevence.org
X-WR-CALDESC:Évènements pour Saint-Paul-de-Vence
REFRESH-INTERVAL;VALUE=DURATION:PT1H
X-Robots-Tag:noindex
X-PUBLISHED-TTL:PT1H
BEGIN:VTIMEZONE
TZID:Europe/Paris
BEGIN:DAYLIGHT
TZOFFSETFROM:+0100
TZOFFSETTO:+0200
TZNAME:CEST
DTSTART:20240331T010000
END:DAYLIGHT
BEGIN:STANDARD
TZOFFSETFROM:+0200
TZOFFSETTO:+0100
TZNAME:CET
DTSTART:20241027T010000
END:STANDARD
BEGIN:DAYLIGHT
TZOFFSETFROM:+0100
TZOFFSETTO:+0200
TZNAME:CEST
DTSTART:20250330T010000
END:DAYLIGHT
BEGIN:STANDARD
TZOFFSETFROM:+0200
TZOFFSETTO:+0100
TZNAME:CET
DTSTART:20251026T010000
END:STANDARD
BEGIN:DAYLIGHT
TZOFFSETFROM:+0100
TZOFFSETTO:+0200
TZNAME:CEST
DTSTART:20260329T010000
END:DAYLIGHT
BEGIN:STANDARD
TZOFFSETFROM:+0200
TZOFFSETTO:+0100
TZNAME:CET
DTSTART:20261025T010000
END:STANDARD
END:VTIMEZONE
BEGIN:VEVENT
DTSTART;TZID=Europe/Paris:20250124T200000
DTEND;TZID=Europe/Paris:20250124T213000
DTSTAMP:20260421T120336
CREATED:20241126T133123Z
LAST-MODIFIED:20241126T133123Z
UID:10013276-1737748800-1737754200@saintpauldevence.org
SUMMARY:Concert d'hiver : Trio Goldberg
DESCRIPTION:Le Festival de Musique de Saint-Paul-de-Vence prend ses quartiers d’hiver et vous présente le Trio Goldberg à l’Auditorium de Saint-Paul\, le vendredi 24 janvier à 20h. Reconnu par la critique internationale comme étant un des meilleurs trio à cordes de sa génération\, il est composé de Liza Kerob au violon\, Federico Hood à l’alto et Thierry Amadi au violoncelle. Le trio vous offrira un concert découverte\, vous faisant voyager de Haydn à Weinberg. \nInformations pratiques :  \n\nEntrée : 20€\nEntrée adhérents et jeunes de – de 25 ans : 15€\nRéservations sur le site internet des Amis du Festival de Musique de Saint-Paul-de-Vence ou sur place à l’entrée\nRenseignements : 06 09 20 65 57 ou amisdesaintpaul@outlook.fr
URL:https://saintpauldevence.org/agenda/concert-dhiver-trio-goldberg/
LOCATION:Auditorium\, 150 Rte des Serres\, Saint-Paul-de-Vence\, 06570\, France
CATEGORIES:Concert
ATTACH;FMTTYPE=image/jpeg:https://saintpauldevence.org/wp-content/uploads/2024/11/Trio-Goldberg.jpg
GEO:43.698886784084;7.1200623819271
X-APPLE-STRUCTURED-LOCATION;VALUE=URI;X-ADDRESS=Auditorium 150 Rte des Serres Saint-Paul-de-Vence 06570 France;X-APPLE-RADIUS=500;X-TITLE=150 Rte des Serres:geo:7.1200623819271,43.698886784084
END:VEVENT
END:VCALENDAR