BEGIN:VCALENDAR
VERSION:2.0
PRODID:-//Saint-Paul-de-Vence - ECPv6.15.20//NONSGML v1.0//EN
CALSCALE:GREGORIAN
METHOD:PUBLISH
X-ORIGINAL-URL:https://saintpauldevence.org
X-WR-CALDESC:Évènements pour Saint-Paul-de-Vence
REFRESH-INTERVAL;VALUE=DURATION:PT1H
X-Robots-Tag:noindex
X-PUBLISHED-TTL:PT1H
BEGIN:VTIMEZONE
TZID:Europe/Paris
BEGIN:DAYLIGHT
TZOFFSETFROM:+0100
TZOFFSETTO:+0200
TZNAME:CEST
DTSTART:20230326T010000
END:DAYLIGHT
BEGIN:STANDARD
TZOFFSETFROM:+0200
TZOFFSETTO:+0100
TZNAME:CET
DTSTART:20231029T010000
END:STANDARD
BEGIN:DAYLIGHT
TZOFFSETFROM:+0100
TZOFFSETTO:+0200
TZNAME:CEST
DTSTART:20240331T010000
END:DAYLIGHT
BEGIN:STANDARD
TZOFFSETFROM:+0200
TZOFFSETTO:+0100
TZNAME:CET
DTSTART:20241027T010000
END:STANDARD
BEGIN:DAYLIGHT
TZOFFSETFROM:+0100
TZOFFSETTO:+0200
TZNAME:CEST
DTSTART:20250330T010000
END:DAYLIGHT
BEGIN:STANDARD
TZOFFSETFROM:+0200
TZOFFSETTO:+0100
TZNAME:CET
DTSTART:20251026T010000
END:STANDARD
END:VTIMEZONE
BEGIN:VEVENT
DTSTART;TZID=Europe/Paris:20240726T210000
DTEND;TZID=Europe/Paris:20240726T223000
DTSTAMP:20260421T185128
CREATED:20240417T135838Z
LAST-MODIFIED:20240417T135838Z
UID:10013110-1722027600-1722033000@saintpauldevence.org
SUMMARY:Concert de Lea Desandre & l’Ensemble Jupiter
DESCRIPTION:Le vendredi 26 juillet à 21h sur la Place de la Courtine\, place au baroque ! \nLa divine Lea Desandre\, l’une des jeunes chanteuses lyrique (mezzo-soprano) les plus demandées actuellement\, et l’Ensemble Jupiter\, fondé et dirigé par Thomas Dunford\, se produiront sur scène\, permettant aux notes baroques de résonner pour la 1ère fois à Saint-Paul-de-Vence. \nEnsemble\, ils interpréteront les œuvres des 2 génies musicaux d’Angleterre : John Dowland et Henry Purcell. \nAu programme : une panoplie d’émotions : l’amour\, la colère\, la peur\, la joie\, l’abandon. \nInformations pratiques :\nRéservations : à partir du 22 avril 2024 sur www.festivalsaintpauldevence.com\nRenseignements auprès de l’Office de Tourisme : 04 93 32 86 95
URL:https://saintpauldevence.org/agenda/concert-de-lea-desandre-lensemble-jupiter/
LOCATION:Place de la Courtine
CATEGORIES:Concert
ATTACH;FMTTYPE=image/jpeg:https://saintpauldevence.org/wp-content/uploads/2024/04/Purcelle-dowland-lea-desandre-l-ensemble-jupiter.jpg
END:VEVENT
BEGIN:VEVENT
DTSTART;TZID=Europe/Paris:20240727T210000
DTEND;TZID=Europe/Paris:20240727T223000
DTSTAMP:20260421T185128
CREATED:20240417T135940Z
LAST-MODIFIED:20240417T135940Z
UID:10013111-1722114000-1722119400@saintpauldevence.org
SUMMARY:Concert du Quatuor Modigliani & Louis Lortie (piano)
DESCRIPTION:Le samedi 27 juillet sur la Place de la Courtine\, notre célèbre quatuor se produira avec le pianiste canadien\, Louis Lortie. \nAu programme :\n-Maurice Ravel\, Quatuor à cordes en fa majeur\n-Gabriel Fauré\, Quatuor pour piano et cordes en ut mineur\, opus 15\n-Gabriel Fauré\, Quintette pour piano et cordes n°2 en ut mineur opus 115 \nA n’en pas douter ; cette soirée de clôture sera une grande fête de la musique. \nInformations pratiques :\nRéservations : à partir du 22 avril 2024 sur www.festivalsaintpauldevence.com\nRenseignements auprès de l’Office de Tourisme : 04 93 32 86 95
URL:https://saintpauldevence.org/agenda/concert-du-quatuor-modigliani-louis-lortie-piano/
LOCATION:Place de la Courtine
CATEGORIES:Concert
ATTACH;FMTTYPE=image/png:https://saintpauldevence.org/wp-content/uploads/2024/04/Quatuor-Modigliani-Louis-Lortie_FMC-2024.png
END:VEVENT
BEGIN:VEVENT
DTSTART;TZID=Europe/Paris:20240728T203000
DTEND;TZID=Europe/Paris:20240728T233000
DTSTAMP:20260421T185128
CREATED:20240426T073641Z
LAST-MODIFIED:20240426T073641Z
UID:10013125-1722198600-1722209400@saintpauldevence.org
SUMMARY:Concert Thomas Enhco & Vassilena Serafimova
DESCRIPTION:À l’occasion des 60 ans de la Fondation Maeght\, venez découvrir un concert debout et unique\, où se croisent des mélodies éternelles et des improvisations fugaces le vendredi 28 juillet 2024 qsur la Place de la Courtine. \nPremière fondation d’art indépendante établie en France\, face à l’éperon rocheux de Saint-Paul de Vence\, la Fondation Maeght fête cette année ses soixante ans\, et ses dix ans de partenariat avec le festival. Dans ce haut lieu qui accueillit Joan Miró\, Marc Chagall ou encore Alberto Giacometti et qui\, aujourd’hui encore\, abrite une des plus belles collections d’art des XXe et XXIe siècles\, le pianiste créatif Thomas Enhco et la virtuose du marimba Vassilena Serafimova réinventent l’art de Bach pour l’ancrer dans notre temps. Le duo joue avec les rythmes du cantor de Leipzig\, colore ses partitions d’une nouvelle teinte\, leur donnant un parfum de jazz\, de musique cubaine… voire même de techno ! \n\n20h30 : Concert Thomas Enhco (Piano) & Vassilena Serafimova (Marimba)\nProgramme : Bach Mirror\n22h : DJ Set\n\nOuverture de la billetterie de ce concert sur le site de la Fondation Maeght\, mi mai 2024. \nRenseignements auprès de l’Office de tourisme – 04 93 32 86 95
URL:https://saintpauldevence.org/agenda/concert-thomas-enhco-vassilena-serafimova/
CATEGORIES:Concert
ATTACH;FMTTYPE=image/jpeg:https://saintpauldevence.org/wp-content/uploads/2024/04/Thomas-Enhco-Vassilena-Serafimov-©Franck-Loriou.jpg
END:VEVENT
END:VCALENDAR