BEGIN:VCALENDAR
VERSION:2.0
PRODID:-//Saint-Paul-de-Vence - ECPv6.15.20//NONSGML v1.0//EN
CALSCALE:GREGORIAN
METHOD:PUBLISH
X-ORIGINAL-URL:https://saintpauldevence.org
X-WR-CALDESC:Évènements pour Saint-Paul-de-Vence
REFRESH-INTERVAL;VALUE=DURATION:PT1H
X-Robots-Tag:noindex
X-PUBLISHED-TTL:PT1H
BEGIN:VTIMEZONE
TZID:Europe/Paris
BEGIN:DAYLIGHT
TZOFFSETFROM:+0100
TZOFFSETTO:+0200
TZNAME:CEST
DTSTART:20230326T010000
END:DAYLIGHT
BEGIN:STANDARD
TZOFFSETFROM:+0200
TZOFFSETTO:+0100
TZNAME:CET
DTSTART:20231029T010000
END:STANDARD
BEGIN:DAYLIGHT
TZOFFSETFROM:+0100
TZOFFSETTO:+0200
TZNAME:CEST
DTSTART:20240331T010000
END:DAYLIGHT
BEGIN:STANDARD
TZOFFSETFROM:+0200
TZOFFSETTO:+0100
TZNAME:CET
DTSTART:20241027T010000
END:STANDARD
BEGIN:DAYLIGHT
TZOFFSETFROM:+0100
TZOFFSETTO:+0200
TZNAME:CEST
DTSTART:20250330T010000
END:DAYLIGHT
BEGIN:STANDARD
TZOFFSETFROM:+0200
TZOFFSETTO:+0100
TZNAME:CET
DTSTART:20251026T010000
END:STANDARD
END:VTIMEZONE
BEGIN:VEVENT
DTSTART;TZID=Europe/Paris:20240720T210000
DTEND;TZID=Europe/Paris:20240720T223000
DTSTAMP:20260421T212351
CREATED:20240417T135315Z
LAST-MODIFIED:20240417T135619Z
UID:10013106-1721509200-1721514600@saintpauldevence.org
SUMMARY:Concert de Sergey & Lusine Khachatryan
DESCRIPTION:Samedi 20 juillet à 21h\, sur la Place de la Courtine\, Sergey Khachatryan & Lusine Khachatryan ouvriront le Festival de Saint-Paul-de-Vence. \nArméniens de patrie et allemands de cœur\, ce frère et cette sœur dévoilent une véritable connivence musicale sur scène. Dès les premières mesures\, vous pourrez apprécier le style généreux\, expressif et franc de Sergey qui a été le brillant vainqueur du Concours Reine Elisabeth en 2005 avant de devenir l’un des violonistes que le monde s’arrache. \nInformations pratiques :\nRéservations : à partir du 22 avril 2024 sur www.festivalsaintpauldevence.com\nRenseignements auprès de l’Office de Tourisme : 04 93 32 86 95
URL:https://saintpauldevence.org/agenda/concert-de-sergey-lusine-khachatryan/
LOCATION:Place de la Courtine
CATEGORIES:Concert
ATTACH;FMTTYPE=image/jpeg:https://saintpauldevence.org/wp-content/uploads/2024/04/Sergey-et-Lusine-Khachatryan-FMC-2024-scaled.jpeg
END:VEVENT
END:VCALENDAR