BEGIN:VCALENDAR
VERSION:2.0
PRODID:-//Saint-Paul-de-Vence - ECPv6.15.20//NONSGML v1.0//EN
CALSCALE:GREGORIAN
METHOD:PUBLISH
X-WR-CALNAME:Saint-Paul-de-Vence
X-ORIGINAL-URL:https://saintpauldevence.org
X-WR-CALDESC:Évènements pour Saint-Paul-de-Vence
REFRESH-INTERVAL;VALUE=DURATION:PT1H
X-Robots-Tag:noindex
X-PUBLISHED-TTL:PT1H
BEGIN:VTIMEZONE
TZID:Europe/Paris
BEGIN:DAYLIGHT
TZOFFSETFROM:+0100
TZOFFSETTO:+0200
TZNAME:CEST
DTSTART:20230326T010000
END:DAYLIGHT
BEGIN:STANDARD
TZOFFSETFROM:+0200
TZOFFSETTO:+0100
TZNAME:CET
DTSTART:20231029T010000
END:STANDARD
BEGIN:DAYLIGHT
TZOFFSETFROM:+0100
TZOFFSETTO:+0200
TZNAME:CEST
DTSTART:20240331T010000
END:DAYLIGHT
BEGIN:STANDARD
TZOFFSETFROM:+0200
TZOFFSETTO:+0100
TZNAME:CET
DTSTART:20241027T010000
END:STANDARD
BEGIN:DAYLIGHT
TZOFFSETFROM:+0100
TZOFFSETTO:+0200
TZNAME:CEST
DTSTART:20250330T010000
END:DAYLIGHT
BEGIN:STANDARD
TZOFFSETFROM:+0200
TZOFFSETTO:+0100
TZNAME:CET
DTSTART:20251026T010000
END:STANDARD
END:VTIMEZONE
BEGIN:VEVENT
DTSTART;TZID=Europe/Paris:20240210T163000
DTEND;TZID=Europe/Paris:20240210T180000
DTSTAMP:20260422T120337
CREATED:20240118T090934Z
LAST-MODIFIED:20240118T091053Z
UID:10008524-1707582600-1707588000@saintpauldevence.org
SUMMARY:Concert caritatif
DESCRIPTION:Le Rotary Club de Saint-Paul-de-Vence vous propose un concert inédit de flûtes traversières le samedi 10 février 2024 à 16h30 à l’Auditorium. Sur scène\, se produiront Elise Giai & Mélodie Seguin\, de talentueuses jeunes artistes actuellement en classe de cycle spécialisé de flûte traversière au Conservatoire d’Aix-en-Provence. \nEnsemble\, elles interprèteront un programme original qui comporte plusieurs adaptations (Debussy\, Delibes\, Godard…) et de nombreuses références au territoire de Crau ou des pays d’Oc (une fantaisie sur des airs de la Pastorale Riboun d’Eyguières\, des variations sur Se Canto\, et même une promenade à Antibes sur les pas de Sidney Bechet). Elles seront accompagnées par Jean-Baptiste Giai\, pianiste. \nLe saviez-vous ? Originaire de Vence\, Mélodie Seguin a été finaliste de l’émission Prodiges\, édition 2020.  \n  \nInformations pratiques : \n\nSpectacle caritatif au profit des actions en faveur de la jeunesse\nEntrée gratuite pour les enfants de – de 10 ans // 5€ pour les enfants âgés de 10 à 18 ans // 10€ pour les adultes\nBilletterie sur place.\nInformations auprès du Rotary Club de Saint-Paul-de-Vence : 06 63 74 93 83\n\n  \n  \n 
URL:https://saintpauldevence.org/agenda/concert-caritatif-4/
LOCATION:Auditorium\, 150 Rte des Serres\, Saint-Paul-de-Vence\, 06570\, France
CATEGORIES:Concert
ATTACH;FMTTYPE=image/jpeg:https://saintpauldevence.org/wp-content/uploads/2024/01/concert-du-rotary-club_melodie-seguin-et-elise-giai-e1705568963501.jpg
GEO:43.698886784084;7.1200623819271
X-APPLE-STRUCTURED-LOCATION;VALUE=URI;X-ADDRESS=Auditorium 150 Rte des Serres Saint-Paul-de-Vence 06570 France;X-APPLE-RADIUS=500;X-TITLE=150 Rte des Serres:geo:7.1200623819271,43.698886784084
END:VEVENT
END:VCALENDAR