BEGIN:VCALENDAR
VERSION:2.0
PRODID:-//Saint-Paul-de-Vence - ECPv6.15.20//NONSGML v1.0//EN
CALSCALE:GREGORIAN
METHOD:PUBLISH
X-WR-CALNAME:Saint-Paul-de-Vence
X-ORIGINAL-URL:https://saintpauldevence.org
X-WR-CALDESC:Évènements pour Saint-Paul-de-Vence
REFRESH-INTERVAL;VALUE=DURATION:PT1H
X-Robots-Tag:noindex
X-PUBLISHED-TTL:PT1H
BEGIN:VTIMEZONE
TZID:Europe/Paris
BEGIN:DAYLIGHT
TZOFFSETFROM:+0100
TZOFFSETTO:+0200
TZNAME:CEST
DTSTART:20230326T010000
END:DAYLIGHT
BEGIN:STANDARD
TZOFFSETFROM:+0200
TZOFFSETTO:+0100
TZNAME:CET
DTSTART:20231029T010000
END:STANDARD
BEGIN:DAYLIGHT
TZOFFSETFROM:+0100
TZOFFSETTO:+0200
TZNAME:CEST
DTSTART:20240331T010000
END:DAYLIGHT
BEGIN:STANDARD
TZOFFSETFROM:+0200
TZOFFSETTO:+0100
TZNAME:CET
DTSTART:20241027T010000
END:STANDARD
BEGIN:DAYLIGHT
TZOFFSETFROM:+0100
TZOFFSETTO:+0200
TZNAME:CEST
DTSTART:20250330T010000
END:DAYLIGHT
BEGIN:STANDARD
TZOFFSETFROM:+0200
TZOFFSETTO:+0100
TZNAME:CET
DTSTART:20251026T010000
END:STANDARD
END:VTIMEZONE
BEGIN:VEVENT
DTSTART;TZID=Europe/Paris:20240126T200000
DTEND;TZID=Europe/Paris:20240126T213000
DTSTAMP:20260422T104229
CREATED:20231108T091835Z
LAST-MODIFIED:20240103T090748Z
UID:10001193-1706299200-1706304600@saintpauldevence.org
SUMMARY:Concert d'hiver des amis du Festival de Saint-Paul-de-Vence
DESCRIPTION:Le festival de musique de Saint-Paul-de-Vence prend ses quartiers d’hiver ! L’association des Amis du Festival de Musique de Saint-Paul-de-Vence vous propose le temps d’une soirée\, un concert d’exception en récital « Rêve de nuit » du pianiste Nicolas Bringuier\, le vendredi 26 janvier 2024 à 20h à l’Auditorium. Un des artistes les plus brillants de sa génération dans un programme de Mozart à Ravel… \nInformations pratiques:\n– Tarif adhérents : 15 €\n– Entrée : 20€\n– Renseignements et réservation sur : www.festivalsaintpauldevence.com
URL:https://saintpauldevence.org/agenda/concert-dhiver-reve-de-nuit/
LOCATION:Auditorium\, 150 Rte des Serres\, Saint-Paul-de-Vence\, 06570\, France
CATEGORIES:Concert
ATTACH;FMTTYPE=:
GEO:43.698886784084;7.1200623819271
X-APPLE-STRUCTURED-LOCATION;VALUE=URI;X-ADDRESS=Auditorium 150 Rte des Serres Saint-Paul-de-Vence 06570 France;X-APPLE-RADIUS=500;X-TITLE=150 Rte des Serres:geo:7.1200623819271,43.698886784084
END:VEVENT
BEGIN:VEVENT
DTSTART;TZID=Europe/Paris:20240127T180000
DTEND;TZID=Europe/Paris:20240127T193000
DTSTAMP:20260422T104229
CREATED:20240110T085535Z
LAST-MODIFIED:20240110T093323Z
UID:10006939-1706378400-1706383800@saintpauldevence.org
SUMMARY:Concert : MisaTango
DESCRIPTION:Sous la direction de Sarmad Khoury et sur des arrangements de Mauricio Lozano (chef d’orchestre de l’Harmonie de Saint-Paul-de-Vence)\, le conservatoire de Vence donnera un concert classique le samedi 27 janvier à 18h à l’église la Collégiale. \nLa MisaTango sera interprétée par le choeur mixte du conservatoire de Vence\, accompagné de l’ensemble Azimut (comprenant plusieurs musiciens de l’Harmonie de Saint-Paul-de-Vence). \nLe saviez-vous ? MisaTango est une messe chorale sur des sonorités de Tango ; elle est composée sur les mêmes mouvements qu’une messe en latin classique\, à laquelle se mêlent les harmoniques et les rythmes syncopés du tango. Cette oeuvre musicale a été composée en 1996 par l’argentin Martin Palmeri mais elle a gagné en notoriété lorsqu’elle a été choisie en 2013 pour rendre hommage à l’intronisation de l’ancien cardinal de Buenos Aires devenu le Pape François\, en référence aux origines Argentine de cet ancien danseur de Tango. \nInfos pratiques : \n\nEntrée libre
URL:https://saintpauldevence.org/agenda/concert-misa-tango/
LOCATION:Saint-Paul-de-Vence\, France
ATTACH;FMTTYPE=:
END:VEVENT
END:VCALENDAR