BEGIN:VCALENDAR
VERSION:2.0
PRODID:-//Saint-Paul-de-Vence - ECPv6.15.20//NONSGML v1.0//EN
CALSCALE:GREGORIAN
METHOD:PUBLISH
X-WR-CALNAME:Saint-Paul-de-Vence
X-ORIGINAL-URL:https://saintpauldevence.org
X-WR-CALDESC:Évènements pour Saint-Paul-de-Vence
REFRESH-INTERVAL;VALUE=DURATION:PT1H
X-Robots-Tag:noindex
X-PUBLISHED-TTL:PT1H
BEGIN:VTIMEZONE
TZID:Europe/Paris
BEGIN:DAYLIGHT
TZOFFSETFROM:+0100
TZOFFSETTO:+0200
TZNAME:CEST
DTSTART:20220327T010000
END:DAYLIGHT
BEGIN:STANDARD
TZOFFSETFROM:+0200
TZOFFSETTO:+0100
TZNAME:CET
DTSTART:20221030T010000
END:STANDARD
BEGIN:DAYLIGHT
TZOFFSETFROM:+0100
TZOFFSETTO:+0200
TZNAME:CEST
DTSTART:20230326T010000
END:DAYLIGHT
BEGIN:STANDARD
TZOFFSETFROM:+0200
TZOFFSETTO:+0100
TZNAME:CET
DTSTART:20231029T010000
END:STANDARD
BEGIN:DAYLIGHT
TZOFFSETFROM:+0100
TZOFFSETTO:+0200
TZNAME:CEST
DTSTART:20240331T010000
END:DAYLIGHT
BEGIN:STANDARD
TZOFFSETFROM:+0200
TZOFFSETTO:+0100
TZNAME:CET
DTSTART:20241027T010000
END:STANDARD
END:VTIMEZONE
BEGIN:VEVENT
DTSTART;TZID=Europe/Paris:20230318T200000
DTEND;TZID=Europe/Paris:20230318T210000
DTSTAMP:20260423T124313
CREATED:20230228T101018Z
LAST-MODIFIED:20230228T101018Z
UID:10001052-1679169600-1679173200@saintpauldevence.org
SUMMARY:Concert caritatif
DESCRIPTION:En soutien à l’association « AIDER »\, l’Harmonie de Saint-Paul-de-Vence donnera un concert le samedi 18 mars à 20h à la Chapelle Victoria de Grasse. \nAu programme : Beethoven\, Lopez\, Stein\, Jones\, Hardiman\, Arlen\, Bürki\, Tschaikovsky … >Cliquez ici pour voir le programme en détail.
URL:https://saintpauldevence.org/agenda/concert-caritatif-2/
LOCATION:Saint-Paul-de-Vence\, France
CATEGORIES:Concert
ATTACH;FMTTYPE=image/png:https://saintpauldevence.org/wp-content/uploads/2023/02/Harmonie-de-saint-paul-de-Vence.png
END:VEVENT
END:VCALENDAR