BEGIN:VCALENDAR
VERSION:2.0
PRODID:-//Saint-Paul-de-Vence - ECPv6.15.20//NONSGML v1.0//EN
CALSCALE:GREGORIAN
METHOD:PUBLISH
X-ORIGINAL-URL:https://saintpauldevence.org
X-WR-CALDESC:Évènements pour Saint-Paul-de-Vence
REFRESH-INTERVAL;VALUE=DURATION:PT1H
X-Robots-Tag:noindex
X-PUBLISHED-TTL:PT1H
BEGIN:VTIMEZONE
TZID:Europe/Paris
BEGIN:DAYLIGHT
TZOFFSETFROM:+0100
TZOFFSETTO:+0200
TZNAME:CEST
DTSTART:20210328T010000
END:DAYLIGHT
BEGIN:STANDARD
TZOFFSETFROM:+0200
TZOFFSETTO:+0100
TZNAME:CET
DTSTART:20211031T010000
END:STANDARD
BEGIN:DAYLIGHT
TZOFFSETFROM:+0100
TZOFFSETTO:+0200
TZNAME:CEST
DTSTART:20220327T010000
END:DAYLIGHT
BEGIN:STANDARD
TZOFFSETFROM:+0200
TZOFFSETTO:+0100
TZNAME:CET
DTSTART:20221030T010000
END:STANDARD
BEGIN:DAYLIGHT
TZOFFSETFROM:+0100
TZOFFSETTO:+0200
TZNAME:CEST
DTSTART:20230326T010000
END:DAYLIGHT
BEGIN:STANDARD
TZOFFSETFROM:+0200
TZOFFSETTO:+0100
TZNAME:CET
DTSTART:20231029T010000
END:STANDARD
END:VTIMEZONE
BEGIN:VEVENT
DTSTART;TZID=Europe/Paris:20221117T182934
DTEND;TZID=Europe/Paris:20221117T182934
DTSTAMP:20260423T182631
CREATED:20221117T172922Z
LAST-MODIFIED:20221129T103229Z
UID:10000674-1668709774-1668709774@saintpauldevence.org
SUMMARY:Concert d'hiver
DESCRIPTION:Venez vivre une soirée musicale unique le samedi 21 janvier\, à 20h30 à l’Auditorium. A l’occasion du concert d’hiver organisé par l’Association des Amis du Festival de Musique de Saint-Paul-de-Vence\, se produiront sur scène Virginie et Bruno Robilliard. \nIssus d’une grande famille de musiciens\, ces concertistes réputés sont titulaires de nombreux prix internationaux\, dont le prestigieux prix Marguerite Long Thibaud pour Virginie. \nL’alchimie et l’entente particulière entre le frère et la sœur\, alternant virtuosité et tendresse\, promet une soirée exceptionnelle. Au programme : des œuvres de Brahms\, Grieg\, Franck….
URL:https://saintpauldevence.org/agenda/concert-dhiver-2023/
LOCATION:Auditorium\, 150 Rte des Serres\, Saint-Paul-de-Vence\, 06570\, France
CATEGORIES:Concert
ATTACH;FMTTYPE=image/png:https://saintpauldevence.org/wp-content/uploads/2021/10/Concert-hommage.png
GEO:43.698886784084;7.1200623819271
X-APPLE-STRUCTURED-LOCATION;VALUE=URI;X-ADDRESS=Auditorium 150 Rte des Serres Saint-Paul-de-Vence 06570 France;X-APPLE-RADIUS=500;X-TITLE=150 Rte des Serres:geo:7.1200623819271,43.698886784084
END:VEVENT
END:VCALENDAR