BEGIN:VCALENDAR
VERSION:2.0
PRODID:-//Saint-Paul-de-Vence - ECPv6.15.20//NONSGML v1.0//EN
CALSCALE:GREGORIAN
METHOD:PUBLISH
X-WR-CALNAME:Saint-Paul-de-Vence
X-ORIGINAL-URL:https://saintpauldevence.org
X-WR-CALDESC:Évènements pour Saint-Paul-de-Vence
REFRESH-INTERVAL;VALUE=DURATION:PT1H
X-Robots-Tag:noindex
X-PUBLISHED-TTL:PT1H
BEGIN:VTIMEZONE
TZID:Europe/Paris
BEGIN:DAYLIGHT
TZOFFSETFROM:+0100
TZOFFSETTO:+0200
TZNAME:CEST
DTSTART:20200329T010000
END:DAYLIGHT
BEGIN:STANDARD
TZOFFSETFROM:+0200
TZOFFSETTO:+0100
TZNAME:CET
DTSTART:20201025T010000
END:STANDARD
BEGIN:DAYLIGHT
TZOFFSETFROM:+0100
TZOFFSETTO:+0200
TZNAME:CEST
DTSTART:20210328T010000
END:DAYLIGHT
BEGIN:STANDARD
TZOFFSETFROM:+0200
TZOFFSETTO:+0100
TZNAME:CET
DTSTART:20211031T010000
END:STANDARD
BEGIN:DAYLIGHT
TZOFFSETFROM:+0100
TZOFFSETTO:+0200
TZNAME:CEST
DTSTART:20220327T010000
END:DAYLIGHT
BEGIN:STANDARD
TZOFFSETFROM:+0200
TZOFFSETTO:+0100
TZNAME:CET
DTSTART:20221030T010000
END:STANDARD
END:VTIMEZONE
BEGIN:VEVENT
DTSTART;TZID=Europe/Paris:20210727T210000
DTEND;TZID=Europe/Paris:20210727T230000
DTSTAMP:20260425T054611
CREATED:20210617T120315Z
LAST-MODIFIED:20210716T070550Z
UID:10000348-1627419600-1627426800@saintpauldevence.org
SUMMARY:Concert - Festival de Saint-Paul de Vence
DESCRIPTION:A l’affiche : Sirba Octet – « Tantz ! » Laissez-vous emporter par la mélodie des virtuoses de Sirba Octet\, issus des plus célèbres orchestres parisiens… et embarquez pour un voyage au cœur des répertoires klezmer\, yiddish et tzigane. Avec Tantz!\, ils vous invitent à célébrer la vie. \nRéservations sur la billetterie | Festival Saint Paul de Vence \n  \nConcernant l’accès au festival :\nComme tous les événements de plus de 50 personnes\, le Festival Classique & Jazz appliquera les nouvelles mesures sanitaires ; son public sera donc soumis au pass sanitaire qui sera contrôlé à l’entrée. \nLe pass sanitaire est conditionné à la présentation pour les plus de 18 ans de : \n\nUn schéma vaccinal complet\nLa preuve d’un test négatif de moins de 48h\nLe résultat d’un test positif attestant du rétablissement de la Covid-19 \n\nLe pass sanitaire sera applicable à partir du 21 juillet.
URL:https://saintpauldevence.org/agenda/concert-festival-de-musique-classique-et-jazz-saint-paul-de-vence/
LOCATION:Place de la Courtine
CATEGORIES:Concert
ATTACH;FMTTYPE=image/jpeg:https://saintpauldevence.org/wp-content/uploads/2021/06/Sirba-Octet_Bernard-Martinez.jpg
END:VEVENT
BEGIN:VEVENT
DTSTART;TZID=Europe/Paris:20210730T210000
DTEND;TZID=Europe/Paris:20210730T230000
DTSTAMP:20260425T054611
CREATED:20210624T195113Z
LAST-MODIFIED:20210706T190459Z
UID:10000361-1627678800-1627686000@saintpauldevence.org
SUMMARY:Concert de Thomas Leleu - Les Soirées estivales du département
DESCRIPTION:Les Soirées Estivales du Département posent leurs valises dans notre commune. A cette occasion\, se tiendra un concert de Thomas Leleu\,  tubiste français. Elu  » Révélation soliste instrumental de l’année » aux Victoires de la Musique\, il explore dans « Born to Groove » une musique à son image\, sans frontières : musique africaine\, arménienne\, arabe\, brésilienne\, caribéenne\, jazz fusion… Dans ce mélange des genres\, Thomas Leleu\, entouré de 5 musiciens\, fait vivre ses compositions et donne aux musiques qu’il aborde une universalité originale. \nAccès gratuit – Infos sur Les Soirées Estivales du Département  \nThomas Leleu est un artiste soutenu par la Spedidam
URL:https://saintpauldevence.org/agenda/concert-de-thomas-leleu-les-soirees-estivales-du-departement/
LOCATION:Saint-Paul-de-Vence\, France
CATEGORIES:Concert
ATTACH;FMTTYPE=image/jpeg:https://saintpauldevence.org/wp-content/uploads/2021/06/csm_se2021-mu-mond-borntogroove_95267c737a.jpg
END:VEVENT
END:VCALENDAR