BEGIN:VCALENDAR
VERSION:2.0
PRODID:-//Saint-Paul-de-Vence - ECPv6.15.20//NONSGML v1.0//EN
CALSCALE:GREGORIAN
METHOD:PUBLISH
X-WR-CALNAME:Saint-Paul-de-Vence
X-ORIGINAL-URL:https://saintpauldevence.org
X-WR-CALDESC:Évènements pour Saint-Paul-de-Vence
REFRESH-INTERVAL;VALUE=DURATION:PT1H
X-Robots-Tag:noindex
X-PUBLISHED-TTL:PT1H
BEGIN:VTIMEZONE
TZID:Europe/Paris
BEGIN:DAYLIGHT
TZOFFSETFROM:+0100
TZOFFSETTO:+0200
TZNAME:CEST
DTSTART:20200329T010000
END:DAYLIGHT
BEGIN:STANDARD
TZOFFSETFROM:+0200
TZOFFSETTO:+0100
TZNAME:CET
DTSTART:20201025T010000
END:STANDARD
BEGIN:DAYLIGHT
TZOFFSETFROM:+0100
TZOFFSETTO:+0200
TZNAME:CEST
DTSTART:20210328T010000
END:DAYLIGHT
BEGIN:STANDARD
TZOFFSETFROM:+0200
TZOFFSETTO:+0100
TZNAME:CET
DTSTART:20211031T010000
END:STANDARD
BEGIN:DAYLIGHT
TZOFFSETFROM:+0100
TZOFFSETTO:+0200
TZNAME:CEST
DTSTART:20220327T010000
END:DAYLIGHT
BEGIN:STANDARD
TZOFFSETFROM:+0200
TZOFFSETTO:+0100
TZNAME:CET
DTSTART:20221030T010000
END:STANDARD
END:VTIMEZONE
BEGIN:VEVENT
DTSTART;TZID=Europe/Paris:20210702T190000
DTEND;TZID=Europe/Paris:20210703T010000
DTSTAMP:20260425T133343
CREATED:20210615T120122Z
LAST-MODIFIED:20210615T120122Z
UID:10000330-1625252400-1625274000@saintpauldevence.org
SUMMARY:Crossover summer - Arty Party
DESCRIPTION:A l’occasion du lancement de la Biennale Internationale de Saint-Paul-de-Vence\, le Crossover Summer Arty Party fait son grand retour le vendredi 2 juillet 2021 à 21h sur la Place de la Courtine.\nAmbiance très “chill” sur les remparts avec aux platines\, Kid Francescoli\, un artiste connu mondialement pour son univers électro-pop onirique.\n\n>>Places limitées\, pour réserver cliquer ici
URL:https://saintpauldevence.org/agenda/crossover-summer-arty-party/
LOCATION:Place de la Courtine
CATEGORIES:Concert
ATTACH;FMTTYPE=image/jpeg:https://saintpauldevence.org/wp-content/uploads/2021/06/©crossoversummer_arty-party_saint-paul-de-vence_2021.jpg
END:VEVENT
END:VCALENDAR