BEGIN:VCALENDAR
VERSION:2.0
PRODID:-//Saint-Paul-de-Vence - ECPv6.15.20//NONSGML v1.0//EN
CALSCALE:GREGORIAN
METHOD:PUBLISH
X-WR-CALNAME:Saint-Paul-de-Vence
X-ORIGINAL-URL:https://saintpauldevence.org
X-WR-CALDESC:Évènements pour Saint-Paul-de-Vence
REFRESH-INTERVAL;VALUE=DURATION:PT1H
X-Robots-Tag:noindex
X-PUBLISHED-TTL:PT1H
BEGIN:VTIMEZONE
TZID:Europe/Paris
BEGIN:DAYLIGHT
TZOFFSETFROM:+0100
TZOFFSETTO:+0200
TZNAME:CEST
DTSTART:20200329T010000
END:DAYLIGHT
BEGIN:STANDARD
TZOFFSETFROM:+0200
TZOFFSETTO:+0100
TZNAME:CET
DTSTART:20201025T010000
END:STANDARD
BEGIN:DAYLIGHT
TZOFFSETFROM:+0100
TZOFFSETTO:+0200
TZNAME:CEST
DTSTART:20210328T010000
END:DAYLIGHT
BEGIN:STANDARD
TZOFFSETFROM:+0200
TZOFFSETTO:+0100
TZNAME:CET
DTSTART:20211031T010000
END:STANDARD
BEGIN:DAYLIGHT
TZOFFSETFROM:+0100
TZOFFSETTO:+0200
TZNAME:CEST
DTSTART:20220327T010000
END:DAYLIGHT
BEGIN:STANDARD
TZOFFSETFROM:+0200
TZOFFSETTO:+0100
TZNAME:CET
DTSTART:20221030T010000
END:STANDARD
END:VTIMEZONE
BEGIN:VEVENT
DTSTART;TZID=Europe/Paris:20210621T170000
DTEND;TZID=Europe/Paris:20210621T220000
DTSTAMP:20260425T151004
CREATED:20210611T131412Z
LAST-MODIFIED:20210617T144336Z
UID:10000328-1624294800-1624312800@saintpauldevence.org
SUMMARY:Fête de la musique
DESCRIPTION:Un début d’été en douceur avec la fête de la musique ce lundi 21 juin. Ambiance Jazz & Classique sur la place de Gaulle\, de 17h à 22h ! \nInfos & renseignements : Office de Tourisme de Saint-Paul-de-Vence – 04 93 32 86 95
URL:https://saintpauldevence.org/agenda/fete-de-la-musique/
LOCATION:Place de Gaulle\, Saint-Paul-de-Vence\, France
CATEGORIES:Concert
ATTACH;FMTTYPE=image/png:https://saintpauldevence.org/wp-content/uploads/2021/06/Visuel-article-web_fete-de-la-musique_2021.png
END:VEVENT
END:VCALENDAR