BEGIN:VCALENDAR
VERSION:2.0
PRODID:-//Saint-Paul-de-Vence - ECPv6.15.20//NONSGML v1.0//EN
CALSCALE:GREGORIAN
METHOD:PUBLISH
X-WR-CALNAME:Saint-Paul-de-Vence
X-ORIGINAL-URL:https://saintpauldevence.org
X-WR-CALDESC:Évènements pour Saint-Paul-de-Vence
REFRESH-INTERVAL;VALUE=DURATION:PT1H
X-Robots-Tag:noindex
X-PUBLISHED-TTL:PT1H
BEGIN:VTIMEZONE
TZID:Europe/Paris
BEGIN:DAYLIGHT
TZOFFSETFROM:+0100
TZOFFSETTO:+0200
TZNAME:CEST
DTSTART:20210328T010000
END:DAYLIGHT
BEGIN:STANDARD
TZOFFSETFROM:+0200
TZOFFSETTO:+0100
TZNAME:CET
DTSTART:20211031T010000
END:STANDARD
BEGIN:DAYLIGHT
TZOFFSETFROM:+0100
TZOFFSETTO:+0200
TZNAME:CEST
DTSTART:20220327T010000
END:DAYLIGHT
BEGIN:STANDARD
TZOFFSETFROM:+0200
TZOFFSETTO:+0100
TZNAME:CET
DTSTART:20221030T010000
END:STANDARD
BEGIN:DAYLIGHT
TZOFFSETFROM:+0100
TZOFFSETTO:+0200
TZNAME:CEST
DTSTART:20230326T010000
END:DAYLIGHT
BEGIN:STANDARD
TZOFFSETFROM:+0200
TZOFFSETTO:+0100
TZNAME:CET
DTSTART:20231029T010000
END:STANDARD
END:VTIMEZONE
BEGIN:VEVENT
DTSTART;TZID=Europe/Paris:20220312T180000
DTEND;TZID=Europe/Paris:20220312T193000
DTSTAMP:20260424T012601
CREATED:20221115T112631Z
LAST-MODIFIED:20221123T101943Z
UID:10000669-1647108000-1647113400@saintpauldevence.org
SUMMARY:Concert de la Sainte-Cécile
DESCRIPTION:A l’occasion de la Sainte-Cécile\, l’Harmonie de Saint-Paul-de-Vence donnera un concert pour honorer la sainte patronne de la musique. Rendez-vous le samedi 3 décembre à 18h à l’Auditorium pour un moment musical unique orchestré par Mauricio Lozano. \nProgramme musical : \n\n THE ENCHANTED CASTLE\nde Mario Bürki\nTHE GREEN LANDS ( Soliste Bastien BLANCHARD )\nde Dan Ar Braz Arr. Jean Hamel\nCONCERTO POUR UNE VOIX ( Soliste Luna DORMOY )\nde Saint Preux Arr. Laurent Delbecq\nADAGIO du CONCERTO D’ARANJUEZ. ( Soliste Philippe GARS )\nArr. J.Rodrigo. Adapt. M. Lozano\nOBLIVION ( Soliste Alphonse TROIA )\nde A. Piazzola – A.D. Tarensi Arr. S. Verhaert\nLIBERTANGO ( Soliste Félix DORMOY )\nde A. Piazzola Arr. M. Lozano\nCZARDAS ( Soliste Yann FROON )\nde V. Monti Arr. M. Lozano\nLEGEND OF ASTURIAS\nde I. Albeniz Arr. V. Lopez\nYVES MONTAND A L’OLYMPIA\nArr. J. Briver\n\nBIS : \n\n ABACO OUVERTURE\nde V. Lopez\nSHALOM ALECHEM\nde J. Nijs\n\nInformations complémentaires :  \n\nEntrée libre.\nRenseignements auprès de l’Office de Tourisme : 04 93 32 86 95\n\n 
URL:https://saintpauldevence.org/agenda/concert-de-la-sainte-cecile-2022/
LOCATION:Auditorium\, 150 Rte des Serres\, Saint-Paul-de-Vence\, 06570\, France
CATEGORIES:Concert
ATTACH;FMTTYPE=image/png:https://saintpauldevence.org/wp-content/uploads/2022/05/Visuel-concert-hARMONIE-spdv_hommage-a-lukraine.png
GEO:43.698886784084;7.1200623819271
X-APPLE-STRUCTURED-LOCATION;VALUE=URI;X-ADDRESS=Auditorium 150 Rte des Serres Saint-Paul-de-Vence 06570 France;X-APPLE-RADIUS=500;X-TITLE=150 Rte des Serres:geo:7.1200623819271,43.698886784084
END:VEVENT
END:VCALENDAR