BEGIN:VCALENDAR
VERSION:2.0
PRODID:-//Saint-Paul-de-Vence - ECPv6.15.20//NONSGML v1.0//EN
CALSCALE:GREGORIAN
METHOD:PUBLISH
X-WR-CALNAME:Saint-Paul-de-Vence
X-ORIGINAL-URL:https://saintpauldevence.org
X-WR-CALDESC:Évènements pour Saint-Paul-de-Vence
REFRESH-INTERVAL;VALUE=DURATION:PT1H
X-Robots-Tag:noindex
X-PUBLISHED-TTL:PT1H
BEGIN:VTIMEZONE
TZID:Europe/Paris
BEGIN:DAYLIGHT
TZOFFSETFROM:+0100
TZOFFSETTO:+0200
TZNAME:CEST
DTSTART:20200329T010000
END:DAYLIGHT
BEGIN:STANDARD
TZOFFSETFROM:+0200
TZOFFSETTO:+0100
TZNAME:CET
DTSTART:20201025T010000
END:STANDARD
BEGIN:DAYLIGHT
TZOFFSETFROM:+0100
TZOFFSETTO:+0200
TZNAME:CEST
DTSTART:20210328T010000
END:DAYLIGHT
BEGIN:STANDARD
TZOFFSETFROM:+0200
TZOFFSETTO:+0100
TZNAME:CET
DTSTART:20211031T010000
END:STANDARD
BEGIN:DAYLIGHT
TZOFFSETFROM:+0100
TZOFFSETTO:+0200
TZNAME:CEST
DTSTART:20220327T010000
END:DAYLIGHT
BEGIN:STANDARD
TZOFFSETFROM:+0200
TZOFFSETTO:+0100
TZNAME:CET
DTSTART:20221030T010000
END:STANDARD
END:VTIMEZONE
BEGIN:VEVENT
DTSTART;TZID=Europe/Paris:20211017T170000
DTEND;TZID=Europe/Paris:20211017T190000
DTSTAMP:20260424T212544
CREATED:20210825T125202Z
LAST-MODIFIED:20210927T100712Z
UID:10000376-1634490000-1634497200@saintpauldevence.org
SUMMARY:Concert de l'Harmonie de Saint-Paul-de-Vence
DESCRIPTION:Sur des notes de classiques\, l’Harmonie de Saint-Paul-de-Vence vous rendez-vous ce dimanche 17 octobre à 17h à l’Eglise Collégiale pour un concert unique de l’Harmonie de Saint-Paul de Vence. \nLe programme musical :  \n– ADAGIO d’ALBINONI– AUTANT en EMPORTE le VENT– DANSE MACABRE– CANON de PACHELBEL– POMP and CIRCUMSTANCE– CONCERTO d’ARANJUEZ– JUPITER– MARCHE de SACCO et VENZETTI– OBLIVION– SERENATA– MY WAY– LA LA LAND– BIS : BELLA CIAO \nInfos et renseignements : Office de Tourisme de Saint-Paul-de-Vence – 04 93 32 86 95-Entrée libre-Pass sanitaire 
URL:https://saintpauldevence.org/agenda/concert-de-lharmonie-de-saint-paul-de-vence/
LOCATION:Eglise La Collégiale\, Saint-Paul-de-Vence\, France
CATEGORIES:Concert
ATTACH;FMTTYPE=image/jpeg:https://saintpauldevence.org/wp-content/uploads/2021/08/violins-1838390_1280.jpg
END:VEVENT
END:VCALENDAR