BEGIN:VCALENDAR
VERSION:2.0
PRODID:-//Saint-Paul-de-Vence - ECPv6.15.20//NONSGML v1.0//EN
CALSCALE:GREGORIAN
METHOD:PUBLISH
X-WR-CALNAME:Saint-Paul-de-Vence
X-ORIGINAL-URL:https://saintpauldevence.org
X-WR-CALDESC:Évènements pour Saint-Paul-de-Vence
REFRESH-INTERVAL;VALUE=DURATION:PT1H
X-Robots-Tag:noindex
X-PUBLISHED-TTL:PT1H
BEGIN:VTIMEZONE
TZID:Europe/Paris
BEGIN:DAYLIGHT
TZOFFSETFROM:+0100
TZOFFSETTO:+0200
TZNAME:CEST
DTSTART:20220327T010000
END:DAYLIGHT
BEGIN:STANDARD
TZOFFSETFROM:+0200
TZOFFSETTO:+0100
TZNAME:CET
DTSTART:20221030T010000
END:STANDARD
BEGIN:DAYLIGHT
TZOFFSETFROM:+0100
TZOFFSETTO:+0200
TZNAME:CEST
DTSTART:20230326T010000
END:DAYLIGHT
BEGIN:STANDARD
TZOFFSETFROM:+0200
TZOFFSETTO:+0100
TZNAME:CET
DTSTART:20231029T010000
END:STANDARD
BEGIN:DAYLIGHT
TZOFFSETFROM:+0100
TZOFFSETTO:+0200
TZNAME:CEST
DTSTART:20240331T010000
END:DAYLIGHT
BEGIN:STANDARD
TZOFFSETFROM:+0200
TZOFFSETTO:+0100
TZNAME:CET
DTSTART:20241027T010000
END:STANDARD
END:VTIMEZONE
BEGIN:VEVENT
DTSTART;TZID=Europe/Paris:20230715T210000
DTEND;TZID=Europe/Paris:20230715T223000
DTSTAMP:20260423T004356
CREATED:20230615T073109Z
LAST-MODIFIED:20230705T123109Z
UID:10001123-1689454800-1689460200@saintpauldevence.org
SUMMARY:Concert de Carnaby Street
DESCRIPTION:Hommage aux plus grands du rock’n roll sur la Place de la Courtine ! Le Groupe niçois\, Carnaby Street se produira le samedi 15 juillet à 21h lors d’un concert unique dédié aux Beatles\, Rolling Stones. Alors soyez prêts à danser et à chanter sur Yesterday\, Brown Sugar\, Satisfaction\, Angie… \nCette manifestation vous est proposée par le Département des Alpes-Maritimes. \nInformations pratiques :\n– Gratuit\n Jauge limitée à 500 personnes. Au-delà\, l’accès au concert sera fermé.
URL:https://saintpauldevence.org/agenda/concert-de-carnaby-street/
LOCATION:Place de la Courtine
CATEGORIES:Concert
ATTACH;FMTTYPE=image/jpeg:https://saintpauldevence.org/wp-content/uploads/2023/06/PHOTO-CARNABY-STREET-10R.jpg
END:VEVENT
END:VCALENDAR