BEGIN:VCALENDAR
VERSION:2.0
PRODID:-//Saint-Paul-de-Vence - ECPv6.15.20//NONSGML v1.0//EN
CALSCALE:GREGORIAN
METHOD:PUBLISH
X-ORIGINAL-URL:https://saintpauldevence.org
X-WR-CALDESC:Évènements pour Saint-Paul-de-Vence
REFRESH-INTERVAL;VALUE=DURATION:PT1H
X-Robots-Tag:noindex
X-PUBLISHED-TTL:PT1H
BEGIN:VTIMEZONE
TZID:Europe/Paris
BEGIN:DAYLIGHT
TZOFFSETFROM:+0100
TZOFFSETTO:+0200
TZNAME:CEST
DTSTART:20210328T010000
END:DAYLIGHT
BEGIN:STANDARD
TZOFFSETFROM:+0200
TZOFFSETTO:+0100
TZNAME:CET
DTSTART:20211031T010000
END:STANDARD
BEGIN:DAYLIGHT
TZOFFSETFROM:+0100
TZOFFSETTO:+0200
TZNAME:CEST
DTSTART:20220327T010000
END:DAYLIGHT
BEGIN:STANDARD
TZOFFSETFROM:+0200
TZOFFSETTO:+0100
TZNAME:CET
DTSTART:20221030T010000
END:STANDARD
BEGIN:DAYLIGHT
TZOFFSETFROM:+0100
TZOFFSETTO:+0200
TZNAME:CEST
DTSTART:20230326T010000
END:DAYLIGHT
BEGIN:STANDARD
TZOFFSETFROM:+0200
TZOFFSETTO:+0100
TZNAME:CET
DTSTART:20231029T010000
END:STANDARD
END:VTIMEZONE
BEGIN:VEVENT
DTSTART;TZID=Europe/Paris:20220413T200000
DTEND;TZID=Europe/Paris:20220413T200000
DTSTAMP:20260423T231657
CREATED:20220407T094301Z
LAST-MODIFIED:20220407T094301Z
UID:10000496-1649880000-1649880000@saintpauldevence.org
SUMMARY:Soirée méditation "Les Mercredis Saints"
DESCRIPTION:La Paroisse Saint-Mathieu vous invite à la 9ème édition des Mercredis Saints ce mercredi 13 avril à 20h à l’Eglise la Collégiale.\nAu programme : lecture\, chants et musiques sur le thème “Tant qu’il y aura un chemin…” \nSous la direction d’Elisabeth VIDAL et André COGNET\, l’orgue symphonique de Stéphane Eliot accompagnera de jeunes chanteurs du Centre d’Art Lyrique Méditerranéen. \nEntrée libre
URL:https://saintpauldevence.org/agenda/soiree-meditation-les-mercredis-saints/
LOCATION:Eglise La Collégiale\, Saint-Paul-de-Vence\, France
CATEGORIES:Concert
ATTACH;FMTTYPE=image/jpeg:https://saintpauldevence.org/wp-content/uploads/2021/08/Eglise-collegiale-e1562141324689.jpg
END:VEVENT
END:VCALENDAR