BEGIN:VCALENDAR
VERSION:2.0
PRODID:-//Saint-Paul-de-Vence - ECPv6.15.20//NONSGML v1.0//EN
CALSCALE:GREGORIAN
METHOD:PUBLISH
X-WR-CALNAME:Saint-Paul-de-Vence
X-ORIGINAL-URL:https://saintpauldevence.org
X-WR-CALDESC:Évènements pour Saint-Paul-de-Vence
REFRESH-INTERVAL;VALUE=DURATION:PT1H
X-Robots-Tag:noindex
X-PUBLISHED-TTL:PT1H
BEGIN:VTIMEZONE
TZID:Europe/Paris
BEGIN:DAYLIGHT
TZOFFSETFROM:+0100
TZOFFSETTO:+0200
TZNAME:CEST
DTSTART:20230326T010000
END:DAYLIGHT
BEGIN:STANDARD
TZOFFSETFROM:+0200
TZOFFSETTO:+0100
TZNAME:CET
DTSTART:20231029T010000
END:STANDARD
BEGIN:DAYLIGHT
TZOFFSETFROM:+0100
TZOFFSETTO:+0200
TZNAME:CEST
DTSTART:20240331T010000
END:DAYLIGHT
BEGIN:STANDARD
TZOFFSETFROM:+0200
TZOFFSETTO:+0100
TZNAME:CET
DTSTART:20241027T010000
END:STANDARD
BEGIN:DAYLIGHT
TZOFFSETFROM:+0100
TZOFFSETTO:+0200
TZNAME:CEST
DTSTART:20250330T010000
END:DAYLIGHT
BEGIN:STANDARD
TZOFFSETFROM:+0200
TZOFFSETTO:+0100
TZNAME:CET
DTSTART:20251026T010000
END:STANDARD
END:VTIMEZONE
BEGIN:VEVENT
DTSTART;TZID=Europe/Paris:20240508T090000
DTEND;TZID=Europe/Paris:20240508T100000
DTSTAMP:20260422T034420
CREATED:20240108T153141Z
LAST-MODIFIED:20240404T073519Z
UID:10012087-1715158800-1715162400@saintpauldevence.org
SUMMARY:Séance d'équilibre
DESCRIPTION:Dès janvier 2024\, le CCAS de Saint-Paul-de-Vence propose pour les jeunes séniors des séances d’équilibre à l’auditorium ! \nC’est tous les mercredis de 9h à 10h ! \nInfos pratiques : \n– Tarif : 60€/trimestre pour un cours\n– Inscriptions auprès du CCAS : 04 93  32 41 12 / ccas@saint-pauldevence.fr
URL:https://saintpauldevence.org/agenda/seance-dequilibre/2024-05-08/
LOCATION:Auditorium\, 150 Rte des Serres\, Saint-Paul-de-Vence\, 06570\, France
ATTACH;FMTTYPE=image/jpeg:https://saintpauldevence.org/wp-content/uploads/2020/09/Ateliers-seniors_gym-et-equilibre_SPDV_2020-e1631189624738.jpg
ORGANIZER;CN="CCAS de Saint-Paul-de-Vence":MAILTO:ccas@saint-pauldevence.fr
GEO:43.698886784084;7.1200623819271
X-APPLE-STRUCTURED-LOCATION;VALUE=URI;X-ADDRESS=Auditorium 150 Rte des Serres Saint-Paul-de-Vence 06570 France;X-APPLE-RADIUS=500;X-TITLE=150 Rte des Serres:geo:7.1200623819271,43.698886784084
END:VEVENT
BEGIN:VEVENT
DTSTART;TZID=Europe/Paris:20240508T090000
DTEND;TZID=Europe/Paris:20240508T140000
DTSTAMP:20260422T034420
CREATED:20240411T081217Z
LAST-MODIFIED:20250926T072516Z
UID:10012482-1715158800-1715176800@saintpauldevence.org
SUMMARY:Marché des producteurs
DESCRIPTION:Le marché des petits producteurs se tient régulièrement les mercredis et les vendredis sur la Place De Gaulle. \nVenez découvrir les spécialités locales\, mais aussi de délicieux produits issus du terroir.
URL:https://saintpauldevence.org/agenda/marche-petits-producteurs/2024-05-08/
LOCATION:Place de Gaulle\, Saint-Paul-de-Vence\, France
CATEGORIES:Marché
ATTACH;FMTTYPE=image/jpeg:https://saintpauldevence.org/wp-content/uploads/2021/04/marche-1-scaled-e1712823050881.jpg
END:VEVENT
BEGIN:VEVENT
DTSTART;TZID=Europe/Paris:20240508T110000
DTEND;TZID=Europe/Paris:20240508T120000
DTSTAMP:20260422T034420
CREATED:20240319T103147Z
LAST-MODIFIED:20240319T103247Z
UID:10012053-1715166000-1715169600@saintpauldevence.org
SUMMARY:Cérémonie du 8 mai 1945
DESCRIPTION:A l’occasion de la cérémonie commémorative du 79ème anniversaire de la Victoire du 8 mai 1945\, venez assister à un moment d’hommage et de recueillement le mercredi 8 mai à 11h au Monument aux Morts. Il sera suivi d’un concert par l’Harmonie de Saint-Paul-de-Vence et d’un apéritif d’honneur.
URL:https://saintpauldevence.org/agenda/ceremonie-du-8-mai-1945/
LOCATION:Monument aux morts
ATTACH;FMTTYPE=image/jpeg:https://saintpauldevence.org/wp-content/uploads/2024/03/IMG_3441-scaled.jpg
END:VEVENT
END:VCALENDAR