BEGIN:VCALENDAR
VERSION:2.0
PRODID:-//Saint-Paul-de-Vence - ECPv6.15.20//NONSGML v1.0//EN
CALSCALE:GREGORIAN
METHOD:PUBLISH
X-WR-CALNAME:Saint-Paul-de-Vence
X-ORIGINAL-URL:https://saintpauldevence.org
X-WR-CALDESC:Évènements pour Saint-Paul-de-Vence
REFRESH-INTERVAL;VALUE=DURATION:PT1H
X-Robots-Tag:noindex
X-PUBLISHED-TTL:PT1H
BEGIN:VTIMEZONE
TZID:Europe/Paris
BEGIN:DAYLIGHT
TZOFFSETFROM:+0100
TZOFFSETTO:+0200
TZNAME:CEST
DTSTART:20220327T010000
END:DAYLIGHT
BEGIN:STANDARD
TZOFFSETFROM:+0200
TZOFFSETTO:+0100
TZNAME:CET
DTSTART:20221030T010000
END:STANDARD
BEGIN:DAYLIGHT
TZOFFSETFROM:+0100
TZOFFSETTO:+0200
TZNAME:CEST
DTSTART:20230326T010000
END:DAYLIGHT
BEGIN:STANDARD
TZOFFSETFROM:+0200
TZOFFSETTO:+0100
TZNAME:CET
DTSTART:20231029T010000
END:STANDARD
BEGIN:DAYLIGHT
TZOFFSETFROM:+0100
TZOFFSETTO:+0200
TZNAME:CEST
DTSTART:20240331T010000
END:DAYLIGHT
BEGIN:STANDARD
TZOFFSETFROM:+0200
TZOFFSETTO:+0100
TZNAME:CET
DTSTART:20241027T010000
END:STANDARD
BEGIN:DAYLIGHT
TZOFFSETFROM:+0100
TZOFFSETTO:+0200
TZNAME:CEST
DTSTART:20250330T010000
END:DAYLIGHT
BEGIN:STANDARD
TZOFFSETFROM:+0200
TZOFFSETTO:+0100
TZNAME:CET
DTSTART:20251026T010000
END:STANDARD
END:VTIMEZONE
BEGIN:VEVENT
DTSTART;TZID=Europe/Paris:20231231T080000
DTEND;TZID=Europe/Paris:20231231T120000
DTSTAMP:20260421T183145
CREATED:20231108T104412Z
LAST-MODIFIED:20231108T104537Z
UID:10001198-1704009600-1704024000@saintpauldevence.org
SUMMARY:La Corrida de Saint-Paul
DESCRIPTION:La Corrida de Saint-Paul-de-Vence est de retour dans notre commune ! Soyez prêts à défier les remparts lors de cette 6ème édition le dimanche 31 décembre 2023\, à partir de 8h\, sur la Place de Gaulle. \nAu programme :\n• 9h30 : La Corrida Kid’s sur 1km pour les 7-11 ans\n• 9h45 : La Corrida Kid’s sur 1\,6 kms pour les 12-15 ans\n• 10h : La Corrida sur 8\,5 kms pour les adultes \nLes inscriptions sont ouvertes depuis le1er novembre sur www.sport-up.fr.\nBon à savoir : les 15 premiers Saint-Paulois inscrits se verront offrir l’accès à la course. \nInformations pratiques :\n• Tarifs :\n– Corrida Kid’s : 3€ (incluant une crêpe gourmande à la fin de la course)\n– Corrida (adultes) : 14 € (incluant une collation\, une bière et 2 ravitaillements à la fin de la course)\n• Renseignements auprès de l’Office de Tourisme : 04 93 32 86 95 \nCet évènement est organisé par l’association Sport Nature Activité Promotion (SNAP) avec le concours du Département des Alpes-Maritimes et la commune de Saint-Paul-de-Vence. \nPar ailleurs\, pour des raisons de sécurité\, la circulation et le stationnement seront temporairement règlementés. Nous vous informerons prochainement des modalités et conditions définies dans le cadre de cet évènement.
URL:https://saintpauldevence.org/agenda/la-corrida-de-saint-paul-2/
LOCATION:Place de Gaulle\, Saint-Paul-de-Vence\, France
CATEGORIES:Sport
ATTACH;FMTTYPE=image/png:https://saintpauldevence.org/wp-content/uploads/2021/03/CORRIDA_SPDV_web.png
END:VEVENT
BEGIN:VEVENT
DTSTART;TZID=Europe/Paris:20240103T090000
DTEND;TZID=Europe/Paris:20240103T140000
DTSTAMP:20260421T183145
CREATED:20240411T081217Z
LAST-MODIFIED:20250926T072516Z
UID:10012446-1704272400-1704290400@saintpauldevence.org
SUMMARY:Marché des producteurs
DESCRIPTION:Le marché des petits producteurs se tient régulièrement les mercredis et les vendredis sur la Place De Gaulle. \nVenez découvrir les spécialités locales\, mais aussi de délicieux produits issus du terroir.
URL:https://saintpauldevence.org/agenda/marche-petits-producteurs/2024-01-03/
LOCATION:Place de Gaulle\, Saint-Paul-de-Vence\, France
CATEGORIES:Marché
ATTACH;FMTTYPE=image/jpeg:https://saintpauldevence.org/wp-content/uploads/2021/04/marche-1-scaled-e1712823050881.jpg
END:VEVENT
BEGIN:VEVENT
DTSTART;TZID=Europe/Paris:20240104T090000
DTEND;TZID=Europe/Paris:20240104T113000
DTSTAMP:20260421T183145
CREATED:20221213T093830Z
LAST-MODIFIED:20251216T091027Z
UID:10001238-1704358800-1704367800@saintpauldevence.org
SUMMARY:Bulle d'éveil
DESCRIPTION:[vc_row][vc_column][vc_column_text css= » »]Parents\, venez découvrir Bulle d’Eveil ! Cet espace convivial et ludique est ouvert à toutes les familles ; il permet aux enfants de jouer avec d’autres petits et d’acquérir de l’autonomie. Rendez-vous tous les jeudis de 9h à 11h30 hors vacances scolaires à l’Auditorium – Route des Serres. \n> Téléchargez le calendrier 2025-2026 ! \nVous allez aimer :  \n\nPartager du temps avec votre enfant et renforcer votre lien avec lui\nRencontrer d’autres parents\nEchanger avec des professionnels de la Petite Enfance\nPrévenir ou rompre l’isolement\n\nInformations pratiques :  \n\nAccessible à tous les enfants de moins de 6 ans\, accompagnés de leurs parents ou d’un adulte référent\nGratuit et sans inscription\, basé sur le principe du volontariat et de l’anonymat\nRenseignements au 04 93 24 20 18.\n\n[/vc_column_text][/vc_column][/vc_row]
URL:https://saintpauldevence.org/agenda/bulle-deveil/2024-01-04/
LOCATION:Auditorium\, 150 Rte des Serres\, Saint-Paul-de-Vence\, 06570\, France
CATEGORIES:Animation
ATTACH;FMTTYPE=image/png:https://saintpauldevence.org/wp-content/uploads/2022/12/Bulle-deveil-SPDV.png
GEO:43.698886784084;7.1200623819271
X-APPLE-STRUCTURED-LOCATION;VALUE=URI;X-ADDRESS=Auditorium 150 Rte des Serres Saint-Paul-de-Vence 06570 France;X-APPLE-RADIUS=500;X-TITLE=150 Rte des Serres:geo:7.1200623819271,43.698886784084
END:VEVENT
BEGIN:VEVENT
DTSTART;TZID=Europe/Paris:20240104T140000
DTEND;TZID=Europe/Paris:20240104T170000
DTSTAMP:20260421T183145
CREATED:20231211T104018Z
LAST-MODIFIED:20240103T081140Z
UID:10001232-1704376800-1704387600@saintpauldevence.org
SUMMARY:Animations de Noël
DESCRIPTION:Les jeudi 4 janvier 2024\, la magie opèrera dans le village ! L’Office de Tourisme de Saint-Paul-de-Vence et l’Association des Commerçants et Artistes saint-paulois offrent un instant féérique pour les enfants. \nEn détails : \n• 14h à 17h – rue Grande :\nMagie en déambulation et sculptures sur ballons pour les enfants par Wonder Edwrick. \n• 14h30 à 17h – Place de la Grande Fontaine :\nConcert de piano d’Eliel James. \nRenseignements auprès de l’Office de tourisme : 04 93 32 86 95
URL:https://saintpauldevence.org/agenda/animations-de-noel/
LOCATION:Village
CATEGORIES:Animation
ATTACH;FMTTYPE=image/png:https://saintpauldevence.org/wp-content/uploads/2023/12/Animation-magie-SPDV.png
END:VEVENT
BEGIN:VEVENT
DTSTART;TZID=Europe/Paris:20240105T090000
DTEND;TZID=Europe/Paris:20240105T140000
DTSTAMP:20260421T183145
CREATED:20240411T081217Z
LAST-MODIFIED:20250926T072516Z
UID:10012447-1704445200-1704463200@saintpauldevence.org
SUMMARY:Marché des producteurs
DESCRIPTION:Le marché des petits producteurs se tient régulièrement les mercredis et les vendredis sur la Place De Gaulle. \nVenez découvrir les spécialités locales\, mais aussi de délicieux produits issus du terroir.
URL:https://saintpauldevence.org/agenda/marche-petits-producteurs/2024-01-05/
LOCATION:Place de Gaulle\, Saint-Paul-de-Vence\, France
CATEGORIES:Marché
ATTACH;FMTTYPE=image/jpeg:https://saintpauldevence.org/wp-content/uploads/2021/04/marche-1-scaled-e1712823050881.jpg
END:VEVENT
BEGIN:VEVENT
DTSTART;TZID=Europe/Paris:20240107T111500
DTEND;TZID=Europe/Paris:20240107T123000
DTSTAMP:20260421T183145
CREATED:20240102T085611Z
LAST-MODIFIED:20240102T093346Z
UID:10001236-1704626100-1704630600@saintpauldevence.org
SUMMARY:Messe de l'Epiphanie
DESCRIPTION:La messe de l’Epiphanie aura lieu dimanche 7 janvier à 11h15 à l’Eglise la Collégiale. Au programme\, bénédiction et partage de galettes !
URL:https://saintpauldevence.org/agenda/messe-de-lepiphanie/
LOCATION:Eglise La Collégiale\, Saint-Paul-de-Vence\, France
ATTACH;FMTTYPE=image/jpeg:https://saintpauldevence.org/wp-content/uploads/2023/11/Messe-de-noel-SPDV-2023-scaled.jpg
END:VEVENT
END:VCALENDAR