BEGIN:VCALENDAR
VERSION:2.0
PRODID:-//Saint-Paul-de-Vence - ECPv6.15.20//NONSGML v1.0//EN
CALSCALE:GREGORIAN
METHOD:PUBLISH
X-ORIGINAL-URL:https://saintpauldevence.org
X-WR-CALDESC:Évènements pour Saint-Paul-de-Vence
REFRESH-INTERVAL;VALUE=DURATION:PT1H
X-Robots-Tag:noindex
X-PUBLISHED-TTL:PT1H
BEGIN:VTIMEZONE
TZID:Europe/Paris
BEGIN:DAYLIGHT
TZOFFSETFROM:+0100
TZOFFSETTO:+0200
TZNAME:CEST
DTSTART:20220327T010000
END:DAYLIGHT
BEGIN:STANDARD
TZOFFSETFROM:+0200
TZOFFSETTO:+0100
TZNAME:CET
DTSTART:20221030T010000
END:STANDARD
BEGIN:DAYLIGHT
TZOFFSETFROM:+0100
TZOFFSETTO:+0200
TZNAME:CEST
DTSTART:20230326T010000
END:DAYLIGHT
BEGIN:STANDARD
TZOFFSETFROM:+0200
TZOFFSETTO:+0100
TZNAME:CET
DTSTART:20231029T010000
END:STANDARD
BEGIN:DAYLIGHT
TZOFFSETFROM:+0100
TZOFFSETTO:+0200
TZNAME:CEST
DTSTART:20240331T010000
END:DAYLIGHT
BEGIN:STANDARD
TZOFFSETFROM:+0200
TZOFFSETTO:+0100
TZNAME:CET
DTSTART:20241027T010000
END:STANDARD
END:VTIMEZONE
BEGIN:VEVENT
DTSTART;TZID=Europe/Paris:20231114T090000
DTEND;TZID=Europe/Paris:20231114T103000
DTSTAMP:20260424T085842
CREATED:20230828T082331Z
LAST-MODIFIED:20231023T122908Z
UID:10001188-1699952400-1699957800@saintpauldevence.org
SUMMARY:Atelier de sophrologie
DESCRIPTION:Les ateliers de sophrologie sont de retour ! A compter du mardi 17 octobre\, le CCAS vous propose 8 séances d’une durée d’1h30 à la salle de la Fontette afin de vous ressourcer en apprenant des techniques pour développer votre mieux-être. \nRendez-vous les mardis de 9h à 10h30 : \n\n 17\, 24 et 31 octobre\n7\, 14\, 21\, 28 novembre\n5 et 12 décembre.\n\nInformations pratiques : \n\nDurée : 1h30\nGratuit\nInscriptions auprès du CCAS : 04 93 32 41 12 ou 04 93 32 41 24.
URL:https://saintpauldevence.org/agenda/ateliers-de-sophrologie/2023-11-14/
LOCATION:Saint-Paul-de-Vence\, France
ATTACH;FMTTYPE=:
END:VEVENT
BEGIN:VEVENT
DTSTART;TZID=Europe/Paris:20231114T090000
DTEND;TZID=Europe/Paris:20231114T103000
DTSTAMP:20260424T085842
CREATED:20230828T082331Z
LAST-MODIFIED:20231023T122908Z
UID:10001188-1699952400-1699957800@saintpauldevence.org
SUMMARY:Atelier de sophrologie
DESCRIPTION:Les ateliers de sophrologie sont de retour ! A compter du mardi 17 octobre\, le CCAS vous propose 8 séances d’une durée d’1h30 à la salle de la Fontette afin de vous ressourcer en apprenant des techniques pour développer votre mieux-être. \nRendez-vous les mardis de 9h à 10h30 : \n\n 17\, 24 et 31 octobre\n7\, 14\, 21\, 28 novembre\n5 et 12 décembre.\n\nInformations pratiques : \n\nDurée : 1h30\nGratuit\nInscriptions auprès du CCAS : 04 93 32 41 12 ou 04 93 32 41 24.
URL:https://saintpauldevence.org/agenda/ateliers-de-sophrologie/2023-11-14/
LOCATION:Saint-Paul-de-Vence\, France
ATTACH;FMTTYPE=:
END:VEVENT
BEGIN:VEVENT
DTSTART;TZID=Europe/Paris:20231114T090000
DTEND;TZID=Europe/Paris:20231114T103000
DTSTAMP:20260424T085842
CREATED:20230828T082331Z
LAST-MODIFIED:20231023T122908Z
UID:10001188-1699952400-1699957800@saintpauldevence.org
SUMMARY:Atelier de sophrologie
DESCRIPTION:Les ateliers de sophrologie sont de retour ! A compter du mardi 17 octobre\, le CCAS vous propose 8 séances d’une durée d’1h30 à la salle de la Fontette afin de vous ressourcer en apprenant des techniques pour développer votre mieux-être. \nRendez-vous les mardis de 9h à 10h30 : \n\n 17\, 24 et 31 octobre\n7\, 14\, 21\, 28 novembre\n5 et 12 décembre.\n\nInformations pratiques : \n\nDurée : 1h30\nGratuit\nInscriptions auprès du CCAS : 04 93 32 41 12 ou 04 93 32 41 24.
URL:https://saintpauldevence.org/agenda/ateliers-de-sophrologie/2023-11-14/
LOCATION:Saint-Paul-de-Vence\, France
ATTACH;FMTTYPE=:
END:VEVENT
BEGIN:VEVENT
DTSTART;TZID=Europe/Paris:20231114T090000
DTEND;TZID=Europe/Paris:20231114T103000
DTSTAMP:20260424T085842
CREATED:20230828T082331Z
LAST-MODIFIED:20231023T122908Z
UID:10001188-1699952400-1699957800@saintpauldevence.org
SUMMARY:Atelier de sophrologie
DESCRIPTION:Les ateliers de sophrologie sont de retour ! A compter du mardi 17 octobre\, le CCAS vous propose 8 séances d’une durée d’1h30 à la salle de la Fontette afin de vous ressourcer en apprenant des techniques pour développer votre mieux-être. \nRendez-vous les mardis de 9h à 10h30 : \n\n 17\, 24 et 31 octobre\n7\, 14\, 21\, 28 novembre\n5 et 12 décembre.\n\nInformations pratiques : \n\nDurée : 1h30\nGratuit\nInscriptions auprès du CCAS : 04 93 32 41 12 ou 04 93 32 41 24.
URL:https://saintpauldevence.org/agenda/ateliers-de-sophrologie/2023-11-14/
LOCATION:Saint-Paul-de-Vence\, France
ATTACH;FMTTYPE=:
END:VEVENT
BEGIN:VEVENT
DTSTART;TZID=Europe/Paris:20231114T090000
DTEND;TZID=Europe/Paris:20231114T103000
DTSTAMP:20260424T085842
CREATED:20230828T082331Z
LAST-MODIFIED:20231023T122908Z
UID:10001188-1699952400-1699957800@saintpauldevence.org
SUMMARY:Atelier de sophrologie
DESCRIPTION:Les ateliers de sophrologie sont de retour ! A compter du mardi 17 octobre\, le CCAS vous propose 8 séances d’une durée d’1h30 à la salle de la Fontette afin de vous ressourcer en apprenant des techniques pour développer votre mieux-être. \nRendez-vous les mardis de 9h à 10h30 : \n\n 17\, 24 et 31 octobre\n7\, 14\, 21\, 28 novembre\n5 et 12 décembre.\n\nInformations pratiques : \n\nDurée : 1h30\nGratuit\nInscriptions auprès du CCAS : 04 93 32 41 12 ou 04 93 32 41 24.
URL:https://saintpauldevence.org/agenda/ateliers-de-sophrologie/2023-11-14/
LOCATION:Saint-Paul-de-Vence\, France
ATTACH;FMTTYPE=:
END:VEVENT
BEGIN:VEVENT
DTSTART;TZID=Europe/Paris:20231114T090000
DTEND;TZID=Europe/Paris:20231114T103000
DTSTAMP:20260424T085842
CREATED:20230828T082331Z
LAST-MODIFIED:20231023T122908Z
UID:10001188-1699952400-1699957800@saintpauldevence.org
SUMMARY:Atelier de sophrologie
DESCRIPTION:Les ateliers de sophrologie sont de retour ! A compter du mardi 17 octobre\, le CCAS vous propose 8 séances d’une durée d’1h30 à la salle de la Fontette afin de vous ressourcer en apprenant des techniques pour développer votre mieux-être. \nRendez-vous les mardis de 9h à 10h30 : \n\n 17\, 24 et 31 octobre\n7\, 14\, 21\, 28 novembre\n5 et 12 décembre.\n\nInformations pratiques : \n\nDurée : 1h30\nGratuit\nInscriptions auprès du CCAS : 04 93 32 41 12 ou 04 93 32 41 24.
URL:https://saintpauldevence.org/agenda/ateliers-de-sophrologie/2023-11-14/
LOCATION:Saint-Paul-de-Vence\, France
ATTACH;FMTTYPE=:
END:VEVENT
BEGIN:VEVENT
DTSTART;TZID=Europe/Paris:20231114T090000
DTEND;TZID=Europe/Paris:20231114T103000
DTSTAMP:20260424T085842
CREATED:20230828T082331Z
LAST-MODIFIED:20231023T122908Z
UID:10001188-1699952400-1699957800@saintpauldevence.org
SUMMARY:Atelier de sophrologie
DESCRIPTION:Les ateliers de sophrologie sont de retour ! A compter du mardi 17 octobre\, le CCAS vous propose 8 séances d’une durée d’1h30 à la salle de la Fontette afin de vous ressourcer en apprenant des techniques pour développer votre mieux-être. \nRendez-vous les mardis de 9h à 10h30 : \n\n 17\, 24 et 31 octobre\n7\, 14\, 21\, 28 novembre\n5 et 12 décembre.\n\nInformations pratiques : \n\nDurée : 1h30\nGratuit\nInscriptions auprès du CCAS : 04 93 32 41 12 ou 04 93 32 41 24.
URL:https://saintpauldevence.org/agenda/ateliers-de-sophrologie/2023-11-14/
LOCATION:Saint-Paul-de-Vence\, France
ATTACH;FMTTYPE=:
END:VEVENT
BEGIN:VEVENT
DTSTART;TZID=Europe/Paris:20231114T090000
DTEND;TZID=Europe/Paris:20231114T103000
DTSTAMP:20260424T085842
CREATED:20230828T082331Z
LAST-MODIFIED:20231023T122908Z
UID:10001188-1699952400-1699957800@saintpauldevence.org
SUMMARY:Atelier de sophrologie
DESCRIPTION:Les ateliers de sophrologie sont de retour ! A compter du mardi 17 octobre\, le CCAS vous propose 8 séances d’une durée d’1h30 à la salle de la Fontette afin de vous ressourcer en apprenant des techniques pour développer votre mieux-être. \nRendez-vous les mardis de 9h à 10h30 : \n\n 17\, 24 et 31 octobre\n7\, 14\, 21\, 28 novembre\n5 et 12 décembre.\n\nInformations pratiques : \n\nDurée : 1h30\nGratuit\nInscriptions auprès du CCAS : 04 93 32 41 12 ou 04 93 32 41 24.
URL:https://saintpauldevence.org/agenda/ateliers-de-sophrologie/2023-11-14/
LOCATION:Saint-Paul-de-Vence\, France
ATTACH;FMTTYPE=:
END:VEVENT
BEGIN:VEVENT
DTSTART;TZID=Europe/Paris:20231114T090000
DTEND;TZID=Europe/Paris:20231114T103000
DTSTAMP:20260424T085842
CREATED:20230828T082331Z
LAST-MODIFIED:20231023T122908Z
UID:10001188-1699952400-1699957800@saintpauldevence.org
SUMMARY:Atelier de sophrologie
DESCRIPTION:Les ateliers de sophrologie sont de retour ! A compter du mardi 17 octobre\, le CCAS vous propose 8 séances d’une durée d’1h30 à la salle de la Fontette afin de vous ressourcer en apprenant des techniques pour développer votre mieux-être. \nRendez-vous les mardis de 9h à 10h30 : \n\n 17\, 24 et 31 octobre\n7\, 14\, 21\, 28 novembre\n5 et 12 décembre.\n\nInformations pratiques : \n\nDurée : 1h30\nGratuit\nInscriptions auprès du CCAS : 04 93 32 41 12 ou 04 93 32 41 24.
URL:https://saintpauldevence.org/agenda/ateliers-de-sophrologie/2023-11-14/
LOCATION:Saint-Paul-de-Vence\, France
ATTACH;FMTTYPE=:
END:VEVENT
BEGIN:VEVENT
DTSTART;TZID=Europe/Paris:20231114T090000
DTEND;TZID=Europe/Paris:20231114T103000
DTSTAMP:20260424T085842
CREATED:20230828T082331Z
LAST-MODIFIED:20231023T122908Z
UID:10001188-1699952400-1699957800@saintpauldevence.org
SUMMARY:Atelier de sophrologie
DESCRIPTION:Les ateliers de sophrologie sont de retour ! A compter du mardi 17 octobre\, le CCAS vous propose 8 séances d’une durée d’1h30 à la salle de la Fontette afin de vous ressourcer en apprenant des techniques pour développer votre mieux-être. \nRendez-vous les mardis de 9h à 10h30 : \n\n 17\, 24 et 31 octobre\n7\, 14\, 21\, 28 novembre\n5 et 12 décembre.\n\nInformations pratiques : \n\nDurée : 1h30\nGratuit\nInscriptions auprès du CCAS : 04 93 32 41 12 ou 04 93 32 41 24.
URL:https://saintpauldevence.org/agenda/ateliers-de-sophrologie/2023-11-14/
LOCATION:Saint-Paul-de-Vence\, France
ATTACH;FMTTYPE=:
END:VEVENT
BEGIN:VEVENT
DTSTART;TZID=Europe/Paris:20231114T090000
DTEND;TZID=Europe/Paris:20231114T103000
DTSTAMP:20260424T085842
CREATED:20230828T082331Z
LAST-MODIFIED:20231023T122908Z
UID:10001188-1699952400-1699957800@saintpauldevence.org
SUMMARY:Atelier de sophrologie
DESCRIPTION:Les ateliers de sophrologie sont de retour ! A compter du mardi 17 octobre\, le CCAS vous propose 8 séances d’une durée d’1h30 à la salle de la Fontette afin de vous ressourcer en apprenant des techniques pour développer votre mieux-être. \nRendez-vous les mardis de 9h à 10h30 : \n\n 17\, 24 et 31 octobre\n7\, 14\, 21\, 28 novembre\n5 et 12 décembre.\n\nInformations pratiques : \n\nDurée : 1h30\nGratuit\nInscriptions auprès du CCAS : 04 93 32 41 12 ou 04 93 32 41 24.
URL:https://saintpauldevence.org/agenda/ateliers-de-sophrologie/2023-11-14/
LOCATION:Saint-Paul-de-Vence\, France
ATTACH;FMTTYPE=:
END:VEVENT
BEGIN:VEVENT
DTSTART;TZID=Europe/Paris:20231114T090000
DTEND;TZID=Europe/Paris:20231114T103000
DTSTAMP:20260424T085842
CREATED:20230828T082331Z
LAST-MODIFIED:20231023T122908Z
UID:10001188-1699952400-1699957800@saintpauldevence.org
SUMMARY:Atelier de sophrologie
DESCRIPTION:Les ateliers de sophrologie sont de retour ! A compter du mardi 17 octobre\, le CCAS vous propose 8 séances d’une durée d’1h30 à la salle de la Fontette afin de vous ressourcer en apprenant des techniques pour développer votre mieux-être. \nRendez-vous les mardis de 9h à 10h30 : \n\n 17\, 24 et 31 octobre\n7\, 14\, 21\, 28 novembre\n5 et 12 décembre.\n\nInformations pratiques : \n\nDurée : 1h30\nGratuit\nInscriptions auprès du CCAS : 04 93 32 41 12 ou 04 93 32 41 24.
URL:https://saintpauldevence.org/agenda/ateliers-de-sophrologie/2023-11-14/
LOCATION:Saint-Paul-de-Vence\, France
ATTACH;FMTTYPE=:
END:VEVENT
BEGIN:VEVENT
DTSTART;TZID=Europe/Paris:20231114T090000
DTEND;TZID=Europe/Paris:20231114T103000
DTSTAMP:20260424T085842
CREATED:20230828T082331Z
LAST-MODIFIED:20231023T122908Z
UID:10001188-1699952400-1699957800@saintpauldevence.org
SUMMARY:Atelier de sophrologie
DESCRIPTION:Les ateliers de sophrologie sont de retour ! A compter du mardi 17 octobre\, le CCAS vous propose 8 séances d’une durée d’1h30 à la salle de la Fontette afin de vous ressourcer en apprenant des techniques pour développer votre mieux-être. \nRendez-vous les mardis de 9h à 10h30 : \n\n 17\, 24 et 31 octobre\n7\, 14\, 21\, 28 novembre\n5 et 12 décembre.\n\nInformations pratiques : \n\nDurée : 1h30\nGratuit\nInscriptions auprès du CCAS : 04 93 32 41 12 ou 04 93 32 41 24.
URL:https://saintpauldevence.org/agenda/ateliers-de-sophrologie/2023-11-14/
LOCATION:Saint-Paul-de-Vence\, France
ATTACH;FMTTYPE=:
END:VEVENT
BEGIN:VEVENT
DTSTART;TZID=Europe/Paris:20231114T090000
DTEND;TZID=Europe/Paris:20231114T103000
DTSTAMP:20260424T085842
CREATED:20230828T082331Z
LAST-MODIFIED:20231023T122908Z
UID:10001188-1699952400-1699957800@saintpauldevence.org
SUMMARY:Atelier de sophrologie
DESCRIPTION:Les ateliers de sophrologie sont de retour ! A compter du mardi 17 octobre\, le CCAS vous propose 8 séances d’une durée d’1h30 à la salle de la Fontette afin de vous ressourcer en apprenant des techniques pour développer votre mieux-être. \nRendez-vous les mardis de 9h à 10h30 : \n\n 17\, 24 et 31 octobre\n7\, 14\, 21\, 28 novembre\n5 et 12 décembre.\n\nInformations pratiques : \n\nDurée : 1h30\nGratuit\nInscriptions auprès du CCAS : 04 93 32 41 12 ou 04 93 32 41 24.
URL:https://saintpauldevence.org/agenda/ateliers-de-sophrologie/2023-11-14/
LOCATION:Saint-Paul-de-Vence\, France
ATTACH;FMTTYPE=:
END:VEVENT
BEGIN:VEVENT
DTSTART;TZID=Europe/Paris:20231114T090000
DTEND;TZID=Europe/Paris:20231114T103000
DTSTAMP:20260424T085842
CREATED:20230828T082331Z
LAST-MODIFIED:20231023T122908Z
UID:10001188-1699952400-1699957800@saintpauldevence.org
SUMMARY:Atelier de sophrologie
DESCRIPTION:Les ateliers de sophrologie sont de retour ! A compter du mardi 17 octobre\, le CCAS vous propose 8 séances d’une durée d’1h30 à la salle de la Fontette afin de vous ressourcer en apprenant des techniques pour développer votre mieux-être. \nRendez-vous les mardis de 9h à 10h30 : \n\n 17\, 24 et 31 octobre\n7\, 14\, 21\, 28 novembre\n5 et 12 décembre.\n\nInformations pratiques : \n\nDurée : 1h30\nGratuit\nInscriptions auprès du CCAS : 04 93 32 41 12 ou 04 93 32 41 24.
URL:https://saintpauldevence.org/agenda/ateliers-de-sophrologie/2023-11-14/
LOCATION:Saint-Paul-de-Vence\, France
ATTACH;FMTTYPE=:
END:VEVENT
BEGIN:VEVENT
DTSTART;TZID=Europe/Paris:20231114T090000
DTEND;TZID=Europe/Paris:20231114T103000
DTSTAMP:20260424T085842
CREATED:20230828T082331Z
LAST-MODIFIED:20231023T122908Z
UID:10001188-1699952400-1699957800@saintpauldevence.org
SUMMARY:Atelier de sophrologie
DESCRIPTION:Les ateliers de sophrologie sont de retour ! A compter du mardi 17 octobre\, le CCAS vous propose 8 séances d’une durée d’1h30 à la salle de la Fontette afin de vous ressourcer en apprenant des techniques pour développer votre mieux-être. \nRendez-vous les mardis de 9h à 10h30 : \n\n 17\, 24 et 31 octobre\n7\, 14\, 21\, 28 novembre\n5 et 12 décembre.\n\nInformations pratiques : \n\nDurée : 1h30\nGratuit\nInscriptions auprès du CCAS : 04 93 32 41 12 ou 04 93 32 41 24.
URL:https://saintpauldevence.org/agenda/ateliers-de-sophrologie/2023-11-14/
LOCATION:Saint-Paul-de-Vence\, France
ATTACH;FMTTYPE=:
END:VEVENT
BEGIN:VEVENT
DTSTART;TZID=Europe/Paris:20231114T090000
DTEND;TZID=Europe/Paris:20231114T103000
DTSTAMP:20260424T085842
CREATED:20230828T082331Z
LAST-MODIFIED:20231023T122908Z
UID:10001188-1699952400-1699957800@saintpauldevence.org
SUMMARY:Atelier de sophrologie
DESCRIPTION:Les ateliers de sophrologie sont de retour ! A compter du mardi 17 octobre\, le CCAS vous propose 8 séances d’une durée d’1h30 à la salle de la Fontette afin de vous ressourcer en apprenant des techniques pour développer votre mieux-être. \nRendez-vous les mardis de 9h à 10h30 : \n\n 17\, 24 et 31 octobre\n7\, 14\, 21\, 28 novembre\n5 et 12 décembre.\n\nInformations pratiques : \n\nDurée : 1h30\nGratuit\nInscriptions auprès du CCAS : 04 93 32 41 12 ou 04 93 32 41 24.
URL:https://saintpauldevence.org/agenda/ateliers-de-sophrologie/2023-11-14/
LOCATION:Saint-Paul-de-Vence\, France
ATTACH;FMTTYPE=:
END:VEVENT
BEGIN:VEVENT
DTSTART;TZID=Europe/Paris:20231114T090000
DTEND;TZID=Europe/Paris:20231114T103000
DTSTAMP:20260424T085842
CREATED:20230828T082331Z
LAST-MODIFIED:20231023T122908Z
UID:10001188-1699952400-1699957800@saintpauldevence.org
SUMMARY:Atelier de sophrologie
DESCRIPTION:Les ateliers de sophrologie sont de retour ! A compter du mardi 17 octobre\, le CCAS vous propose 8 séances d’une durée d’1h30 à la salle de la Fontette afin de vous ressourcer en apprenant des techniques pour développer votre mieux-être. \nRendez-vous les mardis de 9h à 10h30 : \n\n 17\, 24 et 31 octobre\n7\, 14\, 21\, 28 novembre\n5 et 12 décembre.\n\nInformations pratiques : \n\nDurée : 1h30\nGratuit\nInscriptions auprès du CCAS : 04 93 32 41 12 ou 04 93 32 41 24.
URL:https://saintpauldevence.org/agenda/ateliers-de-sophrologie/2023-11-14/
LOCATION:Saint-Paul-de-Vence\, France
ATTACH;FMTTYPE=:
END:VEVENT
BEGIN:VEVENT
DTSTART;TZID=Europe/Paris:20231114T090000
DTEND;TZID=Europe/Paris:20231114T103000
DTSTAMP:20260424T085842
CREATED:20230828T082331Z
LAST-MODIFIED:20231023T122908Z
UID:10001188-1699952400-1699957800@saintpauldevence.org
SUMMARY:Atelier de sophrologie
DESCRIPTION:Les ateliers de sophrologie sont de retour ! A compter du mardi 17 octobre\, le CCAS vous propose 8 séances d’une durée d’1h30 à la salle de la Fontette afin de vous ressourcer en apprenant des techniques pour développer votre mieux-être. \nRendez-vous les mardis de 9h à 10h30 : \n\n 17\, 24 et 31 octobre\n7\, 14\, 21\, 28 novembre\n5 et 12 décembre.\n\nInformations pratiques : \n\nDurée : 1h30\nGratuit\nInscriptions auprès du CCAS : 04 93 32 41 12 ou 04 93 32 41 24.
URL:https://saintpauldevence.org/agenda/ateliers-de-sophrologie/2023-11-14/
LOCATION:Saint-Paul-de-Vence\, France
ATTACH;FMTTYPE=:
END:VEVENT
BEGIN:VEVENT
DTSTART;TZID=Europe/Paris:20231114T090000
DTEND;TZID=Europe/Paris:20231114T103000
DTSTAMP:20260424T085842
CREATED:20230828T082331Z
LAST-MODIFIED:20231023T122908Z
UID:10001188-1699952400-1699957800@saintpauldevence.org
SUMMARY:Atelier de sophrologie
DESCRIPTION:Les ateliers de sophrologie sont de retour ! A compter du mardi 17 octobre\, le CCAS vous propose 8 séances d’une durée d’1h30 à la salle de la Fontette afin de vous ressourcer en apprenant des techniques pour développer votre mieux-être. \nRendez-vous les mardis de 9h à 10h30 : \n\n 17\, 24 et 31 octobre\n7\, 14\, 21\, 28 novembre\n5 et 12 décembre.\n\nInformations pratiques : \n\nDurée : 1h30\nGratuit\nInscriptions auprès du CCAS : 04 93 32 41 12 ou 04 93 32 41 24.
URL:https://saintpauldevence.org/agenda/ateliers-de-sophrologie/2023-11-14/
LOCATION:Saint-Paul-de-Vence\, France
ATTACH;FMTTYPE=:
END:VEVENT
BEGIN:VEVENT
DTSTART;TZID=Europe/Paris:20231114T090000
DTEND;TZID=Europe/Paris:20231114T103000
DTSTAMP:20260424T085842
CREATED:20230828T082331Z
LAST-MODIFIED:20231023T122908Z
UID:10001188-1699952400-1699957800@saintpauldevence.org
SUMMARY:Atelier de sophrologie
DESCRIPTION:Les ateliers de sophrologie sont de retour ! A compter du mardi 17 octobre\, le CCAS vous propose 8 séances d’une durée d’1h30 à la salle de la Fontette afin de vous ressourcer en apprenant des techniques pour développer votre mieux-être. \nRendez-vous les mardis de 9h à 10h30 : \n\n 17\, 24 et 31 octobre\n7\, 14\, 21\, 28 novembre\n5 et 12 décembre.\n\nInformations pratiques : \n\nDurée : 1h30\nGratuit\nInscriptions auprès du CCAS : 04 93 32 41 12 ou 04 93 32 41 24.
URL:https://saintpauldevence.org/agenda/ateliers-de-sophrologie/2023-11-14/
LOCATION:Saint-Paul-de-Vence\, France
ATTACH;FMTTYPE=:
END:VEVENT
BEGIN:VEVENT
DTSTART;TZID=Europe/Paris:20231114T090000
DTEND;TZID=Europe/Paris:20231114T103000
DTSTAMP:20260424T085842
CREATED:20230828T082331Z
LAST-MODIFIED:20231023T122908Z
UID:10001188-1699952400-1699957800@saintpauldevence.org
SUMMARY:Atelier de sophrologie
DESCRIPTION:Les ateliers de sophrologie sont de retour ! A compter du mardi 17 octobre\, le CCAS vous propose 8 séances d’une durée d’1h30 à la salle de la Fontette afin de vous ressourcer en apprenant des techniques pour développer votre mieux-être. \nRendez-vous les mardis de 9h à 10h30 : \n\n 17\, 24 et 31 octobre\n7\, 14\, 21\, 28 novembre\n5 et 12 décembre.\n\nInformations pratiques : \n\nDurée : 1h30\nGratuit\nInscriptions auprès du CCAS : 04 93 32 41 12 ou 04 93 32 41 24.
URL:https://saintpauldevence.org/agenda/ateliers-de-sophrologie/2023-11-14/
LOCATION:Saint-Paul-de-Vence\, France
ATTACH;FMTTYPE=:
END:VEVENT
BEGIN:VEVENT
DTSTART;TZID=Europe/Paris:20231114T090000
DTEND;TZID=Europe/Paris:20231114T103000
DTSTAMP:20260424T085842
CREATED:20230828T082331Z
LAST-MODIFIED:20231023T122908Z
UID:10001188-1699952400-1699957800@saintpauldevence.org
SUMMARY:Atelier de sophrologie
DESCRIPTION:Les ateliers de sophrologie sont de retour ! A compter du mardi 17 octobre\, le CCAS vous propose 8 séances d’une durée d’1h30 à la salle de la Fontette afin de vous ressourcer en apprenant des techniques pour développer votre mieux-être. \nRendez-vous les mardis de 9h à 10h30 : \n\n 17\, 24 et 31 octobre\n7\, 14\, 21\, 28 novembre\n5 et 12 décembre.\n\nInformations pratiques : \n\nDurée : 1h30\nGratuit\nInscriptions auprès du CCAS : 04 93 32 41 12 ou 04 93 32 41 24.
URL:https://saintpauldevence.org/agenda/ateliers-de-sophrologie/2023-11-14/
LOCATION:Saint-Paul-de-Vence\, France
ATTACH;FMTTYPE=:
END:VEVENT
BEGIN:VEVENT
DTSTART;TZID=Europe/Paris:20231114T090000
DTEND;TZID=Europe/Paris:20231114T103000
DTSTAMP:20260424T085842
CREATED:20230828T082331Z
LAST-MODIFIED:20231023T122908Z
UID:10001188-1699952400-1699957800@saintpauldevence.org
SUMMARY:Atelier de sophrologie
DESCRIPTION:Les ateliers de sophrologie sont de retour ! A compter du mardi 17 octobre\, le CCAS vous propose 8 séances d’une durée d’1h30 à la salle de la Fontette afin de vous ressourcer en apprenant des techniques pour développer votre mieux-être. \nRendez-vous les mardis de 9h à 10h30 : \n\n 17\, 24 et 31 octobre\n7\, 14\, 21\, 28 novembre\n5 et 12 décembre.\n\nInformations pratiques : \n\nDurée : 1h30\nGratuit\nInscriptions auprès du CCAS : 04 93 32 41 12 ou 04 93 32 41 24.
URL:https://saintpauldevence.org/agenda/ateliers-de-sophrologie/2023-11-14/
LOCATION:Saint-Paul-de-Vence\, France
ATTACH;FMTTYPE=:
END:VEVENT
BEGIN:VEVENT
DTSTART;TZID=Europe/Paris:20231114T090000
DTEND;TZID=Europe/Paris:20231114T103000
DTSTAMP:20260424T085842
CREATED:20230828T082331Z
LAST-MODIFIED:20231023T122908Z
UID:10001188-1699952400-1699957800@saintpauldevence.org
SUMMARY:Atelier de sophrologie
DESCRIPTION:Les ateliers de sophrologie sont de retour ! A compter du mardi 17 octobre\, le CCAS vous propose 8 séances d’une durée d’1h30 à la salle de la Fontette afin de vous ressourcer en apprenant des techniques pour développer votre mieux-être. \nRendez-vous les mardis de 9h à 10h30 : \n\n 17\, 24 et 31 octobre\n7\, 14\, 21\, 28 novembre\n5 et 12 décembre.\n\nInformations pratiques : \n\nDurée : 1h30\nGratuit\nInscriptions auprès du CCAS : 04 93 32 41 12 ou 04 93 32 41 24.
URL:https://saintpauldevence.org/agenda/ateliers-de-sophrologie/2023-11-14/
LOCATION:Saint-Paul-de-Vence\, France
ATTACH;FMTTYPE=:
END:VEVENT
BEGIN:VEVENT
DTSTART;TZID=Europe/Paris:20231114T090000
DTEND;TZID=Europe/Paris:20231114T103000
DTSTAMP:20260424T085842
CREATED:20230828T082331Z
LAST-MODIFIED:20231023T122908Z
UID:10001188-1699952400-1699957800@saintpauldevence.org
SUMMARY:Atelier de sophrologie
DESCRIPTION:Les ateliers de sophrologie sont de retour ! A compter du mardi 17 octobre\, le CCAS vous propose 8 séances d’une durée d’1h30 à la salle de la Fontette afin de vous ressourcer en apprenant des techniques pour développer votre mieux-être. \nRendez-vous les mardis de 9h à 10h30 : \n\n 17\, 24 et 31 octobre\n7\, 14\, 21\, 28 novembre\n5 et 12 décembre.\n\nInformations pratiques : \n\nDurée : 1h30\nGratuit\nInscriptions auprès du CCAS : 04 93 32 41 12 ou 04 93 32 41 24.
URL:https://saintpauldevence.org/agenda/ateliers-de-sophrologie/2023-11-14/
LOCATION:Saint-Paul-de-Vence\, France
ATTACH;FMTTYPE=:
END:VEVENT
BEGIN:VEVENT
DTSTART;TZID=Europe/Paris:20231114T090000
DTEND;TZID=Europe/Paris:20231114T103000
DTSTAMP:20260424T085842
CREATED:20230828T082331Z
LAST-MODIFIED:20231023T122908Z
UID:10001188-1699952400-1699957800@saintpauldevence.org
SUMMARY:Atelier de sophrologie
DESCRIPTION:Les ateliers de sophrologie sont de retour ! A compter du mardi 17 octobre\, le CCAS vous propose 8 séances d’une durée d’1h30 à la salle de la Fontette afin de vous ressourcer en apprenant des techniques pour développer votre mieux-être. \nRendez-vous les mardis de 9h à 10h30 : \n\n 17\, 24 et 31 octobre\n7\, 14\, 21\, 28 novembre\n5 et 12 décembre.\n\nInformations pratiques : \n\nDurée : 1h30\nGratuit\nInscriptions auprès du CCAS : 04 93 32 41 12 ou 04 93 32 41 24.
URL:https://saintpauldevence.org/agenda/ateliers-de-sophrologie/2023-11-14/
LOCATION:Saint-Paul-de-Vence\, France
ATTACH;FMTTYPE=:
END:VEVENT
BEGIN:VEVENT
DTSTART;TZID=Europe/Paris:20231114T090000
DTEND;TZID=Europe/Paris:20231114T103000
DTSTAMP:20260424T085842
CREATED:20230828T082331Z
LAST-MODIFIED:20231023T122908Z
UID:10001188-1699952400-1699957800@saintpauldevence.org
SUMMARY:Atelier de sophrologie
DESCRIPTION:Les ateliers de sophrologie sont de retour ! A compter du mardi 17 octobre\, le CCAS vous propose 8 séances d’une durée d’1h30 à la salle de la Fontette afin de vous ressourcer en apprenant des techniques pour développer votre mieux-être. \nRendez-vous les mardis de 9h à 10h30 : \n\n 17\, 24 et 31 octobre\n7\, 14\, 21\, 28 novembre\n5 et 12 décembre.\n\nInformations pratiques : \n\nDurée : 1h30\nGratuit\nInscriptions auprès du CCAS : 04 93 32 41 12 ou 04 93 32 41 24.
URL:https://saintpauldevence.org/agenda/ateliers-de-sophrologie/2023-11-14/
LOCATION:Saint-Paul-de-Vence\, France
ATTACH;FMTTYPE=:
END:VEVENT
BEGIN:VEVENT
DTSTART;TZID=Europe/Paris:20231114T090000
DTEND;TZID=Europe/Paris:20231114T103000
DTSTAMP:20260424T085842
CREATED:20230828T082331Z
LAST-MODIFIED:20231023T122908Z
UID:10001188-1699952400-1699957800@saintpauldevence.org
SUMMARY:Atelier de sophrologie
DESCRIPTION:Les ateliers de sophrologie sont de retour ! A compter du mardi 17 octobre\, le CCAS vous propose 8 séances d’une durée d’1h30 à la salle de la Fontette afin de vous ressourcer en apprenant des techniques pour développer votre mieux-être. \nRendez-vous les mardis de 9h à 10h30 : \n\n 17\, 24 et 31 octobre\n7\, 14\, 21\, 28 novembre\n5 et 12 décembre.\n\nInformations pratiques : \n\nDurée : 1h30\nGratuit\nInscriptions auprès du CCAS : 04 93 32 41 12 ou 04 93 32 41 24.
URL:https://saintpauldevence.org/agenda/ateliers-de-sophrologie/2023-11-14/
LOCATION:Saint-Paul-de-Vence\, France
ATTACH;FMTTYPE=:
END:VEVENT
BEGIN:VEVENT
DTSTART;TZID=Europe/Paris:20231114T090000
DTEND;TZID=Europe/Paris:20231114T103000
DTSTAMP:20260424T085842
CREATED:20230828T082331Z
LAST-MODIFIED:20231023T122908Z
UID:10001188-1699952400-1699957800@saintpauldevence.org
SUMMARY:Atelier de sophrologie
DESCRIPTION:Les ateliers de sophrologie sont de retour ! A compter du mardi 17 octobre\, le CCAS vous propose 8 séances d’une durée d’1h30 à la salle de la Fontette afin de vous ressourcer en apprenant des techniques pour développer votre mieux-être. \nRendez-vous les mardis de 9h à 10h30 : \n\n 17\, 24 et 31 octobre\n7\, 14\, 21\, 28 novembre\n5 et 12 décembre.\n\nInformations pratiques : \n\nDurée : 1h30\nGratuit\nInscriptions auprès du CCAS : 04 93 32 41 12 ou 04 93 32 41 24.
URL:https://saintpauldevence.org/agenda/ateliers-de-sophrologie/2023-11-14/
LOCATION:Saint-Paul-de-Vence\, France
ATTACH;FMTTYPE=:
END:VEVENT
END:VCALENDAR