BEGIN:VCALENDAR
VERSION:2.0
PRODID:-//Saint-Paul-de-Vence - ECPv6.15.20//NONSGML v1.0//EN
CALSCALE:GREGORIAN
METHOD:PUBLISH
X-ORIGINAL-URL:https://saintpauldevence.org
X-WR-CALDESC:Évènements pour Saint-Paul-de-Vence
REFRESH-INTERVAL;VALUE=DURATION:PT1H
X-Robots-Tag:noindex
X-PUBLISHED-TTL:PT1H
BEGIN:VTIMEZONE
TZID:Europe/Paris
BEGIN:DAYLIGHT
TZOFFSETFROM:+0100
TZOFFSETTO:+0200
TZNAME:CEST
DTSTART:20250330T010000
END:DAYLIGHT
BEGIN:STANDARD
TZOFFSETFROM:+0200
TZOFFSETTO:+0100
TZNAME:CET
DTSTART:20251026T010000
END:STANDARD
BEGIN:DAYLIGHT
TZOFFSETFROM:+0100
TZOFFSETTO:+0200
TZNAME:CEST
DTSTART:20260329T010000
END:DAYLIGHT
BEGIN:STANDARD
TZOFFSETFROM:+0200
TZOFFSETTO:+0100
TZNAME:CET
DTSTART:20261025T010000
END:STANDARD
BEGIN:DAYLIGHT
TZOFFSETFROM:+0100
TZOFFSETTO:+0200
TZNAME:CEST
DTSTART:20270328T010000
END:DAYLIGHT
BEGIN:STANDARD
TZOFFSETFROM:+0200
TZOFFSETTO:+0100
TZNAME:CET
DTSTART:20271031T010000
END:STANDARD
END:VTIMEZONE
BEGIN:VEVENT
DTSTART;TZID=Europe/Paris:20260611T090000
DTEND;TZID=Europe/Paris:20260611T113000
DTSTAMP:20260420T225825
CREATED:20221213T093830Z
LAST-MODIFIED:20251216T091027Z
UID:10014991-1781168400-1781177400@saintpauldevence.org
SUMMARY:Bulle d'éveil
DESCRIPTION:[vc_row][vc_column][vc_column_text css= » »]Parents\, venez découvrir Bulle d’Eveil ! Cet espace convivial et ludique est ouvert à toutes les familles ; il permet aux enfants de jouer avec d’autres petits et d’acquérir de l’autonomie. Rendez-vous tous les jeudis de 9h à 11h30 hors vacances scolaires à l’Auditorium – Route des Serres. \n> Téléchargez le calendrier 2025-2026 ! \nVous allez aimer :  \n\nPartager du temps avec votre enfant et renforcer votre lien avec lui\nRencontrer d’autres parents\nEchanger avec des professionnels de la Petite Enfance\nPrévenir ou rompre l’isolement\n\nInformations pratiques :  \n\nAccessible à tous les enfants de moins de 6 ans\, accompagnés de leurs parents ou d’un adulte référent\nGratuit et sans inscription\, basé sur le principe du volontariat et de l’anonymat\nRenseignements au 04 93 24 20 18.\n\n[/vc_column_text][/vc_column][/vc_row]
URL:https://saintpauldevence.org/agenda/bulle-deveil/2026-06-11/
LOCATION:Auditorium\, 150 Rte des Serres\, Saint-Paul-de-Vence\, 06570\, France
CATEGORIES:Animation
ATTACH;FMTTYPE=image/png:https://saintpauldevence.org/wp-content/uploads/2022/12/Bulle-deveil-SPDV.png
GEO:43.698886784084;7.1200623819271
X-APPLE-STRUCTURED-LOCATION;VALUE=URI;X-ADDRESS=Auditorium 150 Rte des Serres Saint-Paul-de-Vence 06570 France;X-APPLE-RADIUS=500;X-TITLE=150 Rte des Serres:geo:7.1200623819271,43.698886784084
END:VEVENT
BEGIN:VEVENT
DTSTART;TZID=Europe/Paris:20260611T140000
DTEND;TZID=Europe/Paris:20260611T164500
DTSTAMP:20260420T225825
CREATED:20260205T122600Z
LAST-MODIFIED:20260205T122601Z
UID:10015029-1781186400-1781196300@saintpauldevence.org
SUMMARY:Atelier “CAP bien-être” 
DESCRIPTION:Le CCAS de Saint-Paul-de-Vence organise 4 séances dédiées au bien-être\, à la mobilité et au maintien de l’autonomie\, dans une ambiance conviviale et bienveillante. \nPensés pour favoriser le mieux-être au quotidien\, ces ateliers vous permettent de : \n\ntravailler la mobilité et l’équilibre\,\nrenforcer le bien-être physique et mental\,\npréserver et encourager le maintien de l’autonomie\n\nRendez-vous les jeudis de 14h à 16h45 à la salle Freinet. \n\n21 et 28 mai 2026\n4 et 11 juin 2026\n\nInformations pratiques :\n– Gratuit\n– Inscriptions auprès du CCAS de Saint-Paul-de-Vence : \n04 93 32 41 12 // ccas@saint-pauldevence.fr
URL:https://saintpauldevence.org/agenda/atelier-cap-bien-etre/2026-06-11/
LOCATION:Salle Freinet
ATTACH;FMTTYPE=image/png:https://saintpauldevence.org/wp-content/uploads/2026/02/Cap-Bien-etre.png
ORGANIZER;CN="CCAS de Saint-Paul-de-Vence":MAILTO:ccas@saint-pauldevence.fr
END:VEVENT
END:VCALENDAR