BEGIN:VCALENDAR
VERSION:2.0
PRODID:-//Saint-Paul-de-Vence - ECPv6.15.20//NONSGML v1.0//EN
CALSCALE:GREGORIAN
METHOD:PUBLISH
X-WR-CALNAME:Saint-Paul-de-Vence
X-ORIGINAL-URL:https://saintpauldevence.org
X-WR-CALDESC:Évènements pour Saint-Paul-de-Vence
REFRESH-INTERVAL;VALUE=DURATION:PT1H
X-Robots-Tag:noindex
X-PUBLISHED-TTL:PT1H
BEGIN:VTIMEZONE
TZID:Europe/Paris
BEGIN:DAYLIGHT
TZOFFSETFROM:+0100
TZOFFSETTO:+0200
TZNAME:CEST
DTSTART:20250330T010000
END:DAYLIGHT
BEGIN:STANDARD
TZOFFSETFROM:+0200
TZOFFSETTO:+0100
TZNAME:CET
DTSTART:20251026T010000
END:STANDARD
BEGIN:DAYLIGHT
TZOFFSETFROM:+0100
TZOFFSETTO:+0200
TZNAME:CEST
DTSTART:20260329T010000
END:DAYLIGHT
BEGIN:STANDARD
TZOFFSETFROM:+0200
TZOFFSETTO:+0100
TZNAME:CET
DTSTART:20261025T010000
END:STANDARD
BEGIN:DAYLIGHT
TZOFFSETFROM:+0100
TZOFFSETTO:+0200
TZNAME:CEST
DTSTART:20270328T010000
END:DAYLIGHT
BEGIN:STANDARD
TZOFFSETFROM:+0200
TZOFFSETTO:+0100
TZNAME:CET
DTSTART:20271031T010000
END:STANDARD
END:VTIMEZONE
BEGIN:VEVENT
DTSTART;TZID=Europe/Paris:20260528T140000
DTEND;TZID=Europe/Paris:20260610T200000
DTSTAMP:20260420T215329
CREATED:20260409T133801Z
LAST-MODIFIED:20260409T133801Z
UID:10015057-1779976800-1781121600@saintpauldevence.org
SUMMARY:Exposition « PRÉSENCES » de LECCIA Dominica
DESCRIPTION:A découvrir au Cercle des Artistes de Saint-Paul-de-Vence : l’exposition “PRÉSENCES” de Leccia Dominica\, artiste peintre présentée du 28 mai au 10 juin 2026 à la Vieille Forge.  \nPeindre\, c’est transformer le visible en expérience intérieure. Les formes émergent\, se transforment\, parfois s’effacent\, laissant apparaître une présence à la frontière du visible et du ressenti. Chaque toile devient un espace où le regard est guidé par l’atmosphère plutôt que par la narration. La couleur occupe une place essentielle dans ce travail. Par ses harmonies vibrantes ou plus silencieuses\, elle crée des paysages sensibles où le réel se métamorphose en expérience. \nLe mot de l’artiste : “Ma peinture explore les territoires sensibles où se rencontrent perception\, mémoire et émotion. A travers le portrait\, le paysage et la figure humaine\, je cherche moins à décrire le réel qu’à en révéler une dimension plus intérieure. Avec “PRÉSENCES”\, j’invite le spectateur à entrer dans cet espace ouvert\, où chacun peut projeter son regard\, son imaginaire et ses émotions.” \nInformations pratiques : \n-Vernissage le samedi 30 mai 2026 à 18h à La Vieille Forge.\n-Entrée libre
URL:https://saintpauldevence.org/agenda/exposition-presences-de-leccia-dominica/
LOCATION:La Vieille Forge
ATTACH;FMTTYPE=image/jpeg:https://saintpauldevence.org/wp-content/uploads/2026/04/Exposition-Presences_dominica-Leccia_cercle-des-artistes-de-SPDV_-LA-FILLE-AU-BERET-BLEU-scaled.jpg
END:VEVENT
END:VCALENDAR