BEGIN:VCALENDAR
VERSION:2.0
PRODID:-//Saint-Paul-de-Vence - ECPv6.15.20//NONSGML v1.0//EN
CALSCALE:GREGORIAN
METHOD:PUBLISH
X-WR-CALNAME:Saint-Paul-de-Vence
X-ORIGINAL-URL:https://saintpauldevence.org
X-WR-CALDESC:Évènements pour Saint-Paul-de-Vence
REFRESH-INTERVAL;VALUE=DURATION:PT1H
X-Robots-Tag:noindex
X-PUBLISHED-TTL:PT1H
BEGIN:VTIMEZONE
TZID:Europe/Paris
BEGIN:DAYLIGHT
TZOFFSETFROM:+0100
TZOFFSETTO:+0200
TZNAME:CEST
DTSTART:20250330T010000
END:DAYLIGHT
BEGIN:STANDARD
TZOFFSETFROM:+0200
TZOFFSETTO:+0100
TZNAME:CET
DTSTART:20251026T010000
END:STANDARD
BEGIN:DAYLIGHT
TZOFFSETFROM:+0100
TZOFFSETTO:+0200
TZNAME:CEST
DTSTART:20260329T010000
END:DAYLIGHT
BEGIN:STANDARD
TZOFFSETFROM:+0200
TZOFFSETTO:+0100
TZNAME:CET
DTSTART:20261025T010000
END:STANDARD
BEGIN:DAYLIGHT
TZOFFSETFROM:+0100
TZOFFSETTO:+0200
TZNAME:CEST
DTSTART:20270328T010000
END:DAYLIGHT
BEGIN:STANDARD
TZOFFSETFROM:+0200
TZOFFSETTO:+0100
TZNAME:CET
DTSTART:20271031T010000
END:STANDARD
END:VTIMEZONE
BEGIN:VEVENT
DTSTART;TZID=Europe/Paris:20260416T100000
DTEND;TZID=Europe/Paris:20260429T180000
DTSTAMP:20260422T011344
CREATED:20260327T083609Z
LAST-MODIFIED:20260327T083609Z
UID:10015049-1776333600-1777485600@saintpauldevence.org
SUMMARY:Exposition “Imparfait donc libre“
DESCRIPTION:Du jeudi 16 au mercredi 29 avril 2026\, venez découvrir la nouvelle exposition de Brigitte Molinari “Imparfait donc libre” présentée au Cercle des Artistes de Saint-Paul-de-Vence. \nLe mot de l’artiste : \n« J’ai grandi dans l’atelier de mon père artiste peintre et sculpteur\, puis\, en tant que conceptrice -rédactrice en publicité\, j’ai continué mon parcours de vie dans le monde de l ‘art et de l’édition. Autodidacte « éclairée »\, inspirée par l’art brut et aborigène\, j’exprime mes impulsions en laissant libres cours à mon imagination. De là est partie ma technique de toiles découpées et recomposées. » \nInformations pratiques : \n-Vernissage le samedi 18 avril 2026 à 18h la Vieille Forge.\n-Entrée libre
URL:https://saintpauldevence.org/agenda/exposition-imparfait-donc-libre/
LOCATION:La Vieille Forge
ATTACH;FMTTYPE=image/jpeg:https://saintpauldevence.org/wp-content/uploads/2026/03/Exposition-Brigitte-Molinari.jpg
END:VEVENT
BEGIN:VEVENT
DTSTART;TZID=Europe/Paris:20260422T083000
DTEND;TZID=Europe/Paris:20260422T093000
DTSTAMP:20260422T011344
CREATED:20250416T113907Z
LAST-MODIFIED:20250917T100415Z
UID:10014578-1776846600-1776850200@saintpauldevence.org
SUMMARY:Séances d’équilibre pour séniors
DESCRIPTION:[vc_row][vc_column][vc_column_text css= » »]Dans le cadre des séances de remise en forme proposées par le CCAS de Saint-Paul-de-Vence\, venez participer à l’atelier « d’équilibre » à l’auditorium tous les mercredis de 8h30 à 9h30 toute l’année (hors période estivale) ! \nInformations pratiques : \n\nTarif : 60€/trimestre pour un cours et 110€/trimestre pour les 2 cours\nInscriptions auprès du CCAS : 04 93  32 41 12 / ccas@saint-pauldevence.fr\n\n[/vc_column_text][/vc_column][/vc_row]
URL:https://saintpauldevence.org/agenda/seances-dequilibre-pour-seniors/2026-04-22/
LOCATION:Auditorium\, 150 Rte des Serres\, Saint-Paul-de-Vence\, 06570\, France
ATTACH;FMTTYPE=image/jpeg:https://saintpauldevence.org/wp-content/uploads/2025/04/woman-doing-gymnastics-exercises-scaled.jpg
GEO:43.698886784084;7.1200623819271
X-APPLE-STRUCTURED-LOCATION;VALUE=URI;X-ADDRESS=Auditorium 150 Rte des Serres Saint-Paul-de-Vence 06570 France;X-APPLE-RADIUS=500;X-TITLE=150 Rte des Serres:geo:7.1200623819271,43.698886784084
END:VEVENT
BEGIN:VEVENT
DTSTART;TZID=Europe/Paris:20260422T090000
DTEND;TZID=Europe/Paris:20260422T140000
DTSTAMP:20260422T011344
CREATED:20240411T081217Z
LAST-MODIFIED:20250926T072516Z
UID:10012686-1776848400-1776866400@saintpauldevence.org
SUMMARY:Marché des producteurs
DESCRIPTION:Le marché des petits producteurs se tient régulièrement les mercredis et les vendredis sur la Place De Gaulle. \nVenez découvrir les spécialités locales\, mais aussi de délicieux produits issus du terroir.
URL:https://saintpauldevence.org/agenda/marche-petits-producteurs/2026-04-22/
LOCATION:Place de Gaulle\, Saint-Paul-de-Vence\, France
CATEGORIES:Marché
ATTACH;FMTTYPE=image/jpeg:https://saintpauldevence.org/wp-content/uploads/2021/04/marche-1-scaled-e1712823050881.jpg
END:VEVENT
END:VCALENDAR