BEGIN:VCALENDAR
VERSION:2.0
PRODID:-//Saint-Paul-de-Vence - ECPv6.15.20//NONSGML v1.0//EN
CALSCALE:GREGORIAN
METHOD:PUBLISH
X-ORIGINAL-URL:https://saintpauldevence.org
X-WR-CALDESC:Évènements pour Saint-Paul-de-Vence
REFRESH-INTERVAL;VALUE=DURATION:PT1H
X-Robots-Tag:noindex
X-PUBLISHED-TTL:PT1H
BEGIN:VTIMEZONE
TZID:Europe/Paris
BEGIN:DAYLIGHT
TZOFFSETFROM:+0100
TZOFFSETTO:+0200
TZNAME:CEST
DTSTART:20240331T010000
END:DAYLIGHT
BEGIN:STANDARD
TZOFFSETFROM:+0200
TZOFFSETTO:+0100
TZNAME:CET
DTSTART:20241027T010000
END:STANDARD
BEGIN:DAYLIGHT
TZOFFSETFROM:+0100
TZOFFSETTO:+0200
TZNAME:CEST
DTSTART:20250330T010000
END:DAYLIGHT
BEGIN:STANDARD
TZOFFSETFROM:+0200
TZOFFSETTO:+0100
TZNAME:CET
DTSTART:20251026T010000
END:STANDARD
BEGIN:DAYLIGHT
TZOFFSETFROM:+0100
TZOFFSETTO:+0200
TZNAME:CEST
DTSTART:20260329T010000
END:DAYLIGHT
BEGIN:STANDARD
TZOFFSETFROM:+0200
TZOFFSETTO:+0100
TZNAME:CET
DTSTART:20261025T010000
END:STANDARD
BEGIN:DAYLIGHT
TZOFFSETFROM:+0100
TZOFFSETTO:+0200
TZNAME:CEST
DTSTART:20270328T010000
END:DAYLIGHT
BEGIN:STANDARD
TZOFFSETFROM:+0200
TZOFFSETTO:+0100
TZNAME:CET
DTSTART:20271031T010000
END:STANDARD
END:VTIMEZONE
BEGIN:VEVENT
DTSTART;TZID=Europe/Paris:20251223T100000
DTEND;TZID=Europe/Paris:20260131T190000
DTSTAMP:20260420T215529
CREATED:20251103T135222Z
LAST-MODIFIED:20251103T135222Z
UID:10014949-1766484000-1769886000@saintpauldevence.org
SUMMARY:Exposition collective “Ombre et lumière”
DESCRIPTION:Du 23 décembre 2025 au 31 janvier 2026\, le Cercle des Artistes de Saint-Paul-de-Vence vous propose de découvrir leur nouvelle exposition collective « Ombre et lumière ».  \nRendez-vous pour le vernissage le samedi 3 janvier 2026 à 18h à la vieille forge. \nInformations pratiques :\n-Entrée libre
URL:https://saintpauldevence.org/agenda/exposition-collective-ombre-et-lumiere/
LOCATION:La Vieille Forge
ATTACH;FMTTYPE=image/png:https://saintpauldevence.org/wp-content/uploads/2024/05/Exposition.png
END:VEVENT
BEGIN:VEVENT
DTSTART;TZID=Europe/Paris:20260129T090000
DTEND;TZID=Europe/Paris:20260129T113000
DTSTAMP:20260420T215529
CREATED:20221213T093830Z
LAST-MODIFIED:20251216T091027Z
UID:10014977-1769677200-1769686200@saintpauldevence.org
SUMMARY:Bulle d'éveil
DESCRIPTION:[vc_row][vc_column][vc_column_text css= » »]Parents\, venez découvrir Bulle d’Eveil ! Cet espace convivial et ludique est ouvert à toutes les familles ; il permet aux enfants de jouer avec d’autres petits et d’acquérir de l’autonomie. Rendez-vous tous les jeudis de 9h à 11h30 hors vacances scolaires à l’Auditorium – Route des Serres. \n> Téléchargez le calendrier 2025-2026 ! \nVous allez aimer :  \n\nPartager du temps avec votre enfant et renforcer votre lien avec lui\nRencontrer d’autres parents\nEchanger avec des professionnels de la Petite Enfance\nPrévenir ou rompre l’isolement\n\nInformations pratiques :  \n\nAccessible à tous les enfants de moins de 6 ans\, accompagnés de leurs parents ou d’un adulte référent\nGratuit et sans inscription\, basé sur le principe du volontariat et de l’anonymat\nRenseignements au 04 93 24 20 18.\n\n[/vc_column_text][/vc_column][/vc_row]
URL:https://saintpauldevence.org/agenda/bulle-deveil/2026-01-29/
LOCATION:Auditorium\, 150 Rte des Serres\, Saint-Paul-de-Vence\, 06570\, France
CATEGORIES:Animation
ATTACH;FMTTYPE=image/png:https://saintpauldevence.org/wp-content/uploads/2022/12/Bulle-deveil-SPDV.png
GEO:43.698886784084;7.1200623819271
X-APPLE-STRUCTURED-LOCATION;VALUE=URI;X-ADDRESS=Auditorium 150 Rte des Serres Saint-Paul-de-Vence 06570 France;X-APPLE-RADIUS=500;X-TITLE=150 Rte des Serres:geo:7.1200623819271,43.698886784084
END:VEVENT
END:VCALENDAR