BEGIN:VCALENDAR
VERSION:2.0
PRODID:-//Saint-Paul-de-Vence - ECPv6.15.20//NONSGML v1.0//EN
CALSCALE:GREGORIAN
METHOD:PUBLISH
X-ORIGINAL-URL:https://saintpauldevence.org
X-WR-CALDESC:Évènements pour Saint-Paul-de-Vence
REFRESH-INTERVAL;VALUE=DURATION:PT1H
X-Robots-Tag:noindex
X-PUBLISHED-TTL:PT1H
BEGIN:VTIMEZONE
TZID:Europe/Paris
BEGIN:DAYLIGHT
TZOFFSETFROM:+0100
TZOFFSETTO:+0200
TZNAME:CEST
DTSTART:20220327T010000
END:DAYLIGHT
BEGIN:STANDARD
TZOFFSETFROM:+0200
TZOFFSETTO:+0100
TZNAME:CET
DTSTART:20221030T010000
END:STANDARD
BEGIN:DAYLIGHT
TZOFFSETFROM:+0100
TZOFFSETTO:+0200
TZNAME:CEST
DTSTART:20230326T010000
END:DAYLIGHT
BEGIN:STANDARD
TZOFFSETFROM:+0200
TZOFFSETTO:+0100
TZNAME:CET
DTSTART:20231029T010000
END:STANDARD
BEGIN:DAYLIGHT
TZOFFSETFROM:+0100
TZOFFSETTO:+0200
TZNAME:CEST
DTSTART:20240331T010000
END:DAYLIGHT
BEGIN:STANDARD
TZOFFSETFROM:+0200
TZOFFSETTO:+0100
TZNAME:CET
DTSTART:20241027T010000
END:STANDARD
BEGIN:DAYLIGHT
TZOFFSETFROM:+0100
TZOFFSETTO:+0200
TZNAME:CEST
DTSTART:20250330T010000
END:DAYLIGHT
BEGIN:STANDARD
TZOFFSETFROM:+0200
TZOFFSETTO:+0100
TZNAME:CET
DTSTART:20251026T010000
END:STANDARD
END:VTIMEZONE
BEGIN:VEVENT
DTSTART;TZID=Europe/Paris:20231218T080000
DTEND;TZID=Europe/Paris:20240611T170000
DTSTAMP:20260422T095111
CREATED:20240129T092152Z
LAST-MODIFIED:20240129T092152Z
UID:10011689-1702886400-1718125200@saintpauldevence.org
SUMMARY:Exposition « La Fondation Maeght voit grand ! »
DESCRIPTION:« La Fondation Maeght voit grand » et vous invite à découvrir les œuvres grands formats de sa collection permanente : Bonnard\, Léger\, Chagall\, Fiedler\, Kelly\, Soulages\, Mitchell\, Dubuffet\, Tal Coat\, Riopelle et bien d’autres… Cette incroyable collection\, qui est l’une des plus importantes en Europe avec plus de 13.000 œuvres des maîtres du XXe siècle et du début du XXIe\, se déploie dans toutes les salles et dans tous les jardins de la Fondation. \nA découvrir sans plus attendre ! \nLe saviez-vous ? A l’été 2024\, la Fondation Maeght fêtera ses 60 ans avec une grande exposition thématique\, l’inauguration de ses nouvelles salles et un mois de célébrations (concerts\, films\, danse\, lectures…). \nInfos pratiques : \n\nExposition présentée jusqu’au 11 juin 2024\n-Tarifs : 16€ pour le plein tarif / 11€ pour les groupes\, étudiants et -18 ans / Gratuit pour les -10 ans\n– Renseignements auprès de l’Office de Tourisme : 04 93 32 81 63\n\n\nEn savoir plus sur www.fondation-maeght.com/exposition-actuelle-collection-permanente
URL:https://saintpauldevence.org/agenda/exposition-la-fondation-maeght-voit-grand/
LOCATION:Fondation Maeght\, 623 Chemin des Gardettes\, Saint-Paul-de-Vence\, 06570\, France
ATTACH;FMTTYPE=image/jpeg:https://saintpauldevence.org/wp-content/uploads/2024/01/Accrochage-du-20-12-2023-37-scaled-qhuw2f8joszmii2otuuh95fgccf0b8avkb1l6pwr3y.jpg
END:VEVENT
BEGIN:VEVENT
DTSTART;TZID=Europe/Paris:20240321T080000
DTEND;TZID=Europe/Paris:20241027T170000
DTSTAMP:20260422T095111
CREATED:20240527T121655Z
LAST-MODIFIED:20240527T121655Z
UID:10013147-1711008000-1730048400@saintpauldevence.org
SUMMARY:Exposition Muller Van Severen : Fondation CAB
DESCRIPTION:Du 21 mars au 27 octobre 2024\, la Fondation CAB présente une exposition de Muller Van Severen\, le duo de designers belges Fien Muller (1978\, Lokeren) et Hannes Van Severen (1979\, Gand). \nRéputés pour leurs objets de mobilier sculpturalement intéressants\, Muller Van Severen présente une sélection de son travail des 12 dernières années\, en y ajoutant une dimension supplémentaire à l’expérience par des zooms avant et arrière (à travers le duo de photographes Scheltens et Abbenes) des objets tels que des prototypes\, des dessins\, des matériaux\, etc. Le résultat est un regard unique et distinct sur les techniques de travail de l’un des studios de design les plus iconiques d’Europe. \nEntre l’art et le design\, Muller Van Severen créent des meubles polyvalents\, colorés et sculpturalement attrayants\, caractérisés par une recherche minutieuse de l’art\, de l’architecture et des matériaux et qui interagissent avec l’espace qui les entoure. Soigneusement sélectionnés\, les matériaux tels que le cuir\, le laiton\, le polyéthylène\, l’acier\, le marbre et l’émail sont souvent le point de départ de leur parcours design. \nDotés d’une sensibilité pour les espaces architecturaux\, leurs objets situés entre meubles\, installations et œuvres d’art\, ne peuvent être qu’exposés dans le bâtiment des années 1950 de la Fondation CAB\, entièrement rénové par l’architecte d’intérieur et designer français Charles Zana. \nEn savoir plus sur www.fondationcab.com
URL:https://saintpauldevence.org/agenda/exposition-muller-van-severen-fondation-cab/
LOCATION:Fondation CAB Saint-Paul de Vence\, 5766 Chemin des Trious\, Saint-Paul-de-Vence\, 06570\, France
ATTACH;FMTTYPE=image/png:https://saintpauldevence.org/wp-content/uploads/2024/05/Exposition-Muller-Van-Severen-Foondation-CAB-2024.png
END:VEVENT
BEGIN:VEVENT
DTSTART;TZID=Europe/Paris:20240321T100000
DTEND;TZID=Europe/Paris:20241027T170000
DTSTAMP:20260422T095111
CREATED:20240123T073856Z
LAST-MODIFIED:20240123T122506Z
UID:10011687-1711015200-1730048400@saintpauldevence.org
SUMMARY:Exposition Fondation CAB : « Specific Subjects
DESCRIPTION:Du 21 mars au 27 octobre 2024\, la Fondation CAB accueillera l’exposition Specific Subjects d’Edith Dekyndt\, tissant des liens entre les technologies nouvelles et évolutives\, les savoirs ancestraux et les enjeux contemporains. \nL’univers artistique d’Edith Dekyndt\, où le dialogue entre la nature et la culture s’entremêle avec le territoire\, nous invite\, en tant que spectateurs\, à explorer de multiples niveaux de signification et à remettre en question notre compréhension de l’espace\, de la mémoire et de la temporalité. \nDans le contexte actuel\, marqué par des conflits et des transformations radicales de nos modes de vie et d’action\, avec des répercussions économiques\, matérielles\, immatérielles et émotionnelles\, l’artiste propose une série d’œuvres dans lesquelles la dynamique entre la nature et la culture\, le rural et l’urbain\, génère de nouveaux paradigmes auxquels il faut se confronter. \nInformations complémentaires :  \n\nCommissaire de l’exposition : María Inés Rodríguez\nLe vernissage aura lieu le jeudi 21 mars 2024 à la Fondation CAB Saint-Paul-de-Vence\nHoraires d’ouverture et informations sur www.fondationcab.com
URL:https://saintpauldevence.org/agenda/exposition-fondation-cab-specific-subjects/
LOCATION:Fondation CAB Saint-Paul de Vence\, 5766 Chemin des Trious\, Saint-Paul-de-Vence\, 06570\, France
ATTACH;FMTTYPE=image/jpeg:https://saintpauldevence.org/wp-content/uploads/2024/01/005-ATELIER-detail-Tissu-impregne-de-vin-et-toile-enterree-scaled.jpg
END:VEVENT
BEGIN:VEVENT
DTSTART;TZID=Europe/Paris:20240516T180000
DTEND;TZID=Europe/Paris:20240529T180000
DTSTAMP:20260422T095111
CREATED:20240319T102034Z
LAST-MODIFIED:20240319T102034Z
UID:10012051-1715882400-1717005600@saintpauldevence.org
SUMMARY:Exposition de Chantal Cavenel
DESCRIPTION:Du jeudi 16 au mercredi 29 mai 2024\, Chantal Cavenel vous invite à découvrir son exposition « Peintures et Musiques » à la Vieille Forge. L’artiste plasticienne saint-pauloise expose des peintures symboliques sonorisées avec des compositions musicales et présente des installations audiovisuelles intitulées « Musical Moving Paintings ». Cet art innovateur musical et graphique est animé par le numérique pour offrir une expérience immersive. \nInformations pratiques :\n–Le vernissage aura lieu le samedi 18 mai à 17h à la Vieille Forge. Le + : en écho à la « Nuit des musées »\, des courts métrages réalisés par le Cercle des Artistes de Saint-Paul-de-Vence seront projetés.\n–Entrée libre
URL:https://saintpauldevence.org/agenda/exposition-de-chantal-cavenel/
LOCATION:La Vieille Forge
CATEGORIES:Exposition
ATTACH;FMTTYPE=image/jpeg:https://saintpauldevence.org/wp-content/uploads/2024/02/Visuel-Chantal-Cavenel-CASP-expo-2024.jpg
END:VEVENT
BEGIN:VEVENT
DTSTART;TZID=Europe/Paris:20240520T090000
DTEND;TZID=Europe/Paris:20240520T100000
DTSTAMP:20260422T095111
CREATED:20240108T153139Z
LAST-MODIFIED:20240404T073226Z
UID:10012076-1716195600-1716199200@saintpauldevence.org
SUMMARY:Séance de gymnastique douce
DESCRIPTION:Dès janvier 2024\, le CCAS de Saint-Paul-de-Vence propose pour les jeunes séniors des séances de Gymnastique douce à l’auditorium ! \nC’est tous les lundis de 9h à 10h ! \nInfos pratiques : \n– Tarif : 60€/trimestre pour un cours\n– Inscriptions auprès du CCAS : 04 93  32 41 12 / ccas@saint-pauldevence.fr
URL:https://saintpauldevence.org/agenda/seance-de-gymnastique-douce/2024-05-20/
LOCATION:Auditorium\, 150 Rte des Serres\, Saint-Paul-de-Vence\, 06570\, France
ATTACH;FMTTYPE=image/jpeg:https://saintpauldevence.org/wp-content/uploads/2020/09/Ateliers-seniors_gym-et-equilibre_SPDV_2020-e1631189624738.jpg
ORGANIZER;CN="CCAS de Saint-Paul-de-Vence":MAILTO:ccas@saint-pauldevence.fr
GEO:43.698886784084;7.1200623819271
X-APPLE-STRUCTURED-LOCATION;VALUE=URI;X-ADDRESS=Auditorium 150 Rte des Serres Saint-Paul-de-Vence 06570 France;X-APPLE-RADIUS=500;X-TITLE=150 Rte des Serres:geo:7.1200623819271,43.698886784084
END:VEVENT
END:VCALENDAR